Workbook

Sheet РК
A1: Экспорт и импорт товаров продукции животноводства
A2: Республика Казахстан
A4: ТНВЭД ЕАЭС | B4: Наименование товара | C4: 2015 | G4: 2016 | K4: 2017 | O4: 2018 | S4: 2019 | W4: 2020 | AA4: 2021 | AE4: 2022* | AI4: январь-март 2022 года* | AM4: январь-март 2023 года*
C5: экспорт | E5: импорт | G5: экспорт | I5: импорт | K5: экспорт | M5: импорт | O5: экспорт | Q5: импорт | S5: экспорт | U5: импорт | W5: экспорт | Y5: импорт | AA5: экспорт | AC5: импорт | AE5: экспорт | AG5: импорт | AI5: экспорт | AK5: импорт | AM5: экспорт | AO5: импорт
C6: тонн | D6: тыс. долларов США | E6: тонн | F6: тыс. долларов США | G6: тонн | H6: тыс. долларов США | I6: тонн | J6: тыс. долларов США | K6: тонн | L6: тыс. долларов США | M6: тонн | N6: тыс. долларов США | O6: тонн | P6: тыс. долларов США | Q6: тонн | R6: тыс. долларов США | S6: тонн | T6: тыс. долларов США | U6: тонн | V6: тыс. долларов США | W6: тонн | X6: тыс. долларов США | Y6: тонн | Z6: тыс. долларов США | AA6: тонн | AB6: тыс. долларов США | AC6: тонн | AD6: тыс. долларов США | AE6: тонн | AF6: тыс. долларов США | AG6: тонн | AH6: тыс. долларов США | AI6: тонн | AJ6: тыс. долларов США | AK6: тонн | AL6: тыс. долларов США | AM6: тонн | AN6: тыс. долларов США | AO6: тонн | AP6: тыс. долларов США
B7: Всего | C7: 39842.337 | D7: 39863.129 | E7: 61408.165 | F7: 128401.71 | G7: 43520.097 | H7: 38973.578 | I7: 48578.948 | J7: 98693.591 | K7: 53266.837 | L7: 52367.016 | M7: 64841.885 | N7: 146626.68 | O7: 95068.788 | P7: 108114.8 | Q7: 68473.7 | R7: 189221.5 | S7: 115483.49 | T7: 180212.97 | U7: 98042.24 | V7: 295093.37 | W7: 55018.247 | X7: 81842.96 | Y7: 94397.256 | Z7: 272668.9 | AA7: 101906.69 | AB7: 153968.33 | AC7: 99180.757 | AD7: 304115.84 | AE7: =SUM(AE8:AE36) -> 72274.296 | AF7: =SUM(AF8:AF36) -> 174579.98 | AG7: =SUM(AG8:AG36) -> 82388.08 | AH7: =SUM(AH8:AH36) -> 281535.84 | AI7: =SUM(AI8:AI36) -> 14333.434 | AJ7: =SUM(AJ8:AJ36) -> 28021.136 | AK7: =SUM(AK8:AK36) -> 22336.558 | AL7: =SUM(AL8:AL36) -> 60909.456 | ... AP7: =SUM(AP8:AP36) -> 71895.652
A8: 0101 | B8: Лошади, ослы, мулы и лошаки живые | C8: 133.1 | D8: 569.29214 | E8: 447.5265 | F8: 885.91778 | G8: 74.129 | H8: 125.88818 | I8: 538.19982 | J8: 376.4081 | K8: 115.33 | L8: 268.06517 | M8: 2340.2739 | N8: 1184.9512 | O8: 128.27 | P8: 439.3 | Q8: 795.1 | R8: 551.5 | S8: 257.426 | T8: 747.90401 | U8: 589.55535 | V8: 1863.2609 | W8: 124.592 | X8: 576.30637 | Y8: 2880.849 | Z8: 2740.0452 | AA8: 127.295 | AB8: 446.696 | AC8: 2116.4847 | AD8: 3468.8895 | AE8: 394.883 | AF8: 378.59491 | AG8: 2229.387 | AH8: 1810.1929 | AI8: 18.64 | AJ8: 49.8 | AK8: 782.418 | AL8: 605.37776 | AM8: 147.37 | AN8: 128 | AO8: 434.955 | AP8: 305.37033
A9: 0102 | B9: Крупный рогатый скот живой | C9: 2519.5244 | D9: 3703.329 | E9: 2382.1842 | F9: 15116.9 | G9: 1924.601 | H9: 2579.8343 | I9: 2396.4023 | J9: 10014.862 | K9: 1816.856 | L9: 2383.489 | M9: 2625.2894 | N9: 12217.371 | O9: 16972.587 | P9: 22374.6 | Q9: 7466.9 | R9: 39790.8 | S9: 43827.028 | T9: 76109.557 | U9: 19466.867 | V9: 79618.436 | W9: 7504.7934 | X9: 12011.546 | Y9: 8476.3947 | Z9: 38680.582 | AA9: 42484.869 | AB9: 62760.669 | AC9: 8006.9261 | AD9: 33992.919 | AE9: 652.68465 | AF9: 1378.2331 | AG9: 4777.475 | AH9: 20940.724 | AI9: 0 | AJ9: 0 | AK9: 875.876 | AL9: 3844.6321 | AM9: 1437.6871 | AN9: 2672.1611 | AO9: 1384.327 | AP9: 6686.8898
A10: 0103 | B10: Свиньи живые | C10: 34.438 | D10: 64.69918 | E10: 92.565 | F10: 492.03517 | G10: 22.592 | H10: 29.27395 | I10: 51.962 | J10: 211.78536 | K10: 0 | L10: 0 | M10: 25.319 | N10: 236.46282 | O10: - | P10: - | Q10: 317.9 | R10: 2298.3 | S10: - | T10: - | U10: 54.306 | V10: 967.08712 | W10: - | X10: - | Y10: 85.821 | Z10: 393.25052 | AA10: 26.33 | AB10: 50.6137 | AC10: 24.29711 | AD10: 438.90762 | AE10: 93.625 | AF10: 219.0825 | AG10: 4.814 | AH10: 105.87755 | AI10: - | AJ10: - | AK10: - | AL10: - | AM10: 18.725 | AN10: 44.00375 | AO10: 0 | AP10: 0
A11: 0104 | B11: Овцы и козы живые | C11: 125.669 | D11: 188.09308 | E11: 12.559 | F11: 204.40341 | G11: 486.531 | H11: 1094.196 | I11: 4.049 | J11: 11.75546 | K11: 405.988 | L11: 990.74724 | M11: 25.959 | N11: 290.72571 | O11: 1642.5955 | P11: 2123.1 | Q11: 35.4 | R11: 771.6 | S11: 11986.119 | T11: 24315.962 | U11: 35.53317 | V11: 732.99502 | W11: 847.038 | X11: 2240.7236 | Y11: 57.091 | Z11: 110.90031 | AA11: 6383.0926 | AB11: 17032.165 | AC11: 42.412 | AD11: 82.61976 | AE11: 0 | AF11: 0 | AG11: 42.97728 | AH11: 537.14186 | AI11: 0 | AJ11: 0 | AK11: 9.58 | AL11: 168.06536 | AM11: 109.5 | AN11: 180 | AO11: 0 | AP11: 0
A12: 0105 | B12: Домашняя птица живая, то есть куры домашние (gallus domesticus), утки, гуси, индейки и цесарки | C12: 21.723 | D12: 62.9571 | E12: 488.68428 | F12: 7171.7284 | G12: 25.818 | H12: 90.2703 | I12: 461.62851 | J12: 7634.2879 | K12: 15.26 | L12: 173.1 | M12: 534.91664 | N12: 10173.166 | O12: 26.576 | P12: 346.9 | Q12: 925.3 | R12: 10219.2 | S12: 29.4785 | T12: 517.7525 | U12: 402.36613 | V12: 9930.5284 | W12: 20.78 | X12: 371.4875 | Y12: 463.382 | Z12: 11119.999 | AA12: 13.9564 | AB12: 180.7791 | AC12: 540.74615 | AD12: 14876.61 | AE12: 14.418 | AF12: 308.4206 | AG12: 382.49968 | AH12: 12671.47 | AI12: 1.4 | AJ12: 29.4 | AK12: 104.57426 | AL12: 2534.9687 | AM12: 0 | AN12: 0 | AO12: 79.27037 | AP12: 2744.834
A13: 0106 | B13: Живые животные прочие | C13: 2.2627 | D13: 243.50348 | E13: 431.14138 | F13: 1995.4453 | G13: 1.81333 | H13: 50.15106 | I13: 391.5332 | J13: 1453.5149 | K13: 25.56362 | L13: 84.12893 | M13: 520.87495 | N13: 2098.0798 | O13: 300.23 | P13: 1640.4 | Q13: 600.9 | R13: 3035.8 | S13: 425.3068 | T13: 1961.062 | U13: 724.03531 | V13: 2254.4956 | W13: 312.238 | X13: 285.38857 | Y13: 717.10553 | Z13: 2230.7366 | AA13: 33.1575 | AB13: 361.7512 | AC13: 1101.6012 | AD13: 2262.8103 | AE13: 28.35549 | AF13: 1281.0212 | AG13: 842.06186 | AH13: 2673.3836 | AI13: 0.74254 | AJ13: 4.556 | AK13: 23.07694 | AL13: 316.65977 | AM13: 4.105 | AN13: 124.94347 | AO13: 10.31804 | AP13: 594.54071
A14: 0201 | B14: Мясо крупного рогатого скота, свежее или охлажденное | C14: 1840.8951 | D14: 5971.9905 | E14: 238.60159 | F14: 1064.784 | G14: 1575.2294 | H14: 4575.3308 | I14: 253.95462 | J14: 1116.9316 | K14: 709.68033 | L14: 2399.492 | M14: 2014.3227 | N14: 5603.9078 | O14: 3659.3488 | P14: 11728 | Q14: 2049.6 | R14: 6301 | S14: 2024.0802 | T14: 8762.7258 | U14: 10256.185 | V14: 31593.501 | W14: 7929.7808 | X14: 26071.332 | Y14: 12796.649 | Z14: 40384.114 | AA14: 6340.885 | AB14: 26552.476 | AC14: 9520.6948 | AD14: 30926.039 | AE14: 18270.226 | AF14: 83755.924 | AG14: 1393.5013 | AH14: 5122.3912 | AI14: 2857.9367 | AJ14: 12744.46 | AK14: 454.53321 | AL14: 1635.4304 | AM14: 3455.5333 | AN14: 16441.705 | AO14: 251.01257 | AP14: 1146.688
A15: 0202 | B15: Мясо крупного рогатого скота, замороженное | C15: 136.4568 | D15: 676.62458 | E15: 15341.186 | F15: 35753.352 | G15: 73.6346 | H15: 275.836 | I15: 9271.1834 | J15: 19548.631 | K15: 147.54167 | L15: 575.90075 | M15: 14064.274 | N15: 38206.368 | O15: 1051.7038 | P15: 3632.9 | Q15: 13129.9 | R15: 38983.5 | S15: 3962.4039 | T15: 14581.248 | U15: 16107.525 | V15: 52614.294 | W15: 1519.1955 | X15: 6124.602 | Y15: 12319.589 | Z15: 40153.908 | AA15: 1024.9331 | AB15: 5369.6734 | AC15: 9972.0238 | AD15: 36188.238 | AE15: 54.92989 | AF15: 466.94479 | AG15: 5200.1348 | AH15: 23954.848 | AI15: 12.29087 | AJ15: 105.74167 | AK15: 1434.5374 | AL15: 5997.8628 | AM15: 7.95041 | AN15: 74.23218 | AO15: 1610.6244 | AP15: 6618.1427
A16: 0203 | B16: Свинина свежая, охлажденная или замороженная | C16: 1948.0542 | D16: 3424.8162 | E16: 3847.0144 | F16: 5274.7959 | G16: 798.83915 | H16: 1179.201 | I16: 1377.7171 | J16: 2433.1784 | K16: 303.51414 | L16: 789.93684 | M16: 2392.9917 | N16: 4534.5251 | O16: 433.06313 | P16: 1025.4 | Q16: 2008.8 | R16: 3116.5 | S16: 792.21082 | T16: 1450.7852 | U16: 1697.5276 | V16: 3019.7423 | W16: 776.3464 | X16: 1430.7125 | Y16: 4494.2348 | Z16: 9803.1953 | AA16: 404.891 | AB16: 775.23359 | AC16: 6560.7867 | AD16: 15813.543 | AE16: 0 | AF16: 0 | AG16: 7786.5119 | AH16: 19507.917 | AI16: 0 | AJ16: 0 | AK16: 2112.8108 | AL16: 3870.6142 | AM16: 0 | AN16: 0 | AO16: 1337.7401 | AP16: 3175.0454
A17: 0204 | B17: Баранина или козлятина свежая, охлажденная или замороженная | C17: 4.23373 | D17: 21.88819 | E17: 73.705 | F17: 366.69407 | G17: 307.6664 | H17: 516.61807 | I17: 111.52026 | J17: 569.01805 | K17: 836.56832 | L17: 4210.9271 | M17: 44.45922 | N17: 306.08513 | O17: 3046.3605 | P17: 15546.9 | Q17: 93.4 | R17: 596.2 | S17: 2565.441 | T17: 12537.947 | U17: 17.31705 | V17: 150.57562 | W17: 1441.9298 | X17: 6441.6442 | Y17: 29.84772 | Z17: 155.51477 | AA17: 1358.7433 | AB17: 7461.0795 | AC17: 26.24819 | AD17: 119.95689 | AE17: 10359.932 | AF17: 41291.003 | AG17: 0.34525 | AH17: 5.83483 | AI17: 1739.1493 | AJ17: 7165.8492 | AK17: 0.05711 | AL17: 1.32224 | AM17: 2076.2308 | AN17: 7920.4368 | AO17: 0.21692 | AP17: 2.97098
A18: 0205 | B18: Мясо лошадей (конина), ослов, мулов или лошаков, свежее, охлажденное или мороженое | C18: 0 | D18: 0 | E18: 3204.7645 | F18: 8291.3694 | G18: 2.365 | H18: 17.30655 | I18: 947.46802 | J18: 1703.9895 | K18: 2.671 | L18: 10.8213 | M18: 2660.9198 | N18: 5316.8011 | O18: 0.661 | P18: 2.5 | Q18: 2421.2 | R18: 5941.5 | S18: - | T18: - | U18: 2553.8243 | V18: 6041.0536 | W18: 41.80117 | X18: 126.7496 | Y18: 2103.0614 | Z18: 4839.3137 | AA18: 0.038 | AB18: 2.07 | AC18: 2414.4449 | AD18: 5276.4891 | AE18: 0 | AF18: 0 | AG18: 3626.4446 | AH18: 9623.7102 | AI18: 0 | AJ18: 0 | AK18: 595.97566 | AL18: 1384.4128 | AM18: 0 | AN18: 0 | AO18: 576.48483 | AP18: 1499.2843
A19: 0208 | B19: Прочие мясо и пищевые мясные субпродукты, свежие, охлажденные или замороженные | C19: 0 | D19: 0 | E19: 122.07514 | F19: 203.34746 | G19: 97.54348 | H19: 286.51175 | I19: 74.27635 | J19: 137.68625 | K19: 120.25247 | L19: 454.70675 | M19: 21.54355 | N19: 74.80567 | O19: 16.42863 | P19: 41.8 | Q19: 11.5 | R19: 40.3 | S19: 0.0105 | T19: 0.04546 | U19: 9.279 | V19: 33.31301 | W19: 10.183 | X19: 68.84684 | Y19: 1.4282 | Z19: 9.158 | AA19: 42.567 | AB19: 177.763 | AC19: 6.7405 | AD19: 12.67619 | AE19: 22.719 | AF19: 91.691 | AG19: 161.75141 | AH19: 489.98057 | AI19: 2.953 | AJ19: 12.787 | AK19: 2.71017 | AL19: 12.39819 | AM19: 1.5 | AN19: 5 | AO19: 132.96912 | AP19: 294.3121
A20: 0301 | B20: Живая рыба | C20: 26.84 | D20: 279.367 | E20: 44.15609 | F20: 246.98039 | G20: 20 | H20: 4.75677 | I20: 37.73523 | J20: 122.27044 | K20: 0 | L20: 0 | M20: 24.3041 | N20: 396.56995 | O20: 262.574 | P20: 44.7 | Q20: 67.9 | R20: 333.2 | S20: 25.162 | T20: 13.9403 | U20: 135.08084 | V20: 136.57119 | W20: 17.1 | X20: 12.551 | Y20: 88.78818 | Z20: 466.05516 | AA20: 40.899 | AB20: 31.9962 | AC20: 205.49023 | AD20: 491.02809 | AE20: 17.0549 | AF20: 362.27887 | AG20: 176.6854 | AH20: 860.28737 | AI20: 0 | AJ20: 0 | AK20: 123.87035 | AL20: 71.79962 | AM20: 18.063 | AN20: 10.45475 | AO20: 11.957 | AP20: 147.37556
A21: 0302 | B21: Рыба свежая или охлажденная, за исключением рыбного филе и прочего мяса рыбы товарной позиции 0304 | C21: 3101.745 | D21: 1274.7711 | E21: 541.09571 | F21: 2208.2564 | G21: 4018.34 | H21: 1267.2614 | I21: 572.10918 | J21: 2669.4606 | K21: 947.994 | L21: 382.40499 | M21: 614.29179 | N21: 3466.9278 | O21: 1879.1016 | P21: 829.5 | Q21: 454.6 | R21: 3112.2 | S21: 732.65315 | T21: 274.86961 | U21: 896.14836 | V21: 3226.2564 | W21: 305.19 | X21: 137.538 | Y21: 901.37898 | Z21: 2529.4235 | AA21: 298.775 | AB21: 122.70248 | AC21: 1676.7859 | AD21: 3578.8827 | AE21: 607.86 | AF21: 363.57414 | AG21: 2038.8778 | AH21: 8332.1836 | AI21: 61.4 | AJ21: 34.298 | AK21: 665.24952 | AL21: 717.838 | AM21: 191.624 | AN21: 172.34675 | AO21: 385.85943 | AP21: 1942.3505
A22: 0303 | B22: Рыба мороженая, за исключением рыбного филе и прочего мяса рыбы товарной позиции 0304 | C22: 12881.264 | D22: 6771.9602 | E22: 29497.436 | F22: 34314.953 | G22: 12442.704 | H22: 8382.3735 | I22: 27753.526 | J22: 37727.12 | K22: 11880.506 | L22: 10217.278 | M22: 29959.847 | N22: 43511.811 | O22: 12749.496 | P22: 9303 | Q22: 30311.5 | R22: 53780.8 | S22: 14953.533 | T22: 10736.682 | U22: 32572.241 | V22: 72124.976 | W22: 14197.906 | X22: 8754.2719 | Y22: 33511.237 | Z22: 80328.475 | AA22: 15713.348 | AB22: 11150.872 | AC22: 35000.292 | AD22: 99288.488 | AE22: 13378.273 | AF22: 17784.906 | AG22: 35744.755 | AH22: 112231.75 | AI22: 2799.257 | AJ22: 2038.2568 | AK22: 11222.641 | AL22: 26646.105 | AM22: 2009.8755 | AN22: 3524.2941 | AO22: 11249.562 | AP22: 30668.448
A23: 0306 | B23: Ракообразные, в панцире или без панциря, живые, свежие, охлажденные, мороженые, сушеные, соленые или в рассоле; ракообразные в панцире, сваренные на пару или в кипящей воде, охлажденные или неохлажденные, мороженые, сушеные, соленые или в рассоле; мука | C23: 36.298 | D23: 15.90463 | E23: 654.47772 | F23: 2937.6088 | G23: 113.921 | H23: 35.21118 | I23: 451.17213 | J23: 2931.9456 | K23: 231.6843 | L23: 97.72897 | M23: 773.92978 | N23: 3490.8365 | O23: 39.0579 | P23: 64.4 | Q23: 566.3 | R23: 3445.6 | S23: 135.969 | T23: 257.33078 | U23: 761.90239 | V23: 4861.5098 | W23: 219.3243 | X23: 1222.0926 | Y23: 942.72629 | Z23: 6085.6858 | AA23: 93.7803 | AB23: 621.58363 | AC23: 1715.8868 | AD23: 9914.8785 | AE23: 89.555 | AF23: 348.60944 | AG23: 1631.8753 | AH23: 11440.381 | AI23: 4.778 | AJ23: 24.70179 | AK23: 303.76197 | AL23: 1980.0017 | AM23: 54.2126 | AN23: 509.28869 | AO23: 524.71971 | AP23: 3765.6971
A24: 0307 | B24: Моллюски, в раковине или без раковины, живые, свежие, охлажденные, мороженые, сушеные, соленые или в рассоле; водные беспозвоночные, отличные от ракообразных и моллюсков, живые, свежие, охлажденные, мороженые, сушеные, соленые или в рассоле; мука тонког | C24: 0.13 | D24: 0.82775 | E24: 280.31411 | F24: 1620.7345 | G24: 0 | H24: 0 | I24: 303.68949 | J24: 1497.5349 | K24: 0.5356 | L24: 2.301 | M24: 281.58102 | N24: 1682.3422 | O24: 2.0788 | P24: 9.4 | Q24: 363 | R24: 1884.3 | S24: 1.41715 | T24: 11.72762 | U24: 365.84937 | V24: 1744.1004 | W24: 0.2 | X24: 0.91202 | Y24: 434.3391 | Z24: 1882.7491 | AA24: 0.2414 | AB24: 1.76773 | AC24: 621.91235 | AD24: 2892.716 | AE24: 0.18 | AF24: 10.554 | AG24: 631.98517 | AH24: 3534.5248 | AI24: 0 | AJ24: 0 | AK24: 171.58524 | AL24: 815.00559 | AM24: 0 | AN24: 0 | AO24: 172.20391 | AP24: 802.10075
A25: 0407 | B25: Яйца птиц, в скорлупе, свежие, консервированные или вареные | C25: 6250.2514 | D25: 4995.9957 | E25: 1924.9705 | F25: 5419.277 | G25: 8348.7647 | H25: 6801.3945 | I25: 2079.2998 | J25: 4860.6175 | K25: 19407.825 | L25: 15600.801 | M25: 3263.1553 | N25: 7780.9615 | O25: 33448.004 | P25: 25772.7 | Q25: 3925 | R25: 10017 | S25: 24977.708 | T25: 19369.654 | U25: 8747.4159 | V25: 19292.103 | W25: 11767.356 | X25: 10072.419 | Y25: 11857.792 | Z25: 25519.96 | AA25: 11614.774 | AB25: 10275.274 | AC25: 17246.731 | AD25: 38833.064 | AE25: 12634.173 | AF25: 12048.119 | AG25: 14382.377 | AH25: 39043.875 | AI25: 4109.3584 | AJ25: 3725.1761 | AK25: 3197.8767 | AL25: 9599.674 | AM25: 1494.224 | AN25: 2153.4653 | AO25: 4519.3204 | AP25: 9442.6268
A26: 0408 | B26: Яйца птиц без скорлупы и яичные желтки, свежие, сушеные, сваренные на пару или в кипящей воде, формованные, замороженные или консервированные другим способом, с добавлением или без добавления сахара или других подслащивающих веществ | C26: 2.22 | D26: 5.524 | E26: 67.1414 | F26: 148.47373 | G26: 5 | H26: 9.934 | I26: 104.821 | J26: 197.19428 | K26: 10 | L26: 22.857 | M26: 137.05995 | N26: 498.31743 | O26: 169.2 | P26: 292.4 | Q26: 161.3 | R26: 355.2 | S26: 68.94 | T26: 185.71434 | U26: 156.85534 | V26: 320.56914 | W26: 208.5 | X26: 483.04346 | Y26: 187.73746 | Z26: 481.19525 | AA26: 151.52 | AB26: 422.75693 | AC26: 111.77126 | AD26: 147.76705 | AE26: 178.28 | AF26: 530.4695 | AG26: 161.0956 | AH26: 624.33622 | AI26: 31.68 | AJ26: 117.78691 | AK26: 20.0336 | AL26: 19.75556 | AM26: 32.64 | AN26: 75.08389 | AO26: 33.673 | AP26: 100.60418
A27: 0409 | B27: Мед натуральный | C27: 248.9686 | D27: 537.63882 | E27: 338.55421 | F27: 757.3147 | G27: 162.39439 | H27: 234.765 | I27: 236.86637 | J27: 607.12796 | K27: 83.11825 | L27: 210.7909 | M27: 436.757 | N27: 1853.9976 | O27: 129.01296 | P27: 513.2 | Q27: 128 | R27: 367.2 | S27: 153.10414 | T27: 587.26782 | U27: 165.40403 | V27: 427.84998 | W27: 176.03835 | X27: 463.56344 | Y27: 585.04329 | Z27: 666.93311 | AA27: 225.40264 | AB27: 314.40705 | AC27: 425.63548 | AD27: 752.33376 | AE27: 58.0516 | AF27: 152.73972 | AG27: 285.45122 | AH27: 680.12904 | AI27: 4.27 | AJ27: 22.585 | AK27: 105.49343 | AL27: 198.30177 | AM27: 13.59163 | AN27: 27.1501 | AO27: 47.83668 | AP27: 96.59042
A28: 0410 | B28: Продукты пищевые животного происхождения, в другом месте не поименованные | C28: 0 | D28: 0 | E28: 27.27261 | F28: 62.3161 | G28: 0 | H28: 0 | I28: 40.9267 | J28: 64.31869 | K28: 0 | L28: 0 | M28: 57.89354 | N28: 61.64701 | O28: 0.4 | P28: - | Q28: 58.5 | R28: 100.6 | S28: 262.225 | T28: 472.13458 | U28: 80.26794 | V28: 133.05753 | W28: - | X28: - | Y28: 116.15705 | Z28: 104.69297 | AA28: 5.4819 | AB28: 14.99989 | AC28: 354.24948 | AD28: 173.46919 | AE28: 0 | AF28: 0 | AG28: 0.00343 | AH28: 0.07054 | AI28: - | AJ28: - | AK28: - | AL28: - | AM28: 0 | AN28: 0 | AO28: 0.00872 | AP28: 0.16322
A29: 0504 | B29: Кишки, пузыри и желудки животных (кроме рыбьих), целые или в кусках, свежие , охлажденные, мороженые, соленые,в рассоле,сушенные или копченные | C29: 871.624 | D29: 2183.2618 | E29: 1250.2747 | F29: 2969.9176 | G29: 301.038 | H29: 1372.7163 | I29: 703.07834 | J29: 1580.1619 | K29: 1299.5546 | L29: 2064.5147 | M29: 538.79366 | N29: 1424.6593 | O29: 1042.9085 | P29: 1774 | Q29: 743.6 | R29: 1929.4 | S29: 1059.2475 | T29: 1181.4569 | U29: 610.10109 | V29: 1905.3673 | W29: 1149.0084 | X29: 1106.2948 | Y29: 544.73191 | Z29: 1927.7044 | AA29: 715.55 | AB29: 554.53295 | AC29: 692.77797 | AD29: 2031.6854 | AE29: 1095.2764 | AF29: 800.17676 | AG29: 681.0101 | AH29: 2522.2886 | AI29: 150.776 | AJ29: 91.97279 | AK29: 124.68947 | AL29: 248.21072 | AM29: 229.709 | AN29: 488.8736 | AO29: 279.49702 | AP29: 1325.6149
A30: 0505 | B30: Шкурки и прочие части птиц с перьями или пухом, перья и части перьев (с подрезанными или неподрезанными краями) и пух, очищенные, дезинфицированные или обработанные для хранения, но не подвергнутые дальнейшей обработке; порошок и отходы перьев или их ча | C30: 0 | D30: 0 | E30: 1.25402 | F30: 15.76869 | G30: 6 | H30: 1.27232 | I30: 115.94807 | J30: 107.36621 | K30: 0 | L30: 0 | M30: 0.00606 | N30: 0.1442 | O30: - | P30: - | Q30: 0.3 | R30: 8.6 | S30: 26 | T30: 4.02338 | U30: 2.01459 | V30: 89.34745 | W30: 14.5 | X30: 2.65193 | Y30: 0.22621 | Z30: 1.05769 | AA30: 151.048 | AB30: 157.24531 | AC30: 4.5874 | AD30: 24.54499 | AE30: 287.74805 | AF30: 1758.7194 | AG30: 20.0002 | AH30: 24.44539 | AI30: 114.39 | AJ30: 608.95444 | AK30: 0.0002 | AL30: 0.01711 | AM30: 45.766 | AN30: 266.45047 | AO30: 0 | AP30: 0
A31: 0507 | B31: Слоновая кость, панцири черепах, ус китовый и щетина из китового уса, рога, оленьи рога, копыта, ногти, когти и клювы, необработанные или подвергнутые первичной обработке, но без придания формы; порошок и отходы этих продуктов | C31: 2.935 | D31: 418.66577 | E31: 0.00389 | F31: 0.0548 | G31: 14.3176 | H31: 608.34341 | I31: 0 | J31: 0 | K31: 10.08065 | L31: 307.69538 | M31: 0.0274 | N31: 0.67146 | O31: 6.68763 | P31: 353.7 | Q31: - | R31: - | S31: 1.368 | T31: 313.228 | U31: 4.7213 | V31: 49.2113 | W31: 2.12145 | X31: 357.86675 | Y31: - | Z31: - | AA31: 7.48772 | AB31: 611.41372 | AC31: 0 | AD31: 0 | AE31: 2.2158 | AF31: 358.86185 | AG31: 0 | AH31: 0 | AI31: - | AJ31: - | AK31: - | AL31: - | AM31: 0.184 | AN31: 30.912 | AO31: 0 | AP31: 0
A32: 0511 | B32: Продукты животного происхождения, в другом месте не поименованные или не включенные; павшие животные группы 01 или 03, непригодные для употребления в пищу | C32: 4386.7471 | D32: 3879.7625 | E32: 99.01107 | F32: 878.39662 | G32: 6152.2407 | H32: 5529.9071 | I32: 244.6639 | J32: 987.8023 | K32: 3690.014 | L32: 3815.4288 | M32: 370.99292 | N32: 1608.4961 | O32: 5521.5266 | P32: 4169.8 | Q32: 1541.2 | R32: 2060.1 | S32: 4792.4505 | T32: 4391.4597 | U32: 1375.132 | V32: 1913.8878 | W32: 4597.921 | X32: 2176.4633 | Y32: 758.24016 | Z32: 1935.6575 | AA32: 7669.2359 | AB32: 5289.0542 | AC32: 478.65642 | AD32: 2375.9335 | AE32: 8364.0504 | AF32: 8847.2392 | AG32: 180.18363 | AH32: 4770.1687 | AI32: 1705.7 | AJ32: 1052.0897 | AK32: 5.16884 | AL32: 239.67107 | AM32: 2833.467 | AN32: 2526.7328 | AO32: 14.2464 | AP32: 525.29394
A33: 5101 | B33: Шерсть, не подвергнутая кардо или гребнечесанию | C33: 4461.486 | D33: 2411.8907 | E33: 0 | F33: 0 | G33: 5968.6315 | H33: 3000.2403 | I33: 54.8329 | J33: 124.71035 | K33: 9907.7594 | L33: 5745.1695 | M33: 1111.2656 | N33: 603.22875 | O33: 9665.5977 | P33: 4825.4 | Q33: 296.6 | R33: 180.7 | S33: 2231.0689 | T33: 1122.182 | U33: 246.203 | V33: 38.37151 | W33: 1656.946 | X33: 546.34514 | Y33: 1.019 | Z33: 3.79828 | AA33: 5869.2743 | AB33: 2509.4166 | AC33: 149.208 | AD33: 91.59243 | AE33: 5065.2051 | AF33: 1585.1378 | AG33: 1.5001 | AH33: 14.85931 | AI33: 697.366 | AJ33: 171.3747 | AK33: 0 | AL33: 0 | AM33: 38.5 | AN33: 5.145 | AO33: 20.324 | AP33: 3.51153
A34: 5102 | B34: Волос животных, тонкий или грубый, не подвергнутый кардо или гребнечесанию | C34: 155.5 | D34: 77.75 | E34: 0 | F34: 0 | G34: 52.4 | H34: 16.90585 | I34: 0 | J34: 0 | K34: 0 | L34: 0 | M34: 0.05 | N34: 0.2307 | O34: 59.253 | P34: 59.3 | Q34: - | R34: - | S34: 20.399 | T34: 18.3591 | U34: 8.4 | V34: 6.48281 | W34: - | X34: - | Y34: 23.2 | Z34: 13.802 | AA34: 976.0821 | AB34: 527.8091 | AC34: 149.383 | AD34: 26.61014 | AE34: 602.4014 | AF34: 446.02064 | AG34: 3.825 | AH34: 1.469 | AI34: 21.3458 | AJ34: 21.3458 | AK34: 0 | AL34: 0 | AM34: - | AN34: - | AO34: - | AP34: -
A35: 5103 | B35: Отходы шерсти или тонкого или грубого волоса животных, включая прядильные отходы, но исключая расщипанное сырье | C35: 0 | D35: 0 | E35: 0.132 | F35: 0.11795 | G35: - | H35: - | I35: - | J35: - | K35: - | L35: - | M35: - | N35: - | O35: - | P35: - | Q35: - | R35: - | S35: - | T35: - | U35: - | V35: - | W35: - | X35: - | Y35: - | Z35: - | AA35: 0 | AB35: 0 | AC35: 0 | AD35: 0 | AE35: - | AF35: - | AG35: - | AH35: - | AI35: - | AJ35: - | AK35: - | AL35: - | AM35: - | AN35: - | AO35: - | AP35: -
A36: 5105 | B36: Шерсть и тонкий или грубый волос животных, подвергнутые кардо или гребнечесанию (включая шерсть, подвергнутую гребнечесанию, в отрезках) | C36: 649.971 | D36: 2082.6162 | E36: 0.06425 | F36: 0.76947 | G36: 523.582 | H36: 888.0778 | I36: 0.38406 | J36: 3.91175 | K36: 1298.5397 | L36: 1558.7305 | M36: 0.78618 | N36: 2.58659 | O36: 2816.066 | P36: 1201.5 | Q36: - | R36: 0.4 | S36: 172.736 | T36: 287.94934 | U36: 0.18205 | V36: 4.42781 | W36: 177.458 | X36: 757.60846 | Y36: 19.1857 | Z36: 100.99153 | AA36: 133.0366 | AB36: 191.52923 | AC36: 13.98283 | AD36: 33.15002 | AE36: 2.1975 | AF36: 11.66025 | AG36: 0.55134 | AH36: 11.6003 | AI36: 0 | AJ36: 0 | AK36: 0.03888 | AL36: 1.33147 | AM36: 0 | AN36: 0 | AO36: 0.429 | AP36: 7.19695
A38: *Предварительные данные.

Sheet По регионам
A1: Экспорт и импорт продукции животноводства в разрезе регионов РК
A3: Наименование области | B3: 2015 | F3: 2016 | J3: 2017 | N3: 2018 | R3: 2019 | V3: 2020 | Z3: 2021 | AD3: 2022* | AH3: январь-март 2022 года* | AL3: январь-март 2023 года*
B4: экспорт | D4: импорт | F4: экспорт | H4: импорт | J4: экспорт | L4: импорт | N4: экспорт | P4: импорт | R4: экспорт | T4: импорт | V4: экспорт | X4: импорт | Z4: экспорт | AB4: импорт | AD4: экспорт | AF4: импорт | AH4: экспорт | AJ4: импорт | AL4: экспорт | AN4: импорт
B5: тонн | C5: тыс. долларов США | D5: тонн | E5: тыс. долларов США | F5: тонн | G5: тыс. долларов США | H5: тонн | I5: тыс. долларов США | J5: тонн | K5: тыс. долларов США | L5: тонн | M5: тыс. долларов США | N5: тонн | O5: тыс. долларов США | P5: тонн | Q5: тыс. долларов США | R5: тонн | S5: тыс. долларов США | T5: тонн | U5: тыс. долларов США | V5: тонн | W5: тыс. долларов США | X5: тонн | Y5: тыс. долларов США | Z5: тонн | AA5: тыс. долларов США | AB5: тонн | AC5: тыс. долларов США | AD5: тонн | AE5: тыс. долларов США | AF5: тонн | AG5: тыс. долларов США | AH5: тонн | AI5: тыс. долларов США | AJ5: тонн | AK5: тыс. долларов США | AL5: тонн | AM5: тыс. долларов США | AN5: тонн | AO5: тыс. долларов США
A6: Қазақстан Республикасы | B6: 39842.337 | C6: 39863.13 | D6: 61408.165 | E6: 128401.71 | F6: 43520.097 | G6: 38973.578 | H6: 48578.948 | I6: 98693.591 | J6: 53266.837 | K6: 52367.016 | L6: 64841.885 | M6: 146626.68 | N6: 95068.788 | O6: 108114.84 | P6: 68473.8 | Q6: 189221.53 | R6: 115483.49 | S6: 180212.97 | T6: 98042.24 | U6: 295093.37 | V6: 55018.247 | W6: 81842.96 | X6: 94397.256 | Y6: 272668.9 | Z6: 101906.69 | AA6: 153968.33 | AB6: 99180.757 | AC6: 304115.84 | AD6: =AD7+AD8+AD9+AD10+AD11+AD12+AD13+AD14+AD15+AD16+AD17+AD18+AD19+AD20+AD21+AD22+AD23+AD24+AD25+AD26 -> #REF! | AE6: =AE7+AE8+AE9+AE10+AE11+AE12+AE13+AE14+AE15+AE16+AE17+AE18+AE19+AE20+AE21+AE22+AE23+AE24+AE25+AE26 -> #REF! | AF6: =AF7+AF8+AF9+AF10+AF11+AF12+AF13+AF14+AF15+AF16+AF17+AF18+AF19+AF20+AF21+AF22+AF23+AF24+AF25+AF26 -> #REF! | AG6: =AG7+AG8+AG9+AG10+AG11+AG12+AG13+AG14+AG15+AG16+AG17+AG18+AG19+AG20+AG21+AG22+AG23+AG24+AG25+AG26 -> #REF! | AH6: =AH7+AH8+AH9+AH10+AH11+AH12+AH13+AH14+AH15+AH16+AH17+AH18+AH19+AH20+AH21+AH22+AH23+AH24+AH25+AH26 -> #REF! | AI6: =AI7+AI8+AI9+AI10+AI11+AI12+AI13+AI14+AI15+AI16+AI17+AI18+AI19+AI20+AI21+AI22+AI23+AI24+AI25+AI26 -> #REF! | AJ6: =AJ7+AJ8+AJ9+AJ10+AJ11+AJ12+AJ13+AJ14+AJ15+AJ16+AJ17+AJ18+AJ19+AJ20+AJ21+AJ22+AJ23+AJ24+AJ25+AJ26 -> #REF! | AK6: =AK7+AK8+AK9+AK10+AK11+AK12+AK13+AK14+AK15+AK16+AK17+AK18+AK19+AK20+AK21+AK22+AK23+AK24+AK25+AK26 -> #REF! | ... AO6: =AO7+AO8+AO9+AO10+AO11+AO12+AO13+AO14+AO15+AO16+AO17+AO18+AO19+AO20+AO21+AO22+AO23+AO24+AO25+AO26 -> #REF!
A7: Абай | AD7: =Абай!C7 -> 1620.5 | AE7: =Абай!D7 -> 1142.293 | AF7: =Абай!E7 -> 1586.5505 | AG7: =Абай!F7 -> 4385.3352 | AH7: =Абай!G7 -> 132 | AI7: =Абай!H7 -> 43.56 | AJ7: =Абай!I7 -> 357.7264 | AK7: =Абай!J7 -> 990.36684 | ... AO7: =Абай!N7 -> 594.54778
A8: Ақмола | B8: 3704.2409 | C8: 5341.5377 | D8: 819.75597 | E8: 3536.7985 | F8: 6327.9254 | G8: 6453.8968 | H8: 1033.0059 | I8: 4116.7014 | J8: 6072.1239 | K8: 4430.8706 | L8: 1434.0076 | M8: 5896.5696 | N8: 9933.2743 | O8: 9037.4673 | P8: 1345.5619 | Q8: 6944.1508 | R8: 10131.435 | S8: 12385.088 | T8: 3688.4407 | U8: 18591.793 | V8: 7049.2078 | W8: 11192.719 | X8: 7283.6577 | Y8: 27198.676 | Z8: 3392.5541 | AA8: 5654.3135 | AB8: 3158.9531 | AC8: 14938.711 | AD8: =Ақмола!AE7 -> 4629.9155 | AE8: =Ақмола!AF7 -> 8776.1045 | AF8: =Ақмола!AG7 -> 1872.8552 | AG8: =Ақмола!AH7 -> 11365.62 | AH8: =Ақмола!AI7 -> 1039.4057 | AI8: =Ақмола!AJ7 -> 1309.1426 | AJ8: =Ақмола!AK7 -> 425.24054 | AK8: =Ақмола!AL7 -> 1740.1144 | ... AO8: =Ақмола!AP7 -> 2513.2049
A9: Ақтобе | B9: 2726.8252 | C9: 5304.6831 | D9: 10475.388 | E9: 16980.802 | F9: 884.42773 | G9: 1415.1646 | H9: 13946.895 | I9: 20425.279 | J9: 1732.8849 | K9: 2240.8137 | L9: 15107.75 | M9: 27530.65 | N9: 6030.7757 | O9: 10451.291 | P9: 12253.645 | Q9: 35768.868 | R9: 7372.716 | S9: 21191.435 | T9: 14116.813 | U9: 37517.562 | V9: 2767.0062 | W9: 8135.5547 | X9: 14351.352 | Y9: 23159.712 | Z9: 5970.6308 | AA9: 11948.177 | AB9: 12808.597 | AC9: 19071.702 | AD9: =#REF! -> #REF! | AE9: =#REF! -> #REF! | AF9: =#REF! -> #REF! | AG9: =#REF! -> #REF! | AH9: =#REF! -> #REF! | AI9: =#REF! -> #REF! | AJ9: =#REF! -> #REF! | AK9: =#REF! -> #REF! | ... AO9: =#REF! -> #REF!
A10: Алматы | B10: 2918.9229 | C10: 1822.3896 | D10: 1197.6662 | E10: 5264.929 | F10: 5547.1271 | G10: 4031.6156 | H10: 1469.2324 | I10: 7173.6675 | J10: 7763.1637 | K10: 6353.2764 | L10: 1733.719 | M10: 8725.3168 | N10: 12760.166 | O10: 10042.886 | P10: 4367.9671 | Q10: 14307.304 | R10: 4592.5733 | S10: 7647.0301 | T10: 6336.3802 | U10: 35021.294 | V10: 2780.0514 | W10: 2589.783 | X10: 7016.8118 | Y10: 25583.355 | Z10: 4932.0893 | AA10: 4392.9945 | AB10: 6299.1028 | AC10: 31726.26 | AD10: =#REF! -> #REF! | AE10: =#REF! -> #REF! | AF10: =#REF! -> #REF! | AG10: =#REF! -> #REF! | AH10: =#REF! -> #REF! | AI10: =#REF! -> #REF! | AJ10: =#REF! -> #REF! | AK10: =#REF! -> #REF! | ... AO10: =#REF! -> #REF!
A11: Атырау | B11: 6700.5793 | C11: 2630.487 | D11: 1300.445 | E11: 6052.6713 | F11: 6604.078 | G11: 2392.8672 | H11: 281.87374 | I11: 982.01876 | J11: 3546.062 | K11: 1629.6199 | L11: 473.88355 | M11: 1722.4108 | N11: 3887.4936 | O11: 2269.4331 | P11: 684.77747 | Q11: 1314.558 | R11: 5624.7518 | S11: 2438.4749 | T11: 1494.133 | U11: 3199.1898 | V11: 5181.143 | W11: 1863.487 | X11: 1006.2129 | Y11: 2137.0208 | Z11: 6117.055 | AA11: 2642.5077 | AB11: 1311.4431 | AC11: 1175.6275 | AD11: =#REF! -> #REF! | AE11: =#REF! -> #REF! | AF11: =#REF! -> #REF! | AG11: =#REF! -> #REF! | AH11: =#REF! -> #REF! | AI11: =#REF! -> #REF! | AJ11: =#REF! -> #REF! | AK11: =#REF! -> #REF! | ... AO11: =#REF! -> #REF!
A12: Батыс Қазақстан | B12: 3208.4396 | C12: 3519.049 | D12: 7279.0736 | E12: 16150.834 | F12: 2328.7822 | G12: 4950.9967 | H12: 5665.3502 | I12: 9411.4159 | J12: 3028.725 | K12: 6078.6948 | L12: 9557.8369 | M12: 18524.276 | N12: 1693.9985 | O12: 4439.4371 | P12: 10779.378 | Q12: 21561.167 | R12: 4167.855 | S12: 8573.0316 | T12: 13912.335 | U12: 38291.695 | V12: 2079.046 | W12: 4462.5994 | X12: 10528.183 | Y12: 31538.832 | Z12: 2102.4164 | AA12: 3545.4483 | AB12: 15856.132 | AC12: 57957.983 | AD12: =#REF! -> #REF! | AE12: =#REF! -> #REF! | AF12: =#REF! -> #REF! | AG12: =#REF! -> #REF! | AH12: =#REF! -> #REF! | AI12: =#REF! -> #REF! | AJ12: =#REF! -> #REF! | AK12: =#REF! -> #REF! | ... AO12: =#REF! -> #REF!
A13: Жамбыл | B13: 880.6035 | C13: 342.38807 | D13: 216.2571 | E13: 747.19595 | F13: 1200.4905 | G13: 1379.2704 | H13: 388.3811 | I13: 1081.0076 | J13: 555.30717 | K13: 1936.3547 | L13: 641.41037 | M13: 2688.4719 | N13: 3526.122 | O13: 9880.6323 | P13: 1149.6524 | Q13: 4090.5167 | R13: 4908.1626 | S13: 8732.7601 | T13: 1845.9781 | U13: 8151.073 | V13: 1520.6444 | W13: 3071.721 | X13: 1680.0143 | Y13: 6986.8296 | Z13: 1505.9277 | AA13: 3550.6413 | AB13: 1578.6892 | AC13: 3312.0061 | AD13: =#REF! -> #REF! | AE13: =#REF! -> #REF! | AF13: =#REF! -> #REF! | AG13: =#REF! -> #REF! | AH13: =#REF! -> #REF! | AI13: =#REF! -> #REF! | AJ13: =#REF! -> #REF! | AK13: =#REF! -> #REF! | ... AO13: =#REF! -> #REF!
A14: Жетісу | AD14: =#REF! -> #REF! | AE14: =#REF! -> #REF! | AF14: =#REF! -> #REF! | AG14: =#REF! -> #REF! | AH14: =#REF! -> #REF! | AI14: =#REF! -> #REF! | AJ14: =#REF! -> #REF! | AK14: =#REF! -> #REF! | ... AO14: =#REF! -> #REF!
A15: Қарағанды | B15: 1378.074 | C15: 1089.2662 | D15: 8467.5743 | E15: 10566.221 | F15: 931.884 | G15: 599.2585 | H15: 3251.3388 | I15: 5308.0496 | J15: 3843.23 | K15: 3368.3102 | L15: 4572.028 | M15: 9034.0405 | N15: 7037.7541 | O15: 5243.4115 | P15: 4614.2296 | Q15: 8847.8691 | R15: 4279.4429 | S15: 3411.8544 | T15: 6336.6881 | U15: 15193.191 | V15: 1290.774 | W15: 1022.9084 | X15: 4489.5042 | Y15: 11668.794 | Z15: 2524.0865 | AA15: 2669.8653 | AB15: 5986.0612 | AC15: 16440.857 | AD15: =#REF! -> #REF! | AE15: =#REF! -> #REF! | AF15: =#REF! -> #REF! | AG15: =#REF! -> #REF! | AH15: =#REF! -> #REF! | AI15: =#REF! -> #REF! | AJ15: =#REF! -> #REF! | AK15: =#REF! -> #REF! | ... AO15: =#REF! -> #REF!
A16: Қостанай | B16: 1169.2372 | C16: 1360.7849 | D16: 3867.7817 | E16: 6675.0476 | F16: 1484.0555 | G16: 2430.3294 | H16: 3337.579 | I16: 5668.6188 | J16: 3869.644 | K16: 4104.0648 | L16: 4906.5094 | M16: 9912.0246 | N16: 10091.574 | O16: 10156.978 | P16: 6032.3647 | Q16: 15527.65 | R16: 12044.631 | S16: 13171.638 | T16: 5216.4401 | U16: 12127.738 | V16: 2949.6831 | W16: 2710.6599 | X16: 6727.4187 | Y16: 16835.262 | Z16: 4207.7789 | AA16: 6123.7273 | AB16: 7788.8794 | AC16: 20026.558 | AD16: ='2015-2026'!#REF! -> #REF! | AE16: ='2015-2026'!#REF! -> #REF! | AF16: ='2015-2026'!#REF! -> #REF! | AG16: ='2015-2026'!#REF! -> #REF! | AH16: ='2015-2026'!#REF! -> #REF! | AI16: ='2015-2026'!#REF! -> #REF! | AJ16: ='2015-2026'!#REF! -> #REF! | AK16: ='2015-2026'!#REF! -> #REF! | ... AO16: ='2015-2026'!#REF! -> #REF!
A17: Қызылорда | B17: 1777.393 | C17: 690.08658 | D17: 0.3301 | E17: 4.18 | F17: 2309.66 | G17: 775.97445 | H17: 0.3066 | I17: 2.742 | J17: 1836.663 | K17: 971.75404 | L17: 0.2931 | M17: 2.916 | N17: 2370.71 | O17: 1770.1546 | P17: 28.0673 | Q17: 253.94922 | R17: 2831.5316 | S17: 2560.2901 | T17: 447.221 | U17: 2598.117 | V17: 2864.941 | W17: 1669.8517 | X17: 68.2599 | Y17: 345.83692 | Z17: 2503.851 | AA17: 2062.5071 | AB17: 336.8698 | AC17: 682.53798 | AD17: =#REF! -> #REF! | AE17: =#REF! -> #REF! | AF17: =#REF! -> #REF! | AG17: =#REF! -> #REF! | AH17: =#REF! -> #REF! | AI17: =#REF! -> #REF! | AJ17: =#REF! -> #REF! | AK17: =#REF! -> #REF! | ... AO17: =#REF! -> #REF!
A18: Маңғыстау | B18: 332.13 | C18: 888.9915 | D18: 1903.1008 | E18: 5074.6803 | F18: 217.121 | G18: 551.161 | H18: 2113.7205 | I18: 4533.8928 | J18: 215.625 | K18: 384.90868 | L18: 4993.2905 | M18: 9416.8637 | N18: 75.72566 | O18: 184.03018 | P18: 3679.9451 | Q18: 9229.0865 | R18: 321.3405 | S18: 666.68008 | T18: 3467.5841 | U18: 9817.3081 | V18: 108.6594 | W18: 382.98456 | X18: 3195.7123 | Y18: 10093.998 | Z18: 153.024 | AA18: 648.8783 | AB18: 2753.6544 | AC18: 8988.3863 | AD18: =#REF! -> #REF! | AE18: =#REF! -> #REF! | AF18: =#REF! -> #REF! | AG18: =#REF! -> #REF! | AH18: =#REF! -> #REF! | AI18: =#REF! -> #REF! | AJ18: =#REF! -> #REF! | AK18: =#REF! -> #REF! | ... AO18: =#REF! -> #REF!
A19: Павлодар | B19: 1392.154 | C19: 1829.733 | D19: 5281.4112 | E19: 10113.854 | F19: 3205.8036 | G19: 3418.7106 | H19: 3533.3779 | I19: 7051.9604 | J19: 1644.7409 | K19: 2516.4569 | L19: 3798.0332 | M19: 7457.9122 | N19: 2168.7399 | O19: 2606.9233 | P19: 3868.2696 | Q19: 8837.8265 | R19: 2364.3246 | S19: 3608.4504 | T19: 6562.8626 | U19: 18144.391 | V19: 2970.6321 | W19: 1851.3597 | X19: 6135.8961 | Y19: 16773.039 | Z19: 4151.5009 | AA19: 5128.1066 | AB19: 7476.9614 | AC19: 20215.141 | AD19: =#REF! -> #REF! | AE19: =#REF! -> #REF! | AF19: =#REF! -> #REF! | AG19: =#REF! -> #REF! | AH19: =#REF! -> #REF! | AI19: =#REF! -> #REF! | AJ19: =#REF! -> #REF! | AK19: =#REF! -> #REF! | ... AO19: =#REF! -> #REF!
A20: Солтүстік Қазақстан | B20: 1740.3964 | C20: 1425.0716 | D20: 1034.2748 | E20: 4388.4608 | F20: 1210.0804 | G20: 1033.981 | H20: 579.0999 | I20: 2084.5106 | J20: 2911.228 | K20: 3067.703 | L20: 242.55508 | M20: 1403.4108 | N20: 3407.5042 | O20: 3117.3302 | P20: 1309.2212 | Q20: 7167.1947 | R20: 2156.0078 | S20: 2262.5364 | T20: 1752.4212 | U20: 8931.9623 | V20: 875.9043 | W20: 730.47967 | X20: 2139.7738 | Y20: 10321.632 | Z20: 1251.5449 | AA20: 1271.9902 | AB20: 2530.5193 | AC20: 9987.7881 | AD20: =#REF! -> #REF! | AE20: =#REF! -> #REF! | AF20: =#REF! -> #REF! | AG20: =#REF! -> #REF! | AH20: =#REF! -> #REF! | AI20: =#REF! -> #REF! | AJ20: =#REF! -> #REF! | AK20: =#REF! -> #REF! | ... AO20: =#REF! -> #REF!
A21: Түркістан | B21: 2483.37 | C21: 1763.1349 | D21: 477.1299 | E21: 2132.4148 | F21: 2347.387 | G21: 1178.0188 | H21: 431.0878 | I21: 2301.4763 | J21: 2058.3686 | K21: 1936.548 | L21: 461.46493 | M21: 2280.4288 | N21: 17739.9 | O21: 24029.895 | P21: 962.5838 | Q21: 3955.2844 | R21: 42063.612 | S21: 72562.325 | T21: 1973.3191 | U21: 6416.8789 | V21: 14726.273 | W21: 31499.998 | X21: 1550.3942 | Y21: 4757.1653 | Z21: 48752.511 | AA21: 87691.698 | AB21: 2504.1308 | AC21: 5851.7048 | AD21: =#REF! -> #REF! | AE21: =#REF! -> #REF! | AF21: =#REF! -> #REF! | AG21: =#REF! -> #REF! | AH21: =#REF! -> #REF! | AI21: =#REF! -> #REF! | AJ21: =#REF! -> #REF! | AK21: =#REF! -> #REF! | ... AO21: =#REF! -> #REF!
A22: Ұлытау | AD22: =#REF! -> #REF! | AE22: =#REF! -> #REF! | AF22: =#REF! -> #REF! | AG22: =#REF! -> #REF! | AH22: =#REF! -> #REF! | AI22: =#REF! -> #REF! | AJ22: =#REF! -> #REF! | AK22: =#REF! -> #REF! | ... AO22: =#REF! -> #REF!
A23: Шығыс Қазақстан | B23: 1739.5107 | C23: 3085.7768 | D23: 2351.9589 | E23: 5847.4953 | F23: 2906.822 | G23: 2975.2007 | H23: 2136.6097 | I23: 4237.7879 | J23: 3767.3559 | K23: 3445.3054 | L23: 2465.2679 | M23: 4780.1466 | N23: 3750.8184 | O23: 3146.8128 | P23: 2518.2203 | Q23: 6120.9665 | R23: 2897.5134 | S23: 3625.3827 | T23: 8967.4836 | U23: 8982.2241 | V23: 1700.6805 | W23: 2293.8567 | X23: 3486.822 | Y23: 7938.936 | Z23: 2097.1242 | AA23: 3353.1663 | AB23: 4438.6698 | AC23: 11097.488 | AD23: =#REF! -> #REF! | AE23: =#REF! -> #REF! | AF23: =#REF! -> #REF! | AG23: =#REF! -> #REF! | AH23: =#REF! -> #REF! | AI23: =#REF! -> #REF! | AJ23: =#REF! -> #REF! | AK23: =#REF! -> #REF! | ... AO23: =#REF! -> #REF!
A24: Астана қ. | B24: 1072.061 | C24: 1118.8345 | D24: 1164.6644 | E24: 5186.8074 | F24: 786.422 | G24: 668.09814 | H24: 796.30904 | I24: 1749.7961 | J24: 106.1058 | K24: 220.24636 | L24: 1546.9567 | M24: 4444.3675 | N24: 843.6748 | O24: 1059.9085 | P24: 3385.7867 | Q24: 8633.2743 | R24: 1571.3834 | S24: 1986.3502 | T24: 9049.0634 | U24: 27493.06 | V24: 2083.8197 | W24: 3477.3042 | X24: 9159.3158 | Y24: 26382.225 | Z24: 2625.6869 | AA24: 5801.7206 | AB24: 8354.9464 | AC24: 26667.943 | AD24: =#REF! -> #REF! | AE24: =#REF! -> #REF! | AF24: =#REF! -> #REF! | AG24: =#REF! -> #REF! | AH24: =#REF! -> #REF! | AI24: =#REF! -> #REF! | AJ24: =#REF! -> #REF! | AK24: =#REF! -> #REF! | ... AO24: =#REF! -> #REF!
A25: Алматы қ. | B25: 4090.1149 | C25: 3424.2472 | D25: 13026.62 | E25: 27047.824 | F25: 1912.931 | G25: 1415.3678 | H25: 5741.3159 | I25: 18536.853 | J25: 6060.88 | K25: 4234.1583 | L25: 7954.4647 | M25: 27672.02 | N25: 3113.1043 | O25: 3693.5942 | P25: 9492.8371 | Q25: 32770.908 | R25: 3991.2744 | S25: 8064.4064 | T25: 10478.933 | U25: 39989.541 | V25: 2184.2316 | W25: 2746.8327 | X25: 12818.111 | Y25: 46538.82 | Z25: 4727.6407 | AA25: 3361.8924 | AB25: 13483.387 | AC25: 50834.971 | AD25: =#REF! -> #REF! | AE25: =#REF! -> #REF! | AF25: =#REF! -> #REF! | AG25: =#REF! -> #REF! | AH25: =#REF! -> #REF! | AI25: =#REF! -> #REF! | AJ25: =#REF! -> #REF! | AK25: =#REF! -> #REF! | ... AO25: =#REF! -> #REF!
A26: Шымкент қ. | B26: 2528.284 | C26: 4226.6678 | D26: 2544.7332 | E26: 2631.4978 | F26: 3315.099 | G26: 3303.6658 | H26: 3873.4644 | I26: 4027.8133 | J26: 4254.7294 | K26: 5447.9304 | L26: 4952.4133 | M26: 5134.8519 | N26: 6637.4521 | O26: 6984.6501 | P26: 2001.2922 | Q26: 3890.9606 | R26: 4164.9309 | S26: 7325.2339 | T26: 2396.1426 | U26: 4626.3524 | V26: 1885.5495 | W26: 2140.8599 | X26: 2759.817 | Y26: 4408.7653 | Z26: 4891.2724 | AA26: 4120.6965 | AB26: 2513.7591 | AC26: 5140.1783 | AD26: =#REF! -> #REF! | AE26: =#REF! -> #REF! | AF26: =#REF! -> #REF! | AG26: =#REF! -> #REF! | AH26: =#REF! -> #REF! | AI26: =#REF! -> #REF! | AJ26: =#REF! -> #REF! | AK26: =#REF! -> #REF! | ... AO26: =#REF! -> #REF!
A28: *Предварительные данные.

Sheet Абай
A1: Экспорт и импорт товаров продукции животноводства
A2: Абайская
A4: ТНВЭД ЕАЭС | B4: Наименование товара | C4: 2022* | G4: январь-март 2022 года* | K4: январь-март 2023 года*
C5: экспорт | E5: импорт | G5: экспорт | I5: импорт | K5: экспорт | M5: импорт
C6: тонн | D6: тыс. долларов США | E6: тонн | F6: тыс. долларов США | G6: тонн | H6: тыс. долларов США | I6: тонн | J6: тыс. долларов США | K6: тонн | L6: тыс. долларов США | M6: тонн | N6: тыс. долларов США
B7: Всего | C7: =SUM(C8:C36) -> 1620.5 | D7: =SUM(D8:D36) -> 1142.293 | E7: =SUM(E8:E36) -> 1586.5505 | F7: =SUM(F8:F36) -> 4385.3352 | G7: =SUM(G8:G36) -> 132 | H7: =SUM(H8:H36) -> 43.56 | I7: =SUM(I8:I36) -> 357.7264 | J7: =SUM(J8:J36) -> 990.36684 | ... N7: =SUM(N8:N36) -> 594.54778
A8: 0101 | B8: Лошади, ослы, мулы и лошаки живые | C8: 0 | D8: 0 | E8: 137.206 | F8: 106.62003 | G8: 0 | H8: 0 | I8: 25.38 | J8: 18.87418 | K8: 0 | L8: 0 | M8: 38.527 | N8: 43.08812
A9: 0102 | B9: Крупный рогатый скот живой | C9: 0 | D9: 0 | E9: 66.415 | F9: 302.96266 | G9: 0 | H9: 0 | I9: 50.815 | J9: 236.50666 | K9: 0 | L9: 0 | M9: 57.85 | N9: 34.486
A10: 0103 | B10: Свиньи живые | C10: - | D10: - | E10: - | F10: - | G10: - | H10: - | I10: - | J10: - | K10: - | L10: - | M10: - | N10: -
A11: 0104 | B11: Овцы и козы живые | C11: - | D11: - | E11: - | F11: - | G11: - | H11: - | I11: - | J11: - | K11: - | L11: - | M11: - | N11: -
A12: 0105 | B12: Домашняя птица живая, то есть куры домашние (gallus domesticus), утки, гуси, индейки и цесарки | C12: - | D12: - | E12: - | F12: - | G12: - | H12: - | I12: - | J12: - | K12: - | L12: - | M12: - | N12: -
A13: 0106 | B13: Живые животные прочие | C13: - | D13: - | E13: - | F13: - | G13: - | H13: - | I13: - | J13: - | K13: - | L13: - | M13: - | N13: -
A14: 0201 | B14: Мясо крупного рогатого скота, свежее или охлажденное | C14: - | D14: - | E14: - | F14: - | G14: - | H14: - | I14: - | J14: - | K14: - | L14: - | M14: - | N14: -
A15: 0202 | B15: Мясо крупного рогатого скота, замороженное | C15: 0 | D15: 0 | E15: 6.40236 | F15: 8.69734 | G15: 0 | H15: 0 | I15: 6.38736 | J15: 8.55779 | K15: - | L15: - | M15: - | N15: -
A16: 0203 | B16: Свинина свежая, охлажденная или замороженная | C16: 0 | D16: 0 | E16: 334.60259 | F16: 889.61442 | G16: 0 | H16: 0 | I16: 92.77336 | J16: 174.40074 | K16: 0 | L16: 0 | M16: 64.113 | N16: 157.12466
A17: 0204 | B17: Баранина или козлятина свежая, охлажденная или замороженная | C17: - | D17: - | E17: - | F17: - | G17: - | H17: - | I17: - | J17: - | K17: - | L17: - | M17: - | N17: -
A18: 0205 | B18: Мясо лошадей (конина), ослов, мулов или лошаков, свежее, охлажденное или мороженое | C18: 0 | D18: 0 | E18: 479.867 | F18: 690.33472 | G18: 0 | H18: 0 | I18: 36.496 | J18: 29.88968 | K18: 0 | L18: 0 | M18: 0.62 | N18: 0.397
A19: 0208 | B19: Прочие мясо и пищевые мясные субпродукты, свежие, охлажденные или замороженные | C19: - | D19: - | E19: - | F19: - | G19: - | H19: - | I19: - | J19: - | K19: - | L19: - | M19: - | N19: -
A20: 0301 | B20: Живая рыба | C20: - | D20: - | E20: - | F20: - | G20: - | H20: - | I20: - | J20: - | K20: - | L20: - | M20: - | N20: -
A21: 0302 | B21: Рыба свежая или охлажденная, за исключением рыбного филе и прочего мяса рыбы товарной позиции 0304 | C21: - | D21: - | E21: - | F21: - | G21: - | H21: - | I21: - | J21: - | K21: - | L21: - | M21: - | N21: -
A22: 0303 | B22: Рыба мороженая, за исключением рыбного филе и прочего мяса рыбы товарной позиции 0304 | C22: 0 | D22: 0 | E22: 132.53822 | F22: 182.89807 | G22: 0 | H22: 0 | I22: 40.573 | J22: 49.558 | K22: 0 | L22: 0 | M22: 30.682 | N22: 38.85941
A23: 0306 | B23: Ракообразные, в панцире или без панциря, живые, свежие, охлажденные, мороженые, сушеные, соленые или в рассоле; ракообразные в панцире, сваренные на пару или в кипящей воде, охлажденные или неохлажденные, мороженые, сушеные, соленые или в рассоле; мука | C23: 0.5 | D23: 0.483 | E23: 0 | F23: 0 | G23: - | H23: - | I23: - | J23: - | K23: - | L23: - | M23: - | N23: -
A24: 0307 | B24: Моллюски, в раковине или без раковины, живые, свежие, охлажденные, мороженые, сушеные, соленые или в рассоле; водные беспозвоночные, отличные от ракообразных и моллюсков, живые, свежие, охлажденные, мороженые, сушеные, соленые или в рассоле; мука тонког | C24: 0 | D24: 0 | E24: 1.42634 | F24: 14.61699 | G24: 0 | H24: 0 | I24: 0.31468 | J24: 2.79649 | K24: 0 | L24: 0 | M24: 0.358 | N24: 3.7753
A25: 0407 | B25: Яйца птиц, в скорлупе, свежие, консервированные или вареные | C25: 0 | D25: 0 | E25: 425.811 | F25: 2180.5801 | G25: 0 | H25: 0 | I25: 102.714 | J25: 460.79448 | K25: 0 | L25: 0 | M25: 97.308 | N25: 309.39459
A26: 0408 | B26: Яйца птиц без скорлупы и яичные желтки, свежие, сушеные, сваренные на пару или в кипящей воде, формованные, замороженные или консервированные другим способом, с добавлением или без добавления сахара или других подслащивающих веществ | C26: - | D26: - | E26: - | F26: - | G26: - | H26: - | I26: - | J26: - | K26: - | L26: - | M26: - | N26: -
A27: 0409 | B27: Мед натуральный | C27: 0 | D27: 0 | E27: 0.009 | F27: 0.022 | G27: - | H27: - | I27: - | J27: - | K27: - | L27: - | M27: - | N27: -
A28: 0410 | B28: Продукты пищевые животного происхождения, в другом месте не поименованные | C28: - | D28: - | E28: - | F28: - | G28: - | H28: - | I28: - | J28: - | K28: - | L28: - | M28: - | N28: -
A29: 0504 | B29: Кишки, пузыри и желудки животных (кроме рыбьих), целые или в кусках, свежие , охлажденные, мороженые, соленые,в рассоле,сушенные или копченные | C29: 0 | D29: 0 | E29: 2.273 | F29: 8.98882 | G29: 0 | H29: 0 | I29: 2.273 | J29: 8.98882 | K29: 0 | L29: 0 | M29: 1.741 | N29: 7.4227
A30: 0505 | B30: Шкурки и прочие части птиц с перьями или пухом, перья и части перьев (с подрезанными или неподрезанными краями) и пух, очищенные, дезинфицированные или обработанные для хранения, но не подвергнутые дальнейшей обработке; порошок и отходы перьев или их ча | C30: - | D30: - | E30: - | F30: - | G30: - | H30: - | I30: - | J30: - | K30: - | L30: - | M30: - | N30: -
A31: 0507 | B31: Слоновая кость, панцири черепах, ус китовый и щетина из китового уса, рога, оленьи рога, копыта, ногти, когти и клювы, необработанные или подвергнутые первичной обработке, но без придания формы; порошок и отходы этих продуктов | C31: - | D31: - | E31: - | F31: - | G31: - | H31: - | I31: - | J31: - | K31: - | L31: - | M31: - | N31: -
A32: 0511 | B32: Продукты животного происхождения, в другом месте не поименованные или не включенные; павшие животные группы 01 или 03, непригодные для употребления в пищу | C32: 1620 | D32: 1141.81 | E32: 0 | F32: 0 | G32: 132 | H32: 43.56 | I32: 0 | J32: 0 | K32: 198 | L32: 118.8 | M32: 0 | N32: 0
A33: 5101 | B33: Шерсть, не подвергнутая кардо или гребнечесанию | C33: - | D33: - | E33: - | F33: - | G33: - | H33: - | I33: - | J33: - | K33: - | L33: - | M33: - | N33: -
A34: 5102 | B34: Волос животных, тонкий или грубый, не подвергнутый кардо или гребнечесанию | C34: - | D34: - | E34: - | F34: - | G34: - | H34: - | I34: - | J34: - | K34: - | L34: - | M34: - | N34: -
A35: 5103 | B35: Отходы шерсти или тонкого или грубого волоса животных, включая прядильные отходы, но исключая расщипанное сырье | C35: - | D35: - | E35: - | F35: - | G35: - | H35: - | I35: - | J35: - | K35: - | L35: - | M35: - | N35: -
A36: 5105 | B36: Шерсть и тонкий или грубый волос животных, подвергнутые кардо или гребнечесанию (включая шерсть, подвергнутую гребнечесанию, в отрезках) | C36: - | D36: - | E36: - | F36: - | G36: - | H36: - | I36: - | J36: - | K36: - | L36: - | M36: - | N36: -
A38: *Предварительные данные.

Sheet Ақмола
A1: Экспорт и импорт товаров продукции животноводства
A2: Акмолинская
A4: ТНВЭД ЕАЭС | B4: Наименование товара | C4: 2015 | G4: 2016 | K4: 2017 | O4: 2018 | S4: 2019 | W4: 2020 | AA4: 2021 | AE4: 2022* | AI4: январь-март 2022 года* | AM4: январь-март 2023 года*
C5: экспорт | E5: импорт | G5: экспорт | I5: импорт | K5: экспорт | M5: импорт | O5: экспорт | Q5: импорт | S5: экспорт | U5: импорт | W5: экспорт | Y5: импорт | AA5: экспорт | AC5: импорт | AE5: экспорт | AG5: импорт | AI5: экспорт | AK5: импорт | AM5: экспорт | AO5: импорт
C6: тонн | D6: тыс. долларов США | E6: тонн | F6: тыс. долларов США | G6: тонн | H6: тыс. долларов США | I6: тонн | J6: тыс. долларов США | K6: тонн | L6: тыс. долларов США | M6: тонн | N6: тыс. долларов США | O6: тонн | P6: тыс. долларов США | Q6: тонн | R6: тыс. долларов США | S6: тонн | T6: тыс. долларов США | U6: тонн | V6: тыс. долларов США | W6: тонн | X6: тыс. долларов США | Y6: тонн | Z6: тыс. долларов США | AA6: тонн | AB6: тыс. долларов США | AC6: тонн | AD6: тыс. долларов США | AE6: тонн | AF6: тыс. долларов США | AG6: тонн | AH6: тыс. долларов США | AI6: тонн | AJ6: тыс. долларов США | AK6: тонн | AL6: тыс. долларов США | AM6: тонн | AN6: тыс. долларов США | AO6: тонн | AP6: тыс. долларов США
B7: Всего | C7: 3704.2409 | D7: 5341.5377 | E7: 819.75597 | F7: 3536.7985 | G7: 6327.9254 | H7: 6453.8968 | I7: 1033.0059 | J7: 4116.7014 | K7: 6072.1239 | L7: 4430.8706 | M7: 1434.0076 | N7: 5896.5696 | O7: 9933.2743 | P7: 9037.4673 | Q7: 1345.5619 | R7: 6944.1508 | S7: 10131.435 | T7: 12385.088 | U7: 3688.4407 | V7: 18591.793 | W7: 7049.2078 | X7: 11192.719 | Y7: 7283.6577 | Z7: 27198.676 | AA7: 3392.5541 | AB7: 5654.3135 | AC7: 3158.9531 | AD7: 14938.711 | AE7: =SUM(AE8:AE36) -> 4629.9155 | AF7: =SUM(AF8:AF36) -> 8776.1045 | AG7: =SUM(AG8:AG36) -> 1872.8552 | AH7: =SUM(AH8:AH36) -> 11365.62 | AI7: =SUM(AI8:AI36) -> 1039.4057 | AJ7: =SUM(AJ8:AJ36) -> 1309.1426 | AK7: =SUM(AK8:AK36) -> 425.24054 | AL7: =SUM(AL8:AL36) -> 1740.1144 | ... AP7: =SUM(AP8:AP36) -> 2513.2049
A8: 0101 | B8: Лошади, ослы, мулы и лошаки живые | C8: 44.85 | D8: 40.45 | E8: 0 | F8: 0 | G8: - | H8: - | I8: - | J8: - | K8: - | L8: - | M8: - | N8: - | O8: - | P8: - | Q8: - | R8: - | S8: - | T8: - | U8: 10.5768 | V8: 11.06611 | W8: - | X8: - | Y8: - | Z8: - | AC8: 9.59 | AD8: 7.6 | AE8: 0 | AF8: 0 | AG8: 2.1 | AH8: 1.283 | AI8: - | AJ8: - | AK8: - | AL8: - | AM8: - | AN8: - | AO8: - | AP8: -
A9: 0102 | B9: Крупный рогатый скот живой | C9: 174.33 | D9: 146.85 | E9: 252.147 | F9: 771.1864 | G9: 0 | H9: 0 | I9: 261.289 | J9: 1067.629 | K9: 0 | L9: 0 | M9: 212.8166 | N9: 1062.0877 | O9: 0 | P9: 0 | Q9: 258.498 | R9: 1172.1262 | S9: 72.55 | T9: 327.40619 | U9: 1596.888 | V9: 8127.0677 | W9: 0 | X9: 0 | Y9: 578.56254 | Z9: 2304.9851 | AA9: 39.554 | AB9: 108.902 | AC9: 466.69 | AD9: 2125.9745 | AE9: 0 | AF9: 0 | AG9: 98.375 | AH9: 399.14407 | AI9: - | AJ9: - | AK9: - | AL9: - | AM9: 113.207 | AN9: 299.99855 | AO9: 16.5 | AP9: 67.9179
A10: 0103 | B10: Свиньи живые | C10: - | D10: - | E10: - | F10: - | G10: 0 | H10: 0 | I10: 12.143 | J10: 44.68309 | K10: - | L10: - | M10: - | N10: - | O10: - | P10: - | Q10: - | R10: - | S10: - | T10: - | U10: - | V10: - | W10: - | X10: - | Y10: - | Z10: - | AE10: - | AF10: - | AG10: - | AH10: - | AI10: - | AJ10: - | AK10: - | AL10: - | AM10: - | AN10: - | AO10: - | AP10: -
A11: 0104 | B11: Овцы и козы живые | C11: 46.1 | D11: 29.8485 | E11: 0.585 | F11: 2.808 | G11: - | H11: - | I11: - | J11: - | K11: 0 | L11: 0 | M11: 12.6 | N11: 243.48306 | O11: 0 | P11: 0 | Q11: 7.65 | R11: 173.26108 | S11: - | T11: - | U11: 17.688 | V11: 374.04495 | W11: - | X11: - | Y11: - | Z11: - | AC11: 0.25 | AD11: 0.81323 | AE11: 0 | AF11: 0 | AG11: 2.985 | AH11: 60.07488 | AI11: 0 | AJ11: 0 | AK11: 2.985 | AL11: 60.07488 | AM11: - | AN11: - | AO11: - | AP11: -
A12: 0105 | B12: Домашняя птица живая, то есть куры домашние (gallus domesticus), утки, гуси, индейки и цесарки | C12: 0 | D12: 0 | E12: 70.4478 | F12: 1160.411 | G12: 0 | H12: 0 | I12: 91.36883 | J12: 1509.5263 | K12: 0 | L12: 0 | M12: 84.08675 | N12: 1780.4563 | O12: 0 | P12: 0 | Q12: 94.13587 | R12: 2070.673 | S12: - | T12: - | U12: 94.77754 | V12: 2168.7054 | W12: 0 | X12: 0 | Y12: 97.38996 | Z12: 1652.9008 | AA12: 0.4 | AB12: 41.979 | AC12: 87.69884 | AD12: 2072.7422 | AE12: 0 | AF12: 0 | AG12: 72.768 | AH12: 1908.5651 | AI12: 0 | AJ12: 0 | AK12: 16.183 | AL12: 212.76088 | AM12: 0 | AN12: 0 | AO12: 19.223 | AP12: 447.33665
A13: 0106 | B13: Живые животные прочие | C13: 0 | D13: 0 | E13: 15.35 | F13: 276.1177 | G13: 0 | H13: 0 | I13: 17.855 | J13: 76.14861 | K13: 0 | L13: 0 | M13: 16.674 | N13: 33.348 | O13: 0 | P13: 0 | Q13: 1.2 | R13: 1.32 | S13: - | T13: - | U13: 0.021 | V13: 3.14845 | W13: - | X13: - | Y13: - | Z13: - | AE13: 0 | AF13: 0 | AG13: 3.2 | AH13: 2.22147 | AI13: - | AJ13: - | AK13: - | AL13: - | AM13: - | AN13: - | AO13: - | AP13: -
A14: 0201 | B14: Мясо крупного рогатого скота, свежее или охлажденное | C14: 580.61908 | D14: 2410.1373 | E14: 41.32221 | F14: 148.32133 | G14: 546.19526 | H14: 1861.4599 | I14: 0 | J14: 0 | K14: 28.79 | L14: 34.92682 | M14: 417.1633 | N14: 1097.7018 | O14: 460.48 | P14: 1506.3201 | Q14: 122.7436 | R14: 341.2319 | S14: 236.27894 | T14: 1029.0849 | U14: 248.6168 | V14: 721.76553 | W14: 1384.1385 | X14: 4535.5191 | Y14: 4091.1575 | Z14: 13387.542 | AA14: 41.57543 | AB14: 556.23348 | AC14: 115.885 | AD14: 405.5974 | AE14: 63.72146 | AF14: 777.26238 | AG14: 2.25533 | AH14: 27.50067 | AI14: 11.46382 | AJ14: 164.20101 | AK14: 0 | AL14: 0 | AM14: 19.58615 | AN14: 264.18334 | AO14: 0 | AP14: 0
A15: 0202 | B15: Мясо крупного рогатого скота, замороженное | C15: 131.5878 | D15: 659.76503 | E15: 91.208 | F15: 297.51654 | G15: 26.29775 | H15: 159.78593 | I15: 0 | J15: 0 | K15: 0 | L15: 0 | M15: 1.0258 | N15: 0.77596 | O15: 0 | P15: 0 | Q15: 60 | R15: 172.18854 | S15: 961.23668 | T15: 3714.2131 | U15: 60.297 | V15: 196.36387 | W15: 328.52754 | X15: 1414.879 | Y15: 227.77845 | Z15: 733.64686 | AA15: 306.64274 | AB15: 1806.9395 | AC15: 39.8814 | AD15: 132.22278 | AE15: 54.052 | AF15: 459.23329 | AG15: 39.05 | AH15: 146.042 | AI15: 11.64787 | AJ15: 100.59767 | AK15: 19.05 | AL15: 84.042 | AM15: 7.64841 | AN15: 70.69994 | AO15: 20.01 | AP15: 78.039
A16: 0203 | B16: Свинина свежая, охлажденная или замороженная | C16: 9.75 | D16: 12.18209 | E16: 156.95183 | F16: 290.85006 | G16: 35.45 | H16: 37.59171 | I16: 233.38994 | J16: 444.83671 | K16: 0 | L16: 0 | M16: 141.264 | N16: 285.80842 | O16: 3.92 | P16: 6.51074 | Q16: 5.921 | R16: 11.42295 | S16: 3.5 | T16: 4.22464 | U16: - | V16: - | W16: 0 | X16: 0 | Y16: 194.8532 | Z16: 333.24527 | AC16: 187 | AD16: 437.263 | AE16: 0 | AF16: 0 | AG16: 390.9632 | AH16: 957.923 | AI16: 0 | AJ16: 0 | AK16: 87.025 | AL16: 165.551 | AM16: 0 | AN16: 0 | AO16: 82.5 | AP16: 176.189
A17: 0204 | B17: Баранина или козлятина свежая, охлажденная или замороженная | C17: 0.3 | D17: 0.85 | E17: 0 | F17: 0 | G17: 4.5498 | H17: 12.222 | I17: 0 | J17: 0 | K17: 3 | L17: 9.226 | M17: 0 | N17: 0 | O17: 45.6024 | P17: 164.4513 | Q17: 19 | R17: 39.7105 | S17: 18.79148 | T17: 90.09133 | U17: - | V17: - | W17: 9.785 | X17: 47.088 | Y17: 0 | Z17: 0 | AE17: - | AF17: - | AG17: - | AH17: - | AI17: - | AJ17: - | AK17: - | AL17: - | AM17: - | AN17: - | AO17: - | AP17: -
A18: 0205 | B18: Мясо лошадей (конина), ослов, мулов или лошаков, свежее, охлажденное или мороженое | C18: - | D18: - | E18: - | F18: - | G18: 0.51 | H18: 1.451 | I18: 0 | J18: 0 | K18: 0 | L18: 0 | M18: 61.6479 | N18: 69.39432 | O18: - | P18: - | Q18: - | R18: - | S18: - | T18: - | U18: - | V18: - | W18: 41.0312 | X18: 123.20462 | Y18: 0 | Z18: 0 | AA18: 0.038 | AB18: 2.07 | AE18: - | AF18: - | AG18: - | AH18: - | AI18: - | AJ18: - | AK18: - | AL18: - | AM18: - | AN18: - | AO18: - | AP18: -
A19: 0208 | B19: Прочие мясо и пищевые мясные субпродукты, свежие, охлажденные или замороженные | C19: 0 | D19: 0 | E19: 0.336 | F19: 0.94363 | G19: - | H19: - | I19: - | J19: - | K19: - | L19: - | M19: - | N19: - | O19: - | P19: - | Q19: - | R19: - | S19: - | T19: - | U19: - | V19: - | W19: - | X19: - | Y19: - | Z19: - | AE19: - | AF19: - | AG19: - | AH19: - | AI19: - | AJ19: - | AK19: - | AL19: - | AM19: - | AN19: - | AO19: - | AP19: -
A20: 0301 | B20: Живая рыба | C20: 0 | D20: 0 | E20: 0.06 | F20: 0.227 | G20: - | H20: - | I20: - | J20: - | K20: - | L20: - | M20: - | N20: - | O20: - | P20: - | Q20: - | R20: - | S20: - | T20: - | U20: 0.05 | V20: 1.27737 | W20: 0 | X20: 0 | Y20: 0.1 | Z20: 15.49 | AC20: 0.8 | AD20: 6.72436 | AE20: 0 | AF20: 0 | AG20: 1.2655 | AH20: 45.11136 | AI20: - | AJ20: - | AK20: - | AL20: - | AM20: 0 | AN20: 0 | AO20: 5.5 | AP20: 2.994
A21: 0302 | B21: Рыба свежая или охлажденная, за исключением рыбного филе и прочего мяса рыбы товарной позиции 0304 | C21: 0 | D21: 0 | E21: 2.65133 | F21: 3.909 | G21: 0 | H21: 0 | I21: 1.0048 | J21: 3.1423 | K21: - | L21: - | M21: - | N21: - | O21: - | P21: - | Q21: - | R21: - | S21: - | T21: - | U21: 0.005 | V21: 1.508 | W21: 0 | X21: 0 | Y21: 0.56 | Z21: 4.855 | AE21: - | AF21: - | AG21: - | AH21: - | AI21: - | AJ21: - | AK21: - | AL21: - | AM21: - | AN21: - | AO21: - | AP21: -
A22: 0303 | B22: Рыба мороженая, за исключением рыбного филе и прочего мяса рыбы товарной позиции 0304 | C22: 0 | D22: 0 | E22: 26.4329 | F22: 35.205 | G22: 0 | H22: 0 | I22: 32.138 | J22: 44.12916 | K22: 0 | L22: 0 | M22: 312.9543 | N22: 353.71889 | O22: 0 | P22: 0 | Q22: 269.19235 | R22: 293.68969 | S22: 5.125 | T22: 4.255 | U22: 253.49188 | V22: 453.08444 | W22: 1.587 | X22: 12.52036 | Y22: 292.16673 | Z22: 356.54636 | AC22: 270.51639 | AD22: 312.99402 | AE22: 0 | AF22: 0 | AG22: 306.9825 | AH22: 501.38719 | AI22: 0 | AJ22: 0 | AK22: 72.373 | AL22: 101.42488 | AM22: 0 | AN22: 0 | AO22: 95.485 | AP22: 140.85978
A23: 0306 | B23: Ракообразные, в панцире или без панциря, живые, свежие, охлажденные, мороженые, сушеные, соленые или в рассоле; ракообразные в панцире, сваренные на пару или в кипящей воде, охлажденные или неохлажденные, мороженые, сушеные, соленые или в рассоле; мука | C23: 0 | D23: 0 | E23: 0.035 | F23: 0.088 | G23: 0 | H23: 0 | I23: 0.145 | J23: 0.551 | K23: 0 | L23: 0 | M23: 0.155 | N23: 0.40231 | O23: 0 | P23: 0 | Q23: 0.169 | R23: 0.65435 | S23: - | T23: - | U23: 0.141 | V23: 0.891 | W23: 0 | X23: 0 | Y23: 0.122 | Z23: 0.56307 | AC23: 0.05 | AD23: 0.50288 | AE23: - | AF23: - | AG23: - | AH23: - | AI23: - | AJ23: - | AK23: - | AL23: - | AM23: - | AN23: - | AO23: - | AP23: -
A24: 0307 | B24: Моллюски, в раковине или без раковины, живые, свежие, охлажденные, мороженые, сушеные, соленые или в рассоле; водные беспозвоночные, отличные от ракообразных и моллюсков, живые, свежие, охлажденные, мороженые, сушеные, соленые или в рассоле; мука тонког | C24: 0 | D24: 0 | E24: 2.8873 | F24: 37.52 | G24: 0 | H24: 0 | I24: 3.9128 | J24: 33.56403 | K24: 0 | L24: 0 | M24: 3.9258 | N24: 34.92422 | O24: 0 | P24: 0 | Q24: 3.6534 | R24: 26.31434 | S24: - | T24: - | U24: 2.928 | V24: 21.70952 | W24: 0 | X24: 0 | Y24: 2.44146 | Z24: 23.12057 | AC24: 3.0297 | AD24: 26.64844 | AE24: 0 | AF24: 0 | AG24: 3.45674 | AH24: 32.86078 | AI24: 0 | AJ24: 0 | AK24: 0.89654 | AL24: 6.7692 | AM24: 0 | AN24: 0 | AO24: 0.73608 | AP24: 7.86302
A25: 0407 | B25: Яйца птиц, в скорлупе, свежие, консервированные или вареные | C25: 2714.484 | D25: 2035.9308 | E25: 10.871 | F25: 81.7087 | G25: 5701.6226 | H25: 4350.2023 | I25: 137.80523 | J25: 384.04606 | K25: 6034.3339 | L25: 4373.1588 | M25: 140.54067 | N25: 388.98702 | O25: 9355.4619 | P25: 7229.0525 | Q25: 465.131 | R25: 2031.0542 | S25: 8811.2238 | T25: 7157.5627 | U25: 1387.361 | V25: 6057.5368 | W25: 5196.0376 | X25: 4869.2862 | Y25: 1755.334 | Z25: 7792.9829 | AA25: 2801.969 | AB25: 2762.6555 | AC25: 1911.816 | AD25: 8787.6852 | AE25: 4235.022 | AF25: 4392.6673 | AG25: 820.8353 | AH25: 3874.4887 | AI25: 922.224 | AJ25: 873.667 | AK25: 225.401 | AL25: 1043.7569 | AM25: 744.305 | AN25: 1023.149 | AO25: 259.064 | AP25: 1312.4689
A26: 0408 | B26: Яйца птиц без скорлупы и яичные желтки, свежие, сушеные, сваренные на пару или в кипящей воде, формованные, замороженные или консервированные другим способом, с добавлением или без добавления сахара или других подслащивающих веществ | C26: 2.22 | D26: 5.524 | E26: 7.6 | F26: 9.464 | G26: 5 | H26: 9.934 | I26: 0.1 | J26: 0.167 | K26: 6 | L26: 13.559 | M26: 0 | N26: 0 | O26: 7.81 | P26: 11.13267 | Q26: 0 | R26: 0 | S26: - | T26: - | U26: 1.14 | V26: 2.10135 | W26: 80.1 | X26: 184.50401 | Y26: 1.66 | Z26: 2.93061 | AA26: 103.22 | AB26: 277.90618 | AC26: 1.36 | AD26: 2.97211 | AE26: 100.28 | AF26: 291.6945 | AG26: 1.36 | AH26: 3.69829 | AI26: 17.68 | AJ26: 75.58491 | AK26: 0.3 | AL26: 0.68362 | AM26: 28.04 | AN26: 60.67989 | AO26: 0.3 | AP26: 0.67358
A27: 0409 | B27: Мед натуральный | C27: - | D27: - | E27: - | F27: - | G27: 8.3 | H27: 21.25 | I27: 0 | J27: 0 | K27: - | L27: - | M27: - | N27: - | O27: 0 | P27: 0 | Q27: 0.219 | R27: 1.213 | S27: - | T27: - | U27: - | V27: - | W27: - | X27: - | Y27: - | Z27: - | AC27: 1.12304 | AD27: 2.08653 | AE27: 0 | AF27: 0 | AG27: 40.7549 | AH27: 64.18967 | AI27: - | AJ27: - | AK27: - | AL27: - | AM27: - | AN27: - | AO27: - | AP27: -
A28: 0410 | B28: Продукты пищевые животного происхождения, в другом месте не поименованные | C28: - | D28: - | E28: - | F28: - | G28: - | H28: - | I28: - | J28: - | K28: - | L28: - | M28: - | N28: - | O28: - | P28: - | Q28: - | R28: - | S28: - | T28: - | U28: - | V28: - | W28: - | X28: - | Y28: - | Z28: - | AE28: - | AF28: - | AG28: - | AH28: - | AI28: - | AJ28: - | AK28: - | AL28: - | AM28: - | AN28: - | AO28: - | AP28: -
