Workbook

Sheet Metadata
A2: Code of the Statistical Indicator | B2: 312101, 312103
A3: Name of the Statistical Indicator | B3: Turnover in foreign currency, Goods transported in physical terms in the main unit of measurement
A4: Unit of Measurement | B4: thousand US dollars, tons
A5: Abbreviated Title of the Statistical Indicator | B5: Turnover in foreign currency, Goods transported in physical terms in the main unit of measurement
A6: History of the Indicator | B6: The indicator has been compiled since 2015.
A7: Definition of the Indicator | B7: Trade turnover of the Republic of Kazakhstan with the member states of the Eurasian Economic Union
A8: Data Processing Method | B8: Calculated, aggregation
A9: Methodology for Calculation | B9: Methodology for maintaining statistics of mutual trade in goods of the member states of the Eurasian Economic Union Approved By the decision of the Board of the Eurasian Economic Commission dated December 25, 2018 No.210
A10: Source of the Indicator | B10: The main source of information is the data from the statistical reporting 1-TC «Report on mutual trade in goods with the member States of the Eurasian Economic Union» with the EAEU countries
A11: Notes
A12: Classifications | B12: https://stat.gov.kz/classifiers/statistical/115/
A13: Methodological Explanations: | B13: https://stat.gov.kz/methodology/95/
A14: Related Publications: | B14: https://stat.gov.kz/region/almatyobl/dynamic-tables/4481/
A15: Useful Links: | B15: https://taldau.stat.gov.kz/kk/Search/SearchByKeyWord
A16: Date of Last Update: | B16: 46314
A17: Date of Next Update: | B17: 46345
A18: Responsible Structural Division | B18: Division of trade, services and prices statistics
A19: Responsible Officer | B19: Akhmetova Z.
A20: Telephone Number: | B20: +7 727 2778124
A21: E-mail: | B21: za.akhmetova@aspire.gov.kz

Sheet Conventions
B6: Conventional designations:
B7: «-» - no case
B8: «0.0» - insignificant value
B9: «X» - data is confidential
B10: «...» - no data available
B12: In some cases, minor discrepancies between the total and the sum of the terms are explained by the rounding of the data.
B18: © Agency for Strategic planning and reforms of the Republic of Kazakhstan Bureau of National statistics

Sheet 2015-2026
A1: Export and import of crop products
A2: Almaty
A4: CNFEA EAEU | B4: Name of product | C4: 2015 | G4: 2016 | K4: 2017 | O4: 2018 | S4: 2019 | W4: 2020 | AA4: 2021 | AE4: 2022 | AI4: 2023 | AM4: 2024 | AQ4: 2025 | AU4: January-August 2025 | AY4: January-August 2026*
C5: export | E5: import | G5: export | I5: import | K5: export | M5: import | O5: export | Q5: import | S5: export | U5: import | W5: export | Y5: import | AA5: export | AC5: import | AE5: export | AG5: import | AI5: export | AK5: import | AM5: export | AO5: import | AQ5: export | AS5: import | AU5: export | AW5: import | AY5: export | BA5: import
C6: tons | D6: thousand US dollars | E6: tons | F6: thousand US dollars | G6: tons | H6: thousand US dollars | I6: tons | J6: thousand US dollars | K6: tons | L6: thousand US dollars | M6: tons | N6: thousand US dollars | O6: tons | P6: thousand US dollars | Q6: tons | R6: thousand US dollars | S6: tons | T6: thousand US dollars | U6: tons | V6: thousand US dollars | W6: tons | X6: thousand US dollars | Y6: tons | Z6: thousand US dollars | AA6: tons | AB6: thousand US dollars | AC6: tons | AD6: thousand US dollars | AE6: tons | AF6: thousand US dollars | AG6: tons | AH6: thousand US dollars | AI6: tons | AJ6: thousand US dollars | AK6: tons | AL6: thousand US dollars | AM6: tons | AN6: thousand US dollars | AO6: tons | AP6: thousand US dollars | AQ6: tons | AR6: thousand US dollars | AS6: tons | AT6: thousand US dollars | AU6: tons | AV6: thousand US dollars | AW6: tons | AX6: thousand US dollars | AY6: tons | AZ6: thousand US dollars | BA6: tons | BB6: thousand US dollars
B7: Total | C7: 9358.364 | D7: 9358.364 | E7: 9358.364 | F7: 9358.364 | G7: 9358.364 | H7: 9358.364 | I7: 9358.364 | J7: 9358.364 | K7: 9358.364 | L7: 9358.364 | M7: 9358.364 | N7: 9358.364 | O7: 31892.372 | P7: 12457.375 | Q7: 28625.773 | R7: 25966.897 | S7: 29820.318 | T7: 17668.223 | U7: 17105.724 | V7: 28918.456 | W7: 19831.87 | X7: 9210.0031 | Y7: 36698.593 | Z7: 36082.693 | AA7: 23641.159 | AB7: 13834.054 | AC7: 162654.06 | AD7: 66294.34 | AE7: 5108.99 | AF7: 5774.6201 | AG7: 75625.473 | AH7: 41427.558 | AI7: 2535.0402 | AJ7: 3696.225 | AK7: 144257.63 | AL7: 26609.469 | AM7: 7049.9158 | AN7: 13480.03 | AO7: 127928 | AP7: 39602.431 | AQ7: 17491.737 | AR7: 25174.797 | AS7: 262631.84 | AT7: 51632.975 | AU7: 9391.2065 | AV7: 11926.53 | AW7: 47702.243 | AX7: 13459.666 | AY7: 6137.0199 | AZ7: 9050.1424 | BA7: 87301.007 | BB7: 19235.352
A8: 0601 | B8: Bulbs, tubers, tuberous roots, corms, rhizomes, including branched ones, in a state of vegetative dormancy, vegetation, or flowering; chicory plants and roots other than those of heading 1212 | AA8: 0.109 | AB8: 0.749 | AC8: 0 | AD8: 0 | AQ8: 29.7 | AR8: 242.43994 | AS8: 0 | AT8: 0
A9: 0602 | B9: Other live plants (including their roots), cuttings and cuttings; mushroom mycelium | C9: 0 | D9: 0 | E9: 17.15 | F9: 91.04577 | G9: 0 | H9: 0 | I9: 159.8096 | J9: 194.52702 | K9: 0 | L9: 0 | M9: 37.654 | N9: 53.6201 | O9: 0 | P9: 0 | Q9: 25.565 | R9: 48.17136 | S9: 6.2 | T9: 4.487 | U9: 280.15053 | V9: 96.13693 | W9: 1.115 | X9: 10.081 | Y9: 105.0622 | Z9: 131.47602 | AA9: 0.44 | AB9: 3.377 | AC9: 56.506 | AD9: 83.68923 | AE9: 1.182 | AF9: 9.51929 | AG9: 315.301 | AH9: 420.74276 | AI9: 1.3 | AJ9: 1.4105 | AK9: 1128.8226 | AL9: 438.74548 | AM9: 0 | AN9: 0 | AO9: 2121.0306 | AP9: 498.76952 | AQ9: 0 | AR9: 0 | AS9: 3413.0303 | AT9: 1008.7682 | AU9: =VLOOKUP($A$8:$A$72,[1]Лист1!$A$15:$I$2062,4,0) -> 0 | AV9: =VLOOKUP($A$8:$A$72,[1]Лист1!$A$15:$I$2062,6,0) -> 0 | AW9: =VLOOKUP($A$8:$A$72,[1]Лист1!$A$15:$I$2062,7,0) -> 2112.3074 | AX9: =VLOOKUP($A$8:$A$72,[1]Лист1!$A$15:$I$2062,9,0) -> 433.01418 | AY9: 1328.842 | AZ9: 1096.9984 | BA9: 908.771 | BB9: 986.90063
A10: 0603 | B10: Cut flowers and buds suitable for arranging bouquets or for decorative purposes, fresh, dried, dyed, bleached, impregnated or otherwise prepared | G10: 1.55 | H10: 2.2794 | I10: 0 | J10: 0 | K10: 30 | L10: 41.545 | M10: 0 | N10: 0 | O10: 517.378 | P10: 663.1993 | Q10: 0.62 | R10: 1.17136 | S10: 186.457 | T10: 319.4363 | U10: 0 | V10: 0 | W10: 240.883 | X10: 227.04551 | Y10: 0 | Z10: 0 | AA10: 192.197 | AB10: 131.47998 | AC10: 0 | AD10: 0 | AE10: 69.72 | AF10: 161.033 | AG10: 0 | AH10: 0 | AI10: 16.2682 | AJ10: 33.39785 | AK10: 0 | AL10: 0 | AM10: 139.58709 | AN10: 543.36289 | AO10: 0 | AP10: 0 | AQ10: 46.9082 | AR10: 71.6781 | AS10: 2.3 | AT10: 3.56606 | AU10: =VLOOKUP($A$8:$A$72,[1]Лист1!$A$15:$I$2062,4,0) -> 28.5752 | AV10: =VLOOKUP($A$8:$A$72,[1]Лист1!$A$15:$I$2062,6,0) -> 50.2551 | AW10: =VLOOKUP($A$8:$A$72,[1]Лист1!$A$15:$I$2062,7,0) -> 2.3 | AX10: =VLOOKUP($A$8:$A$72,[1]Лист1!$A$15:$I$2062,9,0) -> 3.56606 | AY10: 34.62389 | AZ10: 93.33704 | BA10: 0 | BB10: 0
A11: 0604 | B11: Leaves, twigs and other parts of plants without flowers or buds, herbs, mosses and lichens, suitable for bouquets or ornamental purposes, fresh, dried, dyed, bleached, impregnated or otherwise prepared | G11: 0 | H11: 0 | I11: 2.429 | J11: 19.6212 | O11: 0 | P11: 0 | Q11: 2.3061 | R11: 7.51789 | S11: 0.003 | T11: 0.209 | U11: 11.8868 | V11: 13.5067 | W11: 0 | X11: 0 | Y11: 3.385 | Z11: 5.97062 | AA11: 0.425 | AB11: 0.40908 | AC11: 0.45 | AD11: 0.97838 | AM11: 0.004 | AN11: 0.0045 | AO11: 0 | AP11: 0 | AQ11: 0 | AR11: 0 | AS11: 0.012 | AT11: 0.00338 | AU11: =VLOOKUP($A$8:$A$72,[1]Лист1!$A$15:$I$2062,4,0) -> 0 | AV11: =VLOOKUP($A$8:$A$72,[1]Лист1!$A$15:$I$2062,6,0) -> 0 | AW11: =VLOOKUP($A$8:$A$72,[1]Лист1!$A$15:$I$2062,7,0) -> 0.012 | AX11: =VLOOKUP($A$8:$A$72,[1]Лист1!$A$15:$I$2062,9,0) -> 0.00338 | AY11: 0 | AZ11: 0 | BA11: 1.5 | BB11: 3.522
A12: 0701 | B12: Fresh or chilled potatoes | C12: 0 | D12: 0 | E12: 260 | F12: 146.24466 | K12: 1.57 | L12: 0.71884 | M12: 1104.9 | N12: 189.74893 | O12: 0 | P12: 0 | Q12: 266.584 | R12: 90.951 | S12: 376.354 | T12: 41.5558 | U12: 169.5 | V12: 28.82822 | W12: 17.7182 | X12: 9.096 | Y12: 947.565 | Z12: 239.99838 | AA12: 0 | AB12: 0 | AC12: 0.1875 | AD12: 0.274 | AE12: 0 | AF12: 0 | AG12: 974 | AH12: 98.17142 | AI12: 0 | AJ12: 0 | AK12: 21672.306 | AL12: 926.75648 | AM12: 0 | AN12: 0 | AO12: 17894.916 | AP12: 1942.9284 | AQ12: 0 | AR12: 0 | AS12: 2486.918 | AT12: 583.83865 | AU12: =VLOOKUP($A$8:$A$72,[1]Лист1!$A$15:$I$2062,4,0) -> 0 | AV12: =VLOOKUP($A$8:$A$72,[1]Лист1!$A$15:$I$2062,6,0) -> 0 | AW12: =VLOOKUP($A$8:$A$72,[1]Лист1!$A$15:$I$2062,7,0) -> 67.85 | AX12: =VLOOKUP($A$8:$A$72,[1]Лист1!$A$15:$I$2062,9,0) -> 26.69605
A13: 0702 | B13: Fresh or chilled tomatoes | G13: 657.464 | H13: 796.8214 | I13: 0 | J13: 0 | K13: 2682.982 | L13: 4185.4254 | M13: 1.541 | N13: 0.88552 | O13: 3150.7242 | P13: 4002.3577 | Q13: 4.682 | R13: 2.86798 | S13: 2176.002 | T13: 3202.943 | U13: 0 | V13: 0 | W13: 2712.2217 | X13: 3089.9459 | Y13: 3.795 | Z13: 0.502 | AA13: 2756.8505 | AB13: 3643.8627 | AC13: 1.638 | AD13: 0.2222 | AE13: 918.33459 | AF13: 1507.787 | AG13: 20 | AH13: 2.407 | AI13: 608.29622 | AJ13: 1050.9816 | AK13: 43.545 | AL13: 17.8314 | AM13: 4623.2884 | AN13: 10276.893 | AO13: 103.42 | AP13: 6.92712 | AQ13: 1249.368 | AR13: 1782.313 | AS13: 74.1 | AT13: 15.13214 | AU13: =VLOOKUP($A$8:$A$72,[1]Лист1!$A$15:$I$2062,4,0) -> 506.96 | AV13: =VLOOKUP($A$8:$A$72,[1]Лист1!$A$15:$I$2062,6,0) -> 750.81045 | AW13: =VLOOKUP($A$8:$A$72,[1]Лист1!$A$15:$I$2062,7,0) -> 74.1 | AX13: =VLOOKUP($A$8:$A$72,[1]Лист1!$A$15:$I$2062,9,0) -> 15.13214 | AY13: 2326.014 | AZ13: 3752.0769 | BA13: 0 | BB13: 0
A14: 0703 | B14: Onions, shallots, garlic, leeks and other bulbous vegetables, fresh or chilled | C14: 4251.285 | D14: 658.74904 | E14: 0 | F14: 0 | G14: 3715.818 | H14: 386.2531 | I14: 1595.769 | J14: 298.77156 | K14: 5293.37 | L14: 1093.9268 | M14: 0 | N14: 0 | O14: 6662.7956 | P14: 698.8609 | Q14: 7.736 | R14: 1.69624 | S14: 3902.4819 | T14: 627.9663 | U14: 0.5882 | V14: 0.46925 | W14: 4647.6402 | X14: 850.25417 | Y14: 44.34 | Z14: 10.4645 | AA14: 6930.3783 | AB14: 1417.4045 | AC14: 0.2 | AD14: 0.372 | AE14: 369.785 | AF14: 79.08499 | AG14: 0 | AH14: 0 | AI14: 4.642 | AJ14: 8.51891 | AK14: 83.8 | AL14: 9.86117 | AM14: 320.773 | AN14: 128.4375 | AO14: 49.58 | AP14: 6.75505 | AQ14: 11.842 | AR14: 13.417 | AS14: 1.25 | AT14: 0.30189 | AU14: =VLOOKUP($A$8:$A$72,[1]Лист1!$A$15:$I$2062,4,0) -> 8.843 | AV14: =VLOOKUP($A$8:$A$72,[1]Лист1!$A$15:$I$2062,6,0) -> 9.13 | AW14: =VLOOKUP($A$8:$A$72,[1]Лист1!$A$15:$I$2062,7,0) -> 1.2 | AX14: =VLOOKUP($A$8:$A$72,[1]Лист1!$A$15:$I$2062,9,0) -> 0.27722 | AY14: 105.878 | AZ14: 43.696 | BA14: 0 | BB14: 0
A15: 0704 | B15: Cabbage, cauliflower, kohlrabi, collard greens and similar edible vegetables of the genus brassica, fresh or chilled | G15: 30.4386 | H15: 9.14819 | I15: 1506.343 | J15: 195.5178 | K15: 55.178 | L15: 34.69089 | M15: 106.487 | N15: 18.887 | O15: 270.6101 | P15: 43.78387 | Q15: 21.76 | R15: 0.479 | S15: 939.15403 | T15: 128.6513 | U15: 13.603 | V15: 2.36799 | W15: 683.13405 | X15: 124.3433 | Y15: 13.2 | Z15: 2.4562 | AA15: 764.80445 | AB15: 233.129 | AC15: 52 | AD15: 4.316 | AE15: 21.97 | AF15: 30.668 | AG15: 3.906 | AH15: 0.337 | AI15: 0 | AJ15: 0 | AK15: 160.095 | AL15: 8.00814 | AM15: 249.486 | AN15: 166.05306 | AO15: 907.5 | AP15: 21.22009 | AQ15: 21 | AR15: 4.32 | AS15: 22.492 | AT15: 9.75552 | AU15: =VLOOKUP($A$8:$A$72,[1]Лист1!$A$15:$I$2062,4,0) -> 21 | AV15: =VLOOKUP($A$8:$A$72,[1]Лист1!$A$15:$I$2062,6,0) -> 4.32 | AW15: =VLOOKUP($A$8:$A$72,[1]Лист1!$A$15:$I$2062,7,0) -> 20.142 | AX15: =VLOOKUP($A$8:$A$72,[1]Лист1!$A$15:$I$2062,9,0) -> 7.75552 | AY15: 0 | AZ15: 0 | BA15: 3.96 | BB15: 1.70311
A16: 0705 | B16: Lettuce (lactuca sativa) and chicory (cichorium spp.), fresh or chilled | K16: 81.492 | L16: 109.3495 | M16: 0 | N16: 0 | O16: 0 | P16: 0 | Q16: 11.707 | R16: 18.69868 | S16: 0 | T16: 0 | U16: 62.1271 | V16: 51.96076 | W16: 0 | X16: 0 | Y16: 209.316 | Z16: 75.0407 | AA16: 16.137 | AB16: 57.06278 | AC16: 316.48 | AD16: 205.06063 | AE16: 105.945 | AF16: 189.98533 | AG16: 101.496 | AH16: 81.40641 | AI16: 33.7 | AJ16: 103.1914 | AK16: 102.7128 | AL16: 105.58931 | AM16: 42.203 | AN16: 286.553 | AO16: 102.137 | AP16: 161.871 | AQ16: 57.107 | AR16: 231.088 | AS16: 70.342 | AT16: 81.24424 | AU16: =VLOOKUP($A$8:$A$72,[1]Лист1!$A$15:$I$2062,4,0) -> 35.953 | AV16: =VLOOKUP($A$8:$A$72,[1]Лист1!$A$15:$I$2062,6,0) -> 145.398 | AW16: =VLOOKUP($A$8:$A$72,[1]Лист1!$A$15:$I$2062,7,0) -> 46.024 | AX16: =VLOOKUP($A$8:$A$72,[1]Лист1!$A$15:$I$2062,9,0) -> 51.5146 | AY16: 8.957 | AZ16: 40.746 | BA16: 111.0027 | BB16: 135.42357
A17: 0706 | B17: Carrots, turnips, table beets, goatskins, celeriac, radishes and other similar edible root vegetables, fresh or chilled | K17: 39.88 | L17: 50.97677 | M17: 17.769 | N17: 0.375 | O17: 12 | P17: 0.48 | Q17: 349.5 | R17: 7.3024 | S17: 0 | T17: 0 | U17: 0.17 | V17: 0.27525 | W17: 29.0016 | X17: 14.083 | Y17: 9.95 | Z17: 2.57517 | AA17: 0 | AB17: 0 | AC17: 50.502 | AD17: 20.11319 | AE17: 0 | AF17: 0 | AG17: 23.33 | AH17: 9.06157 | AI17: 0 | AJ17: 0 | AK17: 10615.716 | AL17: 368.04539 | AM17: 0 | AN17: 0 | AO17: 1541.43 | AP17: 98.32409 | AQ17: 0 | AR17: 0 | AS17: 1450.83 | AT17: 113.21992 | AU17: =VLOOKUP($A$8:$A$72,[1]Лист1!$A$15:$I$2062,4,0) -> 0 | AV17: =VLOOKUP($A$8:$A$72,[1]Лист1!$A$15:$I$2062,6,0) -> 0 | AW17: =VLOOKUP($A$8:$A$72,[1]Лист1!$A$15:$I$2062,7,0) -> 1450.28 | AX17: =VLOOKUP($A$8:$A$72,[1]Лист1!$A$15:$I$2062,9,0) -> 112.88692
A18: 0707 | B18: Cucumbers and gherkins, fresh or chilled | C18: 270.504 | D18: 149.89587 | E18: 0 | F18: 0 | G18: 972.67658 | H18: 732.98795 | I18: 0 | J18: 0 | K18: 2172.116 | L18: 2347.7421 | M18: 0 | N18: 0 | O18: 3100.816 | P18: 3253.3918 | Q18: 1.4114 | R18: 3.03371 | S18: 2302.967 | T18: 2110.7494 | U18: 5.3798 | V18: 0.94407 | W18: 914.22124 | X18: 671.45241 | Y18: 20 | Z18: 2.608 | AA18: 1388.3429 | AB18: 1500.7219 | AC18: 0 | AD18: 0 | AE18: 1299.2659 | AF18: 1668.6054 | AG18: 0 | AH18: 0 | AI18: 832.88611 | AJ18: 1615.9237 | AK18: 153.59 | AL18: 15.83195 | AM18: 1129.4766 | AN18: 1535.9224 | AO18: 54.25 | AP18: 4.8762 | AQ18: 5042.1755 | AR18: 7894.8374 | AS18: 31.831 | AT18: 8.0055 | AU18: =VLOOKUP($A$8:$A$72,[1]Лист1!$A$15:$I$2062,4,0) -> 3605.2225 | AV18: =VLOOKUP($A$8:$A$72,[1]Лист1!$A$15:$I$2062,6,0) -> 5401.8654 | AW18: =VLOOKUP($A$8:$A$72,[1]Лист1!$A$15:$I$2062,7,0) -> 31.831 | AX18: =VLOOKUP($A$8:$A$72,[1]Лист1!$A$15:$I$2062,9,0) -> 8.0055 | AY18: 1943.829 | AZ18: 3099.722 | BA18: 0 | BB18: 0
A19: 0708 | B19: Leguminous vegetables, whether or not shelled, fresh or chilled | K19: 3.445 | L19: 2.83762 | M19: 0 | N19: 0 | O19: 6 | P19: 0.34 | Q19: 0.13 | R19: 0.57723 | W19: 1.2 | X19: 0.48539 | Y19: 0 | Z19: 0 | AA19: 4.614 | AB19: 2.00487 | AC19: 0 | AD19: 0 | AE19: 3.6 | AF19: 2.031 | AG19: 0.497 | AH19: 2.16809 | AI19: 3 | AJ19: 1.41066 | AK19: 0.186 | AL19: 2.25519 | AM19: 0.8 | AN19: 0.383 | AO19: 0 | AP19: 0 | AY19: 0 | AZ19: 0 | BA19: 0.6 | BB19: 0.15644
A20: 0709 | B20: Other vegetables, fresh or chilled | C20: 0 | D20: 0 | E20: 0.0005 | F20: 0.00355 | G20: 0 | H20: 0 | I20: 0.0008 | J20: 0.00457 | K20: 1043.08 | L20: 997.50324 | M20: 0.0761 | N20: 0.2021 | O20: 3051.154 | P20: 703.23007 | Q20: 268.958 | R20: 25.76774 | S20: 438.809 | T20: 434.49841 | U20: 36.361 | V20: 55.85825 | W20: 295.58 | X20: 293.45714 | Y20: 526.639 | Z20: 688.48326 | AA20: 37.391 | AB20: 45.83437 | AC20: 1317.6132 | AD20: 1775.7707 | AE20: 248.207 | AF20: 355.17052 | AG20: 632.6906 | AH20: 902.91853 | AI20: 235.911 | AJ20: 211.6811 | AK20: 137.8652 | AL20: 69.12176 | AM20: 42.699 | AN20: 195.969 | AO20: 5755.8992 | AP20: 648.52153 | AQ20: 51.954 | AR20: 177.42 | AS20: 2050.01 | AT20: 4293.5927 | AU20: =VLOOKUP($A$8:$A$72,[1]Лист1!$A$15:$I$2062,4,0) -> 32.767 | AV20: =VLOOKUP($A$8:$A$72,[1]Лист1!$A$15:$I$2062,6,0) -> 110.119 | AW20: =VLOOKUP($A$8:$A$72,[1]Лист1!$A$15:$I$2062,7,0) -> 1353.355 | AX20: =VLOOKUP($A$8:$A$72,[1]Лист1!$A$15:$I$2062,9,0) -> 2835.533 | AY20: 7.726 | AZ20: 32.215 | BA20: 939.64117 | BB20: 2069.3047
A21: 0710 | B21: Vegetables (raw or boiled in water or steamed) frozen | C21: 0 | D21: 0 | E21: 0.2266 | F21: 0.272 | G21: 0 | H21: 0 | I21: 1.864 | J21: 2.67969 | K21: 0 | L21: 0 | M21: 59.857 | N21: 16.76 | O21: 0.024 | P21: 0.03825 | Q21: 12.368 | R21: 18.14951 | S21: 0.09 | T21: 0.20527 | U21: 44.399 | V21: 14.29099 | W21: 0 | X21: 0 | Y21: 57.2794 | Z21: 14.54475 | AA21: 6.54 | AB21: 8.10314 | AC21: 4.56 | AD21: 12.52503 | AE21: 0 | AF21: 0 | AG21: 3.095 | AH21: 12.94795 | AI21: 0 | AJ21: 0 | AK21: 203.329 | AL21: 50.09137 | AM21: 9.4 | AN21: 13.579 | AO21: 83.235 | AP21: 53.47735 | AQ21: 0 | AR21: 0 | AS21: 66.712 | AT21: 109.99676 | AU21: =VLOOKUP($A$8:$A$72,[1]Лист1!$A$15:$I$2062,4,0) -> 0 | AV21: =VLOOKUP($A$8:$A$72,[1]Лист1!$A$15:$I$2062,6,0) -> 0 | AW21: =VLOOKUP($A$8:$A$72,[1]Лист1!$A$15:$I$2062,7,0) -> 25.193 | AX21: =VLOOKUP($A$8:$A$72,[1]Лист1!$A$15:$I$2062,9,0) -> 45.07181 | AY21: 0 | AZ21: 0 | BA21: 28.781 | BB21: 56.84107
A22: 0713 | B22: Legume vegetables, dried, peeled, seeded or unpeeled, split or not split | C22: 0 | D22: 0 | E22: 1.5544 | F22: 1.00422 | G22: 0 | H22: 0 | I22: 11.016 | J22: 6.52593 | K22: 0 | L22: 0 | M22: 0.504 | N22: 0.26674 | O22: 0 | P22: 0 | Q22: 44.19273 | R22: 36.04087 | W22: 0.64 | X22: 0.66568 | Y22: 0.005 | Z22: 0.012 | AA22: 20.026 | AB22: 16.77218 | AC22: 8.5 | AD22: 9.08 | AE22: 31.116 | AF22: 19.20686 | AG22: 3.25 | AH22: 3.6 | AI22: 10.132 | AJ22: 4.97435 | AK22: 7.71 | AL22: 9.93736 | AM22: 0.8 | AN22: 0.312 | AO22: 348.17167 | AP22: 12.85218 | AQ22: 7458.358 | AR22: 8585.2705 | AS22: 2.84 | AT22: 0.83306 | AU22: =VLOOKUP($A$8:$A$72,[1]Лист1!$A$15:$I$2062,4,0) -> 2799.3855 | AV22: =VLOOKUP($A$8:$A$72,[1]Лист1!$A$15:$I$2062,6,0) -> 3220.893 | AW22: =VLOOKUP($A$8:$A$72,[1]Лист1!$A$15:$I$2062,7,0) -> 2.84 | AX22: =VLOOKUP($A$8:$A$72,[1]Лист1!$A$15:$I$2062,9,0) -> 0.83306 | AY22: 3.36 | AZ22: 2.00422 | BA22: 0 | BB22: 0
A23: 0714 | B23: Cassava, arrowroot, salep, ground pear or Jerusalem artichoke, sweet potato or sweet potato and similar roots and tubers with a high starch or inulin content, fresh, chilled, frozen or dried, whole or sliced or in | AE23: 0 | AF23: 0 | AG23: 30.285 | AH23: 1.28595 | AI23: 0 | AJ23: 0 | AK23: 0.5355 | AL23: 1.29421 | AM23: 0 | AN23: 0 | AO23: 0.2815 | AP23: 0.674 | AQ23: 0 | AR23: 0 | AS23: 0.03 | AT23: 0.093 | AU23: =VLOOKUP($A$8:$A$72,[1]Лист1!$A$15:$I$2062,4,0) -> 0 | AV23: =VLOOKUP($A$8:$A$72,[1]Лист1!$A$15:$I$2062,6,0) -> 0 | AW23: =VLOOKUP($A$8:$A$72,[1]Лист1!$A$15:$I$2062,7,0) -> 0.03 | AX23: =VLOOKUP($A$8:$A$72,[1]Лист1!$A$15:$I$2062,9,0) -> 0.093
A24: 0801 | B24: Coconuts, Brazil nuts and cashew nuts, fresh or dried, whether or not shelled, with or without skin | G24: 0 | H24: 0 | I24: 0.46725 | J24: 1.821 | K24: 0 | L24: 0 | M24: 0.65 | N24: 2.9927 | O24: 0.0015 | P24: 0.02616 | Q24: 4.9076 | R24: 4.74059 | S24: 0 | T24: 0 | U24: 0.96875 | V24: 3.76116 | W24: 0 | X24: 0 | Y24: 1.95805 | Z24: 7.45651 | AA24: 15.876 | AB24: 16.16848 | AC24: 1.95366 | AD24: 8.98409 | AE24: 0 | AF24: 0 | AG24: 2.4019 | AH24: 11.57546 | AI24: 0.1 | AJ24: 0.226 | AK24: 4.28065 | AL24: 10.61829 | AM24: 1.219 | AN24: 3.48859 | AO24: 43.5252 | AP24: 74.22841 | AQ24: 3.474 | AR24: 12.33008 | AS24: 2.0538 | AT24: 7.9748 | AU24: =VLOOKUP($A$8:$A$72,[1]Лист1!$A$15:$I$2062,4,0) -> 2.349 | AV24: =VLOOKUP($A$8:$A$72,[1]Лист1!$A$15:$I$2062,6,0) -> 8.33408 | AW24: =VLOOKUP($A$8:$A$72,[1]Лист1!$A$15:$I$2062,7,0) -> 2.0488 | AX24: =VLOOKUP($A$8:$A$72,[1]Лист1!$A$15:$I$2062,9,0) -> 7.9028 | AY24: 0 | AZ24: 0 | BA24: 10.672 | BB24: 39.68611
A25: 0802 | B25: Other nuts, fresh or dried, whether or not shelled or peeled | K25: 0 | L25: 0 | M25: 0.1641 | N25: 1.42228 | O25: 0.15 | P25: 0.339 | Q25: 41.8914 | R25: 5.79069 | S25: 0 | T25: 0 | U25: 2.51671 | V25: 2.67498 | W25: 0 | X25: 0 | Y25: 0.309 | Z25: 0.22297 | AA25: 2703.58 | AB25: 3009.0014 | AC25: 0.001 | AD25: 0.009 | AE25: 16.6 | AF25: 5.461 | AG25: 2.032 | AH25: 7.1084 | AI25: 0 | AJ25: 0 | AK25: 134.494 | AL25: 35.03002 | AM25: 0 | AN25: 0 | AO25: 33.7 | AP25: 10.10446 | AQ25: 49.743 | AR25: 170.607 | AS25: 18.003 | AT25: 5.23007 | AU25: =VLOOKUP($A$8:$A$72,[1]Лист1!$A$15:$I$2062,4,0) -> 49.743 | AV25: =VLOOKUP($A$8:$A$72,[1]Лист1!$A$15:$I$2062,6,0) -> 170.607 | AW25: =VLOOKUP($A$8:$A$72,[1]Лист1!$A$15:$I$2062,7,0) -> 18.003 | AX25: =VLOOKUP($A$8:$A$72,[1]Лист1!$A$15:$I$2062,9,0) -> 5.23007 | AY25: 0 | AZ25: 0 | BA25: 3.34 | BB25: 0.92894
A26: 0803 | B26: Bananas, including plantains, fresh or dried | K26: 0 | L26: 0 | M26: 2200.3736 | N26: 1910.7284 | O26: 1336.2 | P26: 81.7367 | Q26: 1295.8726 | R26: 1146.8051 | S26: 0 | T26: 0 | U26: 1109.906 | V26: 870.654 | W26: 25 | X26: 26.829 | Y26: 5238.2201 | Z26: 3222.6245 | AA26: 7.5 | AB26: 4.255 | AC26: 6279.301 | AD26: 4691.7726 | AE26: 0 | AF26: 0 | AG26: 1864.0006 | AH26: 2186.8713 | AI26: 0 | AJ26: 0 | AK26: 41.12 | AL26: 71.92559 | AM26: 27.41 | AN26: 27.385 | AO26: 0.3221 | AP26: 1.548 | AQ26: 0 | AR26: 0 | AS26: 1.44 | AT26: 4.91047 | AU26: =VLOOKUP($A$8:$A$72,[1]Лист1!$A$15:$I$2062,4,0) -> 0 | AV26: =VLOOKUP($A$8:$A$72,[1]Лист1!$A$15:$I$2062,6,0) -> 0 | AW26: =VLOOKUP($A$8:$A$72,[1]Лист1!$A$15:$I$2062,7,0) -> 1.44 | AX26: =VLOOKUP($A$8:$A$72,[1]Лист1!$A$15:$I$2062,9,0) -> 4.91047
A27: 0804 | B27: Dates, figs, pineapples, avocados, guava, mango and mangosteen or garcinia, fresh or dried | K27: 136.569 | L27: 161.60198 | M27: 0 | N27: 0 | O27: 623.4 | P27: 32.892 | Q27: 4.002 | R27: 1.55628 | S27: 3.15 | T27: 6.48131 | U27: 2.856 | V27: 1.57496 | W27: 17.5 | X27: 19.596 | Y27: 86.5694 | Z27: 66.62548 | AA27: 245.586 | AB27: 258.362 | AC27: 290.31445 | AD27: 316.36119 | AE27: 28.5 | AF27: 25.255 | AG27: 24.84267 | AH27: 50.4429 | AI27: 0 | AJ27: 0 | AK27: 14.8709 | AL27: 22.21328 | AM27: 6.25 | AN27: 9.47 | AO27: 35.2117 | AP27: 82.08494 | AQ27: 6.74 | AR27: 4.629 | AS27: 28.126 | AT27: 110.76309 | AU27: =VLOOKUP($A$8:$A$72,[1]Лист1!$A$15:$I$2062,4,0) -> 6.74 | AV27: =VLOOKUP($A$8:$A$72,[1]Лист1!$A$15:$I$2062,6,0) -> 4.629 | AW27: =VLOOKUP($A$8:$A$72,[1]Лист1!$A$15:$I$2062,7,0) -> 21.64 | AX27: =VLOOKUP($A$8:$A$72,[1]Лист1!$A$15:$I$2062,9,0) -> 87.98247 | AY27: 0 | AZ27: 0 | BA27: 4.89308 | BB27: 3.05248
A28: 0805 | B28: Citrus fruits, fresh or dried | K28: 771.76 | L28: 210.70942 | M28: 25.598 | N28: 36.021 | O28: 1162.85 | P28: 56.42264 | Q28: 305.4926 | R28: 243.7522 | S28: 8145.25 | T28: 6803.1924 | U28: 0 | V28: 0 | W28: 0 | X28: 0 | Y28: 164.676 | Z28: 112.48358 | AA28: 0 | AB28: 0 | AC28: 825.0076 | AD28: 663.87766 | AE28: 110.755 | AF28: 77.74573 | AG28: 2957.3914 | AH28: 323.89401 | AI28: 0 | AJ28: 0 | AK28: 55.649 | AL28: 44.25929 | AM28: 0 | AN28: 0 | AO28: 47.6 | AP28: 18.08421 | AQ28: 51.425 | AR28: 76.006 | AS28: 144.95 | AT28: 88.58048 | AU28: =VLOOKUP($A$8:$A$72,[1]Лист1!$A$15:$I$2062,4,0) -> 51.425 | AV28: =VLOOKUP($A$8:$A$72,[1]Лист1!$A$15:$I$2062,6,0) -> 76.006 | AW28: =VLOOKUP($A$8:$A$72,[1]Лист1!$A$15:$I$2062,7,0) -> 50.88 | AX28: =VLOOKUP($A$8:$A$72,[1]Лист1!$A$15:$I$2062,9,0) -> 25.70117 | AY28: 0 | AZ28: 0 | BA28: 24.4 | BB28: 18.24241
A29: 0806 | B29: Grapes, fresh or dried | K29: 341.838 | L29: 282.73481 | M29: 86.607 | N29: 68.2596 | O29: 109.2 | P29: 7.0049 | Q29: 1355.4662 | R29: 132.87037 | S29: 0 | T29: 0 | U29: 350.722 | V29: 154.1828 | W29: 19.23 | X29: 11.70482 | Y29: 0.3 | Z29: 0.438 | AE29: 0 | AF29: 0 | AG29: 11.987 | AH29: 13.76235 | AI29: 0 | AJ29: 0 | AK29: 45.528 | AL29: 17.50732 | AM29: 0 | AN29: 0 | AO29: 28.52 | AP29: 9.7497 | AQ29: 75.003 | AR29: 109.78 | AS29: 9.25 | AT29: 3.22708 | AU29: =VLOOKUP($A$8:$A$72,[1]Лист1!$A$15:$I$2062,4,0) -> 75.003 | AV29: =VLOOKUP($A$8:$A$72,[1]Лист1!$A$15:$I$2062,6,0) -> 109.78 | AW29: =VLOOKUP($A$8:$A$72,[1]Лист1!$A$15:$I$2062,7,0) -> 7.39 | AX29: =VLOOKUP($A$8:$A$72,[1]Лист1!$A$15:$I$2062,9,0) -> 2.11689 | AY29: 0 | AZ29: 0 | BA29: 0.4 | BB29: 0.10313
A30: 0807 | B30: Melons (including watermelons) and papaya, fresh | C30: 4545.2 | D30: 685.99314 | E30: 0 | F30: 0 | G30: 5913.6773 | H30: 647.29801 | I30: 0 | J30: 0 | K30: 8085.292 | L30: 1139.8092 | M30: 0 | N30: 0 | O30: 7996.833 | P30: 1327.1285 | Q30: 0 | R30: 0 | S30: 8173.452 | T30: 1285.8668 | U30: 0 | V30: 0 | W30: 6760.4043 | X30: 1445.8675 | Y30: 24.75 | Z30: 5.543 | AA30: 5624.4887 | AB30: 1018.2179 | AC30: 0.1202 | AD30: 0.90532 | AE30: 18 | AF30: 6.55448 | AG30: 1.5 | AH30: 0.28002 | AI30: 171.782 | AJ30: 69.956 | AK30: 3.136 | AL30: 0.41483 | AM30: 8.04 | AN30: 6.416 | AO30: 0.2 | AP30: 0.02364 | AQ30: 0 | AR30: 0 | AS30: 20.92 | AT30: 8.67796 | AU30: =VLOOKUP($A$8:$A$72,[1]Лист1!$A$15:$I$2062,4,0) -> 0 | AV30: =VLOOKUP($A$8:$A$72,[1]Лист1!$A$15:$I$2062,6,0) -> 0 | AW30: =VLOOKUP($A$8:$A$72,[1]Лист1!$A$15:$I$2062,7,0) -> 20.92 | AX30: =VLOOKUP($A$8:$A$72,[1]Лист1!$A$15:$I$2062,9,0) -> 8.67796
A31: 0808 | B31: Apples, pears and quince, fresh | K31: 326.059 | L31: 171.0507 | M31: 52.147 | N31: 19.167 | O31: 2749.4697 | P31: 1007.4068 | Q31: 1208.006 | R31: 106.40503 | S31: 2455.8564 | T31: 1867.1366 | U31: 150.194 | V31: 25.87087 | W31: 2688.5801 | X31: 1948.2357 | Y31: 225.0975 | Z31: 32.9791 | AA31: 2066.8801 | AB31: 1693.7298 | AC31: 90.552 | AD31: 7.23462 | AE31: 650.93556 | AF31: 556.25423 | AG31: 18.605 | AH31: 29.5312 | AI31: 381.32603 | AJ31: 336.70505 | AK31: 908.814 | AL31: 283.90169 | AM31: 115.84956 | AN31: 97.93671 | AO31: 1202.01 | AP31: 308.69152 | AQ31: 794.31 | AR31: 770.275 | AS31: 283.576 | AT31: 55.45066 | AU31: =VLOOKUP($A$8:$A$72,[1]Лист1!$A$15:$I$2062,4,0) -> 561.046 | AV31: =VLOOKUP($A$8:$A$72,[1]Лист1!$A$15:$I$2062,6,0) -> 559.796 | AW31: =VLOOKUP($A$8:$A$72,[1]Лист1!$A$15:$I$2062,7,0) -> 274.825 | AX31: =VLOOKUP($A$8:$A$72,[1]Лист1!$A$15:$I$2062,9,0) -> 50.13108 | AY31: 204 | AZ31: 371.667 | BA31: 30.25 | BB31: 5.66553
A32: 0809 | B32: Apricots, cherries and black cherries, peaches (including nectarines), plums and sloes, fresh | G32: 0 | H32: 0 | I32: 0.25 | J32: 0.4455 | K32: 0 | L32: 0 | M32: 35.6603 | N32: 44.86278 | O32: 395.1 | P32: 15.95 | Q32: 5391.451 | R32: 522.28922 | S32: 126.844 | T32: 118.30081 | U32: 101.4986 | V32: 97.25999 | W32: 311.54 | X32: 69.58043 | Y32: 158.5 | Z32: 19.444 | AA32: 2.3 | AB32: 1.66888 | AC32: 19.1 | AD32: 1.252 | AE32: 0 | AF32: 0 | AG32: 66 | AH32: 56.90182 | AI32: 0 | AJ32: 0 | AK32: 674.944 | AL32: 296.49542 | AM32: 0 | AN32: 0 | AO32: 2249.16 | AP32: 662.81356 | AQ32: 0 | AR32: 0 | AS32: 24.759 | AT32: 15.94603 | AU32: =VLOOKUP($A$8:$A$72,[1]Лист1!$A$15:$I$2062,4,0) -> 0 | AV32: =VLOOKUP($A$8:$A$72,[1]Лист1!$A$15:$I$2062,6,0) -> 0 | AW32: =VLOOKUP($A$8:$A$72,[1]Лист1!$A$15:$I$2062,7,0) -> 8.231 | AX32: =VLOOKUP($A$8:$A$72,[1]Лист1!$A$15:$I$2062,9,0) -> 7.007 | AY32: 0 | AZ32: 0 | BA32: 0.15 | BB32: 0.0418
A33: 0810 | B33: Other fruits, fresh | C33: 0 | D33: 0 | E33: 0.3 | F33: 0.45416 | G33: 0 | H33: 0 | I33: 0.95 | J33: 0.7109 | K33: 250.72 | L33: 231.06661 | M33: 1577.5205 | N33: 171.76903 | O33: 258.35 | P33: 12.66 | Q33: 1389.729 | R33: 139.04613 | S33: 0 | T33: 0 | U33: 217.001 | V33: 90.85527 | W33: 11.04 | X33: 5.253 | Y33: 15.015 | Z33: 3.7969 | AA33: 135.943 | AB33: 151.734 | AC33: 42.84862 | AD33: 77.56328 | AE33: 22.06 | AF33: 16.43955 | AG33: 56.393 | AH33: 87.662 | AI33: 0 | AJ33: 0 | AK33: 1113.281 | AL33: 498.5865 | AM33: 4.4 | AN33: 4.524 | AO33: 34016.522 | AP33: 1380.3092 | AQ33: 0.224 | AR33: 0.28 | AS33: 7485.167 | AT33: 175.16499 | AU33: =VLOOKUP($A$8:$A$72,[1]Лист1!$A$15:$I$2062,4,0) -> 0.224 | AV33: =VLOOKUP($A$8:$A$72,[1]Лист1!$A$15:$I$2062,6,0) -> 0.28 | AW33: =VLOOKUP($A$8:$A$72,[1]Лист1!$A$15:$I$2062,7,0) -> 7470.297 | AX33: =VLOOKUP($A$8:$A$72,[1]Лист1!$A$15:$I$2062,9,0) -> 166.5071 | AY33: 0 | AZ33: 0 | BA33: 0.1 | BB33: 0.02861
A34: 0811 | B34: Fruit and nuts, uncooked or boiled in boiling water or steamed, frozen, whether or not containing added sugar or other sweetening matter | G34: 0 | H34: 0 | I34: 0.027 | J34: 0.3938 | K34: 0 | L34: 0 | M34: 0.1965 | N34: 0.8937 | O34: 0.01 | P34: 0.02851 | Q34: 0.622 | R34: 0.18892 | S34: 0.054 | T34: 0.31386 | U34: 3.98666 | V34: 9.33235 | W34: 0 | X34: 0 | Y34: 11.1824 | Z34: 13.31772 | AA34: 0 | AB34: 0 | AC34: 185.042 | AD34: 86.51436 | AE34: 0 | AF34: 0 | AG34: 37.816 | AH34: 16.44022 | AI34: 0 | AJ34: 0 | AK34: 218.202 | AL34: 173.65862 | AM34: 0 | AN34: 0 | AO34: 182.211 | AP34: 281.42677 | AQ34: 388.2159 | AR34: 1201.8304 | AS34: 342.781 | AT34: 848.42675 | AU34: =VLOOKUP($A$8:$A$72,[1]Лист1!$A$15:$I$2062,4,0) -> 189.1359 | AV34: =VLOOKUP($A$8:$A$72,[1]Лист1!$A$15:$I$2062,6,0) -> 493.16005 | AW34: =VLOOKUP($A$8:$A$72,[1]Лист1!$A$15:$I$2062,7,0) -> 96.998 | AX34: =VLOOKUP($A$8:$A$72,[1]Лист1!$A$15:$I$2062,9,0) -> 254.5941 | AY34: 79.4 | AZ34: 386.97857 | BA34: 226.194 | BB34: 589.89548
A35: 0813 | B35: Dried fruits, other than those of headings 0801 to 0806; mixtures of nuts or dried fruits of this Chapter | G35: 0 | H35: 0 | I35: 0.3375 | J35: 2.32557 | K35: 0 | L35: 0 | M35: 1.59725 | N35: 5.15871 | O35: 20.5 | P35: 1.136 | Q35: 18.72275 | R35: 10.14004 | S35: 0.17 | T35: 0.48 | U35: 45.58258 | V35: 15.23392 | W35: 0.173 | X35: 0.406 | Y35: 81.964 | Z35: 54.16846 | AA35: 51.868 | AB35: 89.359 | AC35: 4.28295 | AD35: 18.40759 | AE35: 0 | AF35: 0 | AG35: 2.74655 | AH35: 23.05139 | AI35: 0 | AJ35: 0 | AK35: 323.34095 | AL35: 123.88466 | AM35: 0 | AN35: 0 | AO35: 116.32325 | AP35: 111.4707 | AQ35: 0 | AR35: 0 | AS35: 36.4992 | AT35: 132.00029 | AU35: =VLOOKUP($A$8:$A$72,[1]Лист1!$A$15:$I$2062,4,0) -> 0 | AV35: =VLOOKUP($A$8:$A$72,[1]Лист1!$A$15:$I$2062,6,0) -> 0 | AW35: =VLOOKUP($A$8:$A$72,[1]Лист1!$A$15:$I$2062,7,0) -> 36.057 | AX35: =VLOOKUP($A$8:$A$72,[1]Лист1!$A$15:$I$2062,9,0) -> 112.84705 | AY35: 0 | AZ35: 0 | BA35: 4.18 | BB35: 10.3513
A36: 0904 | B36: Pepper of the genus piper; fruits of the genus capsicum or genus pimenta, dried, crushed or ground | G36: 0 | H36: 0 | I36: 4.69521 | J36: 67.0965 | K36: 0 | L36: 0 | M36: 6.96298 | N36: 80.8548 | O36: 0 | P36: 0 | Q36: 5.96715 | R36: 71.35536 | S36: 0 | T36: 0 | U36: 8.81764 | V36: 65.87167 | W36: 0.393 | X36: 1.664 | Y36: 81.78867 | Z36: 384.41186 | AA36: 0.045 | AB36: 0.12393 | AC36: 129.54341 | AD36: 559.79664 | AE36: 0.924 | AF36: 5.15993 | AG36: 129.76373 | AH36: 642.79311 | AI36: 2.8778 | AJ36: 14.32658 | AK36: 99.05051 | AL36: 508.59821 | AM36: 2.32985 | AN36: 12.3702 | AO36: 102.808 | AP36: 469.47266 | AQ36: 1.6228 | AR36: 6.81449 | AS36: 75.84157 | AT36: 487.83485 | AU36: =VLOOKUP($A$8:$A$72,[1]Лист1!$A$15:$I$2062,4,0) -> 1.6228 | AV36: =VLOOKUP($A$8:$A$72,[1]Лист1!$A$15:$I$2062,6,0) -> 6.81449 | AW36: =VLOOKUP($A$8:$A$72,[1]Лист1!$A$15:$I$2062,7,0) -> 43.37423 | AX36: =VLOOKUP($A$8:$A$72,[1]Лист1!$A$15:$I$2062,9,0) -> 304.73187 | AY36: 0 | AZ36: 0 | BA36: 41.8132 | BB36: 220.53858
A37: 0906 | B37: Cinnamon and flowers of the cinnamon tree | G37: 0 | H37: 0 | I37: 0.712 | J37: 5.2726 | K37: 0 | L37: 0 | M37: 0.5035 | N37: 3.7623 | O37: 0.00114 | P37: 0.0072 | Q37: 0.6044 | R37: 4.26682 | S37: 0 | T37: 0 | U37: 0.6351 | V37: 4.59256 | W37: 0 | X37: 0 | Y37: 2.03593 | Z37: 14.75746 | AA37: 0 | AB37: 0 | AC37: 3.36918 | AD37: 41.15341 | AE37: 0 | AF37: 0 | AG37: 1.89176 | AH37: 31.05362 | AI37: 0.0108 | AJ37: 0.08228 | AK37: 3.5064 | AL37: 29.74571 | AM37: 0.02865 | AN37: 0.22751 | AO37: 7.0929 | AP37: 42.30785 | AQ37: 0.003 | AR37: 0.02465 | AS37: 9.0208 | AT37: 48.28233 | AU37: =VLOOKUP($A$8:$A$72,[1]Лист1!$A$15:$I$2062,4,0) -> 0.003 | AV37: =VLOOKUP($A$8:$A$72,[1]Лист1!$A$15:$I$2062,6,0) -> 0.02465 | AW37: =VLOOKUP($A$8:$A$72,[1]Лист1!$A$15:$I$2062,7,0) -> 6.8395 | AX37: =VLOOKUP($A$8:$A$72,[1]Лист1!$A$15:$I$2062,9,0) -> 29.86985 | AY37: 0 | AZ37: 0 | BA37: 4.4516 | BB37: 22.0752
A38: 0907 | B38: Carnation (whole fruits, flowers and stalks) | G38: 0 | H38: 0 | I38: 0.044 | J38: 0.8644 | K38: 0 | L38: 0 | M38: 0.075 | N38: 1.7255 | O38: 0 | P38: 0 | Q38: 0.04 | R38: 0.9087 | S38: 0 | T38: 0 | U38: 0.075 | V38: 1.6467 | W38: 0 | X38: 0 | Y38: 0.3714 | Z38: 5.42265 | AA38: 0 | AB38: 0 | AC38: 0.44944 | AD38: 7.22108 | AE38: 0 | AF38: 0 | AG38: 0.664 | AH38: 13.03221 | AI38: 0 | AJ38: 0 | AK38: 0.946 | AL38: 19.15545 | AM38: 0.0084 | AN38: 0.17633 | AO38: 1.35075 | AP38: 23.50836 | AQ38: 0 | AR38: 0 | AS38: 1.13 | AT38: 28.16818 | AU38: =VLOOKUP($A$8:$A$72,[1]Лист1!$A$15:$I$2062,4,0) -> 0 | AV38: =VLOOKUP($A$8:$A$72,[1]Лист1!$A$15:$I$2062,6,0) -> 0 | AW38: =VLOOKUP($A$8:$A$72,[1]Лист1!$A$15:$I$2062,7,0) -> 0.715 | AX38: =VLOOKUP($A$8:$A$72,[1]Лист1!$A$15:$I$2062,9,0) -> 16.61286 | AY38: 0 | AZ38: 0 | BA38: 0.41275 | BB38: 11.70339
A39: 0908 | B39: Nutmeg, mace and cardamom | G39: 0 | H39: 0 | I39: 0.04607 | J39: 0.5342 | K39: 0 | L39: 0 | M39: 0.092 | N39: 1.1818 | O39: 0 | P39: 0 | Q39: 0.08 | R39: 1.0462 | S39: 0 | T39: 0 | U39: 0.064 | V39: 0.7754 | W39: 0 | X39: 0 | Y39: 0.279 | Z39: 1.99408 | AA39: 0 | AB39: 0 | AC39: 0.4848 | AD39: 4.14831 | AE39: 0 | AF39: 0 | AG39: 0.5163 | AH39: 4.16994 | AI39: 0 | AJ39: 0 | AK39: 0.4291 | AL39: 3.07641 | AM39: 0 | AN39: 0 | AO39: 1.5879 | AP39: 6.60893 | AQ39: 0 | AR39: 0 | AS39: 1.6612 | AT39: 16.42989 | AU39: =VLOOKUP($A$8:$A$72,[1]Лист1!$A$15:$I$2062,4,0) -> 0 | AV39: =VLOOKUP($A$8:$A$72,[1]Лист1!$A$15:$I$2062,6,0) -> 0 | AW39: =VLOOKUP($A$8:$A$72,[1]Лист1!$A$15:$I$2062,7,0) -> 0.5679 | AX39: =VLOOKUP($A$8:$A$72,[1]Лист1!$A$15:$I$2062,9,0) -> 2.78897 | AY39: 0 | AZ39: 0 | BA39: 0.0243 | BB39: 0.40034
A40: 0909 | B40: Seeds of anise, star anise, fennel, coriander, Roman cumin, or Volosh cumin, or cumin; juniper berries | G40: 0 | H40: 0 | I40: 0.1875 | J40: 0.6394 | K40: 0 | L40: 0 | M40: 0.32125 | N40: 1.5804 | O40: 0 | P40: 0 | Q40: 0.36 | R40: 1.4647 | S40: 0 | T40: 0 | U40: 0.2025 | V40: 0.6776 | W40: 0 | X40: 0 | Y40: 5.16625 | Z40: 12.73985 | AA40: 0 | AB40: 0 | AC40: 6.07572 | AD40: 14.13007 | AE40: 0 | AF40: 0 | AG40: 7.95425 | AH40: 22.66969 | AI40: 0.48846 | AJ40: 2.69502 | AK40: 6.42391 | AL40: 21.624 | AM40: 0.22669 | AN40: 1.49202 | AO40: 91.83056 | AP40: 77.97879 | AQ40: 0.1366 | AR40: 1.0206 | AS40: 113.43527 | AT40: 96.94322 | AU40: =VLOOKUP($A$8:$A$72,[1]Лист1!$A$15:$I$2062,4,0) -> 0.1366 | AV40: =VLOOKUP($A$8:$A$72,[1]Лист1!$A$15:$I$2062,6,0) -> 1.0206 | AW40: =VLOOKUP($A$8:$A$72,[1]Лист1!$A$15:$I$2062,7,0) -> 79.9485 | AX40: =VLOOKUP($A$8:$A$72,[1]Лист1!$A$15:$I$2062,9,0) -> 69.9495 | AY40: 0 | AZ40: 0 | BA40: 81.66246 | BB40: 29.85441
A41: 0910 | B41: Ginger, saffron, turmeric (turmeric), thyme or thyme, bay leaf, curry and other spices | G41: 0 | H41: 0 | I41: 2.09893 | J41: 17.80437 | K41: 0 | L41: 0 | M41: 2.07118 | N41: 21.1875 | O41: 0.0009 | P41: 0.00292 | Q41: 2.11004 | R41: 16.09642 | S41: 0 | T41: 0 | U41: 55.36166 | V41: 181.28145 | W41: 0 | X41: 0 | Y41: 32.92351 | Z41: 98.08075 | AA41: 0 | AB41: 0 | AC41: 54.90036 | AD41: 138.97992 | AE41: 0.1625 | AF41: 1.16367 | AG41: 87.58469 | AH41: 314.93729 | AI41: 0.31 | AJ41: 2.25593 | AK41: 181.7379 | AL41: 481.08618 | AM41: 0.2675 | AN41: 2.62518 | AO41: 225.56185 | AP41: 598.92604 | AQ41: 0 | AR41: 0 | AS41: 144.25643 | AT41: 480.21555 | AU41: =VLOOKUP($A$8:$A$72,[1]Лист1!$A$15:$I$2062,4,0) -> 0 | AV41: =VLOOKUP($A$8:$A$72,[1]Лист1!$A$15:$I$2062,6,0) -> 0 | AW41: =VLOOKUP($A$8:$A$72,[1]Лист1!$A$15:$I$2062,7,0) -> 111.29359 | AX41: =VLOOKUP($A$8:$A$72,[1]Лист1!$A$15:$I$2062,9,0) -> 363.10734 | AY41: 0.075 | AZ41: 0.58853 | BA41: 47.24807 | BB41: 139.11311
A42: 1001 | B42: Wheat and meslin | K42: 0 | L42: 0 | M42: 56 | N42: 18.1865 | O42: 1 | P42: 0.525 | Q42: 154.674 | R42: 41.29443 | S42: 0 | T42: 0 | U42: 113.139 | V42: 19.78262 | W42: 0 | X42: 0 | Y42: 195.5 | Z42: 58.21149 | AA42: 0 | AB42: 0 | AC42: 94788.39 | AD42: 21160.755 | AE42: 408.5 | AF42: 99.81345 | AG42: 52838.93 | AH42: 9827.086 | AI42: 3 | AJ42: 1.3077 | AK42: 92616.959 | AL42: 17469.697 | AM42: 135.6 | AN42: 40.7747 | AO42: 53783.132 | AP42: 10184.909 | AQ42: 519.6 | AR42: 94.77115 | AS42: 223537.88 | AT42: 35789.509 | AU42: =VLOOKUP($A$8:$A$72,[1]Лист1!$A$15:$I$2062,4,0) -> 212.2 | AV42: =VLOOKUP($A$8:$A$72,[1]Лист1!$A$15:$I$2062,6,0) -> 37.5002 | AW42: =VLOOKUP($A$8:$A$72,[1]Лист1!$A$15:$I$2062,7,0) -> 25839.938 | AX42: =VLOOKUP($A$8:$A$72,[1]Лист1!$A$15:$I$2062,9,0) -> 3616.6208 | AY42: 0 | AZ42: 0 | BA42: 83685.245 | BB42: 14292.872
A43: 1002 | B43: Rye | AM43: 0 | AN43: 0 | AO43: 22.90183 | AP43: 28.5927 | AQ43: 0 | AR43: 0 | AS43: 560.85 | AT43: 86.452 | AU43: =VLOOKUP($A$8:$A$72,[1]Лист1!$A$15:$I$2062,4,0) -> 0 | AV43: =VLOOKUP($A$8:$A$72,[1]Лист1!$A$15:$I$2062,6,0) -> 0 | AW43: =VLOOKUP($A$8:$A$72,[1]Лист1!$A$15:$I$2062,7,0) -> 0.5 | AX43: =VLOOKUP($A$8:$A$72,[1]Лист1!$A$15:$I$2062,9,0) -> 0.555 | AY43: 0 | AZ43: 0 | BA43: 70.55 | BB43: 10.499
A44: 1003 | B44: Barley | C44: 0 | D44: 0 | E44: 16469.274 | F44: 3230.6885 | K44: 0 | L44: 0 | M44: 21 | N44: 7.31288 | O44: 0 | P44: 0 | Q44: 9845.55 | R44: 2255.302 | S44: 0 | T44: 0 | U44: 5620.55 | V44: 1588.9351 | W44: 0 | X44: 0 | Y44: 22418.1 | Z44: 4723.0091 | AA44: 0 | AB44: 0 | AC44: 53172.24 | AD44: 14124.754 | AE44: 0 | AF44: 0 | AG44: 6758.96 | AH44: 7129.85 | AI44: 0 | AJ44: 0 | AK44: 5443.84 | AL44: 707.12021 | AQ44: 3 | AR44: 0.898 | AS44: 12499.095 | AT44: 2161.3704 | AU44: =VLOOKUP($A$8:$A$72,[1]Лист1!$A$15:$I$2062,4,0) -> 3 | AV44: =VLOOKUP($A$8:$A$72,[1]Лист1!$A$15:$I$2062,6,0) -> 0.898 | AW44: =VLOOKUP($A$8:$A$72,[1]Лист1!$A$15:$I$2062,7,0) -> 3474.545 | AX44: =VLOOKUP($A$8:$A$72,[1]Лист1!$A$15:$I$2062,9,0) -> 665.98445
A45: 1004 | B45: oats | O45: 0 | P45: 0 | Q45: 10 | R45: 2.64706 | W45: 0 | X45: 0 | Y45: 25 | Z45: 1.172 | AA45: 0 | AB45: 0 | AC45: 9.374 | AD45: 4.11 | AE45: 0 | AF45: 0 | AG45: 845.7 | AH45: 1611.167 | AI45: 0 | AJ45: 0 | AK45: 333.42 | AL45: 48.367 | AM45: 0 | AN45: 0 | AO45: 0.01167 | AP45: 0.03849 | AY45: 0 | AZ45: 0 | BA45: 985.6 | BB45: 164.343
A46: 1005 | B46: Corn | G46: 0 | H46: 0 | I46: 0.1375 | J46: 0.1505 | K46: 1.5 | L46: 2.506 | M46: 37.6974 | N46: 37.5559 | O46: 2.75 | P46: 7.721 | Q46: 1294.1448 | R46: 200.88331 | S46: 12.3 | T46: 48.61077 | U46: 196.3386 | V46: 232.8537 | W46: 4.1 | X46: 4.74632 | Y46: 330.8579 | Z46: 22.02672 | AA46: 4.65 | AB46: 7.91229 | AC46: 4.605 | AD46: 5.23568 | AE46: 0 | AF46: 0 | AG46: 5808.235 | AH46: 3727.9334 | AI46: 58.34 | AJ46: 8.64 | AK46: 2416.185 | AL46: 461.668 | AM46: 15.48 | AN46: 1.551 | AO46: 5.05 | AP46: 6.42164 | AQ46: 11.25 | AR46: 29.075 | AS46: 3961.456 | AT46: 862.82648 | AU46: =VLOOKUP($A$8:$A$72,[1]Лист1!$A$15:$I$2062,4,0) -> 11.25 | AV46: =VLOOKUP($A$8:$A$72,[1]Лист1!$A$15:$I$2062,6,0) -> 29.075 | AW46: =VLOOKUP($A$8:$A$72,[1]Лист1!$A$15:$I$2062,7,0) -> 3961.206 | AX46: =VLOOKUP($A$8:$A$72,[1]Лист1!$A$15:$I$2062,9,0) -> 862.37429 | AY46: 0 | AZ46: 0 | BA46: 0.5 | BB46: 0.94994
A47: 1006 | B47: Rice | C47: 0 | D47: 0 | E47: 3.077 | F47: 3.40705 | G47: 0 | H47: 0 | I47: 30.148 | J47: 17.58268 | O47: 0.011 | P47: 0.0285 | Q47: 45.2048 | R47: 11.24528 | S47: 16.975 | T47: 26.05798 | U47: 111.03332 | V47: 76.59576 | W47: 41.3 | X47: 25.90542 | Y47: 6.35303 | Z47: 7.2704 | AA47: 385.015 | AB47: 234.97889 | AC47: 5.40648 | AD47: 7.27681 | AE47: 384.731 | AF47: 439.35583 | AG47: 13.0028 | AH47: 20.49562 | AI47: 125.373 | AJ47: 201.97108 | AK47: 47.78 | AL47: 13.9763 | AM47: 44.026 | AN47: 66.326 | AO47: 46.4 | AP47: 7.19492 | AQ47: 1229.135 | AR47: 638.91644 | AS47: 64.704 | AT47: 56.8523 | AU47: =VLOOKUP($A$8:$A$72,[1]Лист1!$A$15:$I$2062,4,0) -> 1187.69 | AV47: =VLOOKUP($A$8:$A$72,[1]Лист1!$A$15:$I$2062,6,0) -> 606.91398 | AW47: =VLOOKUP($A$8:$A$72,[1]Лист1!$A$15:$I$2062,7,0) -> 43.704 | AX47: =VLOOKUP($A$8:$A$72,[1]Лист1!$A$15:$I$2062,9,0) -> 39.78236 | AY47: 93.965 | AZ47: 78.55376 | BA47: 0.664 | BB47: 1.4678
A48: 1007 | B48: Grain sorghum
A49: 1008 | B49: Buckwheat, millet and canary seeds; other cereals | C49: 0 | D49: 0 | E49: 0.478 | F49: 0.46415 | K49: 0 | L49: 0 | M49: 15 | N49: 4.41707 | O49: 0 | P49: 0 | Q49: 30 | R49: 13.84641 | S49: 60 | T49: 26.57 | U49: 18.75 | V49: 5.655 | W49: 10 | X49: 5.1 | Y49: 22.74 | Z49: 27.3617 | AA49: 0 | AB49: 0 | AC49: 0.273 | AD49: 1.13203 | AE49: 5 | AF49: 1.70783 | AG49: 0.66 | AH49: 3.33208 | AI49: 0 | AJ49: 0 | AK49: 1.965 | AL49: 5.37567 | AM49: 0 | AN49: 0 | AO49: 0.03 | AP49: 0.14371 | AY49: 0 | AZ49: 0 | BA49: 6.012 | BB49: 8.63534
A50: 1201 | B50: Soybeans, whether or not crushed | C50: 0 | D50: 0 | E50: 0.9782 | F50: 0.85495 | G50: 439.23 | H50: 76.04004 | I50: 0.672 | J50: 0.29204 | K50: 1 | L50: 0.539 | M50: 3 | N50: 2.957 | O50: 0 | P50: 0 | Q50: 1840.39 | R50: 884.51254 | S50: 0 | T50: 0 | U50: 4195.6625 | V50: 1227.6611 | W50: 0 | X50: 0 | Y50: 1260.89 | Z50: 416.00877 | AA50: 0 | AB50: 0 | AC50: 1001.3 | AD50: 554.695 | AE50: 0 | AF50: 0 | AG50: 469.05 | AH50: 1807.904 | AI50: 0 | AJ50: 0 | AK50: 3511.313 | AL50: 1534.7389 | AM50: 0 | AN50: 0 | AO50: 3042.67 | AP50: 1404.677 | AQ50: 0 | AR50: 0 | AS50: 3124.299 | AT50: 659.45378 | AU50: =VLOOKUP($A$8:$A$72,[1]Лист1!$A$15:$I$2062,4,0) -> 0 | AV50: =VLOOKUP($A$8:$A$72,[1]Лист1!$A$15:$I$2062,6,0) -> 0 | AW50: =VLOOKUP($A$8:$A$72,[1]Лист1!$A$15:$I$2062,7,0) -> 556.85 | AX50: =VLOOKUP($A$8:$A$72,[1]Лист1!$A$15:$I$2062,9,0) -> 239.919
A51: 1202 | B51: Peanuts, not roasted or otherwise prepared, whether or not shelled, whether or not crushed | S51: 0 | T51: 0 | U51: 0.7874 | V51: 2.309 | AI51: 0 | AJ51: 0 | AK51: 19.7 | AL51: 42.71388 | AM51: 0.3 | AN51: 0.88 | AO51: 19.245 | AP51: 23.86153
A52: 1204 | B52: Flax seeds, whether or not crushed | W52: 0 | X52: 0 | Y52: 0.01 | Z52: 0.039 | AI52: 0 | AJ52: 0 | AK52: 62.5 | AL52: 7.637 | AM52: 0 | AN52: 0 | AO52: 32.3 | AP52: 24.8078 | AQ52: 0 | AR52: 0 | AS52: 44.5 | AT52: 35.302 | AU52: =VLOOKUP($A$8:$A$72,[1]Лист1!$A$15:$I$2062,4,0) -> 0 | AV52: =VLOOKUP($A$8:$A$72,[1]Лист1!$A$15:$I$2062,6,0) -> 0 | AW52: =VLOOKUP($A$8:$A$72,[1]Лист1!$A$15:$I$2062,7,0) -> 19.5 | AX52: =VLOOKUP($A$8:$A$72,[1]Лист1!$A$15:$I$2062,9,0) -> 16.525 | AY52: 0 | AZ52: 0 | BA52: 20 | BB52: 14.817
A53: 1205 | B53: Rape or colza seeds, whether or not crushed
A54: 1206 | B54: Sunflower seeds, whether or not crushed | C54: 0 | D54: 0 | E54: 9 | F54: 4.553 | G54: 0 | H54: 0 | I54: 191.316 | J54: 62.85514 | K54: 0 | L54: 0 | M54: 1097.6735 | N54: 335.523 | O54: 12 | P54: 0.705 | Q54: 302.43 | R54: 106.826 | S54: 0 | T54: 0 | U54: 120.4181 | V54: 169.199 | W54: 0 | X54: 0 | Y54: 430 | Z54: 90.49226 | AA54: 0 | AB54: 0 | AC54: 0.03 | AD54: 1.15661 | AE54: 0 | AF54: 0 | AG54: 60.026 | AH54: 16.521 | AI54: 0 | AJ54: 0 | AK54: 735.35 | AL54: 181.43144 | AM54: 0 | AN54: 0 | AO54: 310.57 | AP54: 48.961 | AQ54: 0 | AR54: 0 | AS54: 91 | AT54: 101.888 | AU54: =VLOOKUP($A$8:$A$72,[1]Лист1!$A$15:$I$2062,4,0) -> 0 | AV54: =VLOOKUP($A$8:$A$72,[1]Лист1!$A$15:$I$2062,6,0) -> 0 | AW54: =VLOOKUP($A$8:$A$72,[1]Лист1!$A$15:$I$2062,7,0) -> 69 | AX54: =VLOOKUP($A$8:$A$72,[1]Лист1!$A$15:$I$2062,9,0) -> 79.265
A55: 1207 | B55: Seeds and fruits of other oilseeds, whether or not crushed | G55: 0 | H55: 0 | I55: 0.7212 | J55: 3.7208 | K55: 0 | L55: 0 | M55: 150.8144 | N55: 22.5991 | O55: 0.001 | P55: 0.00243 | Q55: 4.268 | R55: 20.33516 | S55: 0 | T55: 0 | U55: 42.835 | V55: 96.6236 | W55: 0 | X55: 0 | Y55: 34.39764 | Z55: 134.0425 | AA55: 0 | AB55: 0 | AC55: 42.14252 | AD55: 140.55246 | AE55: 0 | AF55: 0 | AG55: 40.92044 | AH55: 179.60308 | AI55: 0.487 | AJ55: 1.371 | AK55: 468.07096 | AL55: 180.01923 | AM55: 0.15855 | AN55: 0.82094 | AO55: 62.80102 | AP55: 225.45549 | AQ55: 0.00105 | AR55: 0.00807 | AS55: 35.2723 | AT55: 125.91989 | AU55: =VLOOKUP($A$8:$A$72,[1]Лист1!$A$15:$I$2062,4,0) -> 0.00105 | AV55: =VLOOKUP($A$8:$A$72,[1]Лист1!$A$15:$I$2062,6,0) -> 0.00807 | AW55: =VLOOKUP($A$8:$A$72,[1]Лист1!$A$15:$I$2062,7,0) -> 24.35 | AX55: =VLOOKUP($A$8:$A$72,[1]Лист1!$A$15:$I$2062,9,0) -> 83.79512 | AY55: 0 | AZ55: 0 | BA55: 30.9348 | BB55: 116.4395
A56: 1209 | B56: Seeds, fruits and spores for sowing | C56: 0 | D56: 0 | E56: 124 | F56: 144.54679 | G56: 0 | H56: 0 | I56: 0.46436 | J56: 41.77819 | K56: 0 | L56: 0 | M56: 9.51789 | N56: 385.51231 | O56: 0 | P56: 0 | Q56: 7.855 | R56: 125.29234 | S56: 0 | T56: 0 | U56: 24.7174 | V56: 407.82839 | W56: 0 | X56: 0 | Y56: 17.31784 | Z56: 400.12787 | AA56: 0 | AB56: 0 | AC56: 20.59711 | AD56: 133.06589 | AE56: 2 | AF56: 15.465 | AG56: 50.2942 | AH56: 60.76545 | AI56: 0 | AJ56: 0 | AK56: 324.4162 | AL56: 849.97302 | AM56: 0 | AN56: 0 | AO56: 54.81206 | AP56: 57.69978 | AQ56: 0 | AR56: 0 | AS56: 19.18 | AT56: 2.44976 | AU56: =VLOOKUP($A$8:$A$72,[1]Лист1!$A$15:$I$2062,4,0) -> 0 | AV56: =VLOOKUP($A$8:$A$72,[1]Лист1!$A$15:$I$2062,6,0) -> 0 | AW56: =VLOOKUP($A$8:$A$72,[1]Лист1!$A$15:$I$2062,7,0) -> 19.18 | AX56: =VLOOKUP($A$8:$A$72,[1]Лист1!$A$15:$I$2062,9,0) -> 2.44976
A57: 1210 | B57: Hop cones, fresh or dried, whether or not crushed, in powder form or in the form of granules; lupulin | C57: 0 | D57: 0 | E57: 0.96 | F57: 22.294 | K57: 0 | L57: 0 | M57: 2.865 | N57: 71.523 | O57: 0 | P57: 0 | Q57: 0.755 | R57: 20.6666 | S57: 0 | T57: 0 | U57: 9.099 | V57: 148.81626 | W57: 0 | X57: 0 | Y57: 2.134 | Z57: 38.30879 | AA57: 0 | AB57: 0 | AC57: 0.21 | AD57: 6.29085 | AE57: 12.325 | AF57: 319.011 | AG57: 0.822 | AH57: 18.47357 | AI57: 0 | AJ57: 0 | AK57: 12.755 | AL57: 215.96872 | AM57: 0 | AN57: 0 | AO57: 1.445 | AP57: 30.51826 | AQ57: 0 | AR57: 0 | AS57: 0.424 | AT57: 17.56381 | AU57: =VLOOKUP($A$8:$A$72,[1]Лист1!$A$15:$I$2062,4,0) -> 0 | AV57: =VLOOKUP($A$8:$A$72,[1]Лист1!$A$15:$I$2062,6,0) -> 0 | AW57: =VLOOKUP($A$8:$A$72,[1]Лист1!$A$15:$I$2062,7,0) -> 0.275 | AX57: =VLOOKUP($A$8:$A$72,[1]Лист1!$A$15:$I$2062,9,0) -> 7.99423 | AY57: 0 | AZ57: 0 | BA57: 4.27 | BB57: 72.60057
A58: 1211 | B58: Plants and parts thereof (including seeds and fruits) of a kind used primarily in perfumery, pharmacy or for insecticidal, fungicidal or similar purposes, fresh or dried, whole or crushed, crushed or ground | C58: 70.386 | D58: 129.415 | E58: 0.5 | F58: 10.69 | G58: 155.726 | H58: 274.864 | I58: 2.45373 | J58: 8.54374 | K58: 154.432 | L58: 323.568 | M58: 0.07945 | N58: 0.7298 | O58: 184.717 | P58: 474.407 | Q58: 0.0275 | R58: 0.23038 | S58: 219.406 | T58: 450.96628 | U58: 1.177 | V58: 7.35489 | W58: 182.711 | X58: 295.166 | Y58: 2.37617 | Z58: 11.05832 | AA58: 110.572 | AB58: 200.15378 | AC58: 1.18 | AD58: 1.67321 | AE58: 4.681 | AF58: 4.44234 | AG58: 1.208 | AH58: 7.34459 | AI58: 0 | AJ58: 0 | AK58: 0.67567 | AL58: 4.54746 | AM58: 0.25 | AN58: 0.9624 | AO58: 8.60857 | AP58: 30.093 | AQ58: 0 | AR58: 0 | AS58: 17.73424 | AT58: 24.34763 | AU58: =VLOOKUP($A$8:$A$72,[1]Лист1!$A$15:$I$2062,4,0) -> 0 | AV58: =VLOOKUP($A$8:$A$72,[1]Лист1!$A$15:$I$2062,6,0) -> 0 | AW58: =VLOOKUP($A$8:$A$72,[1]Лист1!$A$15:$I$2062,7,0) -> 16.911 | AX58: =VLOOKUP($A$8:$A$72,[1]Лист1!$A$15:$I$2062,9,0) -> 18.6538 | AY58: 0 | AZ58: 0 | BA58: 2.28946 | BB58: 9.48012
A59: 1212 | B59: Carobs, seaweeds, seaweeds, sugar beets and sugarcane, fresh, chilled, frozen or dried, whether or not crushed; fruit stones and kernels, other products of vegetable origin (including unroasted | C59: 0 | D59: 0 | E59: 0.6 | F59: 1.85738 | G59: 0 | H59: 0 | I59: 0.0378 | J59: 0.5253 | O59: 0 | P59: 0 | Q59: 0.08832 | R59: 3.9447 | S59: 0 | T59: 0 | U59: 0.6408 | V59: 10.33908 | W59: 0 | X59: 0 | Y59: 1.0172 | Z59: 26.26777 | AA59: 0 | AB59: 0 | AC59: 1.387 | AD59: 52.27854 | AE59: 0 | AF59: 0 | AG59: 0.38672 | AH59: 7.60967 | AI59: 0.1236 | AJ59: 5.185 | AK59: 6.2606 | AL59: 65.17636 | AM59: 0.239 | AN59: 11.69752 | AO59: 2.5149 | AP59: 17.07937 | AQ59: 0.024 | AR59: 1.97985 | AS59: 1.75128 | AT59: 24.03659 | AU59: =VLOOKUP($A$8:$A$72,[1]Лист1!$A$15:$I$2062,4,0) -> 0.024 | AV59: =VLOOKUP($A$8:$A$72,[1]Лист1!$A$15:$I$2062,6,0) -> 1.97985 | AW59: =VLOOKUP($A$8:$A$72,[1]Лист1!$A$15:$I$2062,7,0) -> 0.80428 | AX59: =VLOOKUP($A$8:$A$72,[1]Лист1!$A$15:$I$2062,9,0) -> 17.18334 | AY59: 0 | AZ59: 0 | BA59: 0.70855 | BB59: 10.71524
A60: 1213 | B60: Straw and chaff of cereals, unworked, whether or not ground, whether or not ground, whether or not in the form of pellets | AQ60: 0 | AR60: 0 | AS60: 0.126 | AT60: 0.46989
A61: 1214 | B61: Rutabaga, chard, root vegetables, hay, alfalfa, clover, sainfoin, kale, lupins, vetch and similar feed products, whether or not granulated | G61: 0 | H61: 0 | I61: 0.58 | J61: 2.06669 | O61: 0 | P61: 0 | Q61: 0.32 | R61: 2.02555 | S61: 0 | T61: 0 | U61: 0.33 | V61: 1.299 | W61: 0 | X61: 0 | Y61: 0.441 | Z61: 1.20233 | AA61: 0 | AB61: 0 | AC61: 3.3505 | AD61: 4.62216 | AE61: 0 | AF61: 0 | AG61: 1.52856 | AH61: 7.47938 | AI61: 0 | AJ61: 0 | AK61: 91.536 | AL61: 27.37047 | AM61: 0.15 | AN61: 0.10516 | AO61: 5.938 | AP61: 6.9087 | AQ61: 0.11 | AR61: 0.13822 | AS61: 2.63 | AT61: 11.43378 | AU61: =VLOOKUP($A$8:$A$72,[1]Лист1!$A$15:$I$2062,4,0) -> 0 | AV61: =VLOOKUP($A$8:$A$72,[1]Лист1!$A$15:$I$2062,6,0) -> 0 | AW61: =VLOOKUP($A$8:$A$72,[1]Лист1!$A$15:$I$2062,7,0) -> 1.35 | AX61: =VLOOKUP($A$8:$A$72,[1]Лист1!$A$15:$I$2062,9,0) -> 5.83597 | AY61: 0 | AZ61: 0 | BA61: 1.032 | BB61: 4.57869
A62: 1301 | B62: Shellac natural unrefined; natural gums, gums, gums and gums (e.g. balms) | G62: 0 | H62: 0 | I62: 0.1 | J62: 0.632 | K62: 0 | L62: 0 | M62: 0.755 | N62: 6.76139 | O62: 0 | P62: 0 | Q62: 0.446 | R62: 5.02532 | S62: 0 | T62: 0 | U62: 0.1 | V62: 0.223 | W62: 0 | X62: 0 | Y62: 0.55 | Z62: 3.871 | AE62: 0 | AF62: 0 | AG62: 0.15 | AH62: 2.12 | AI62: 0.108 | AJ62: 1.80792 | AK62: 0.3 | AL62: 3.235 | AQ62: 0 | AR62: 0 | AS62: 0.7 | AT62: 8.00607 | AU62: =VLOOKUP($A$8:$A$72,[1]Лист1!$A$15:$I$2062,4,0) -> 0 | AV62: =VLOOKUP($A$8:$A$72,[1]Лист1!$A$15:$I$2062,6,0) -> 0 | AW62: =VLOOKUP($A$8:$A$72,[1]Лист1!$A$15:$I$2062,7,0) -> 0.7 | AX62: =VLOOKUP($A$8:$A$72,[1]Лист1!$A$15:$I$2062,9,0) -> 8.00607 | AY62: 0 | AZ62: 0 | BA62: 0.3 | BB62: 3.516
A63: 1302 | B63: Vegetable juices and extracts; pectins, pectinates and pectates; agar-agar and other vegetable adhesives and thickeners, whether or not modified | C63: 0 | D63: 0 | E63: 34.126 | F63: 168.43088 | G63: 0 | H63: 0 | I63: 1.533 | J63: 19.97266 | K63: 0 | L63: 0 | M63: 3.23 | N63: 46.22866 | O63: 0 | P63: 0 | Q63: 2.37029 | R63: 35.7187 | S63: 0 | T63: 0 | U63: 9.4491 | V63: 141.77469 | W63: 0.05 | X63: 9.678 | Y63: 3.98002 | Z63: 85.24944 | AA63: 0.025 | AB63: 6.895 | AC63: 9.92504 | AD63: 143.16828 | AE63: 0.155 | AF63: 42.328 | AG63: 8.74446 | AH63: 161.92848 | AI63: 0.48 | AJ63: 6.4876 | AK63: 3.34294 | AL63: 59.06443 | AM63: 0.135 | AN63: 17.05599 | AO63: 12.51645 | AP63: 74.20311 | AQ63: 1.5 | AR63: 213.03 | AS63: 8.41015 | AT63: 96.79574 | AU63: =VLOOKUP($A$8:$A$72,[1]Лист1!$A$15:$I$2062,4,0) -> 0.9 | AV63: =VLOOKUP($A$8:$A$72,[1]Лист1!$A$15:$I$2062,6,0) -> 126.9 | AW63: =VLOOKUP($A$8:$A$72,[1]Лист1!$A$15:$I$2062,7,0) -> 5.05567 | AX63: =VLOOKUP($A$8:$A$72,[1]Лист1!$A$15:$I$2062,9,0) -> 64.78593 | AY63: 0.35 | AZ63: 51.559 | BA63: 12.79486 | BB63: 172.68198
A64: 1401 | B64: Vegetable materials used primarily for weaving (e.g. bamboo, rattan, cane, rush, willow, raffia, peeled, bleached or dyed cereal straw, and linden bark) | C64: 0 | D64: 0 | E64: 0.24 | F64: 2.91115 | O64: 0 | P64: 0 | Q64: 0.14 | R64: 1.4 | S64: 0 | T64: 0 | U64: 2.23 | V64: 8.63121 | W64: 0 | X64: 0 | Y64: 4 | Z64: 2.20123 | AM64: 0 | AN64: 0 | AO64: 4.17592 | AP64: 8.8878 | AQ64: 0.007 | AR64: 0.0118 | AS64: 12.0295 | AT64: 11.81814 | AU64: =VLOOKUP($A$8:$A$72,[1]Лист1!$A$15:$I$2062,4,0) -> 0.007 | AV64: =VLOOKUP($A$8:$A$72,[1]Лист1!$A$15:$I$2062,6,0) -> 0.0118 | AW64: =VLOOKUP($A$8:$A$72,[1]Лист1!$A$15:$I$2062,7,0) -> 9.384 | AX64: =VLOOKUP($A$8:$A$72,[1]Лист1!$A$15:$I$2062,9,0) -> 9.87033 | AY64: 0 | AZ64: 0 | BA64: 5.4165 | BB64: 5.66565
A65: 1404 | B65: Materials of vegetable origin, not elsewhere specified or included | C65: 0 | D65: 0 | E65: 0.0323 | F65: 0.5234 | G65: 0 | H65: 0 | I65: 0.0329 | J65: 0.30233 | O65: 0 | P65: 0 | Q65: 0.0016 | R65: 0.172 | S65: 0 | T65: 0 | U65: 16 | V65: 18 | AA65: 0 | AB65: 0 | AC65: 38.225 | AD65: 46.406 | AE65: 0 | AF65: 0 | AG65: 1.5 | AH65: 0.742 | AI65: 0 | AJ65: 0 | AK65: 6.51 | AL65: 10.12391 | AM65: 0 | AN65: 0 | AO65: 0.001 | AP65: 0.00515 | AQ65: 0 | AR65: 0 | AS65: 0.6196 | AT65: 1.96686 | AU65: =VLOOKUP($A$8:$A$72,[1]Лист1!$A$15:$I$2062,4,0) -> 0 | AV65: =VLOOKUP($A$8:$A$72,[1]Лист1!$A$15:$I$2062,6,0) -> 0 | AW65: =VLOOKUP($A$8:$A$72,[1]Лист1!$A$15:$I$2062,7,0) -> 0.334 | AX65: =VLOOKUP($A$8:$A$72,[1]Лист1!$A$15:$I$2062,9,0) -> 1.40356 | AY65: 0 | AZ65: 0 | BA65: 0.2078 | BB65: 0.40184
A66: 1801 | B66: Cocoa beans, whole or crushed, raw or roasted | O66: 0 | P66: 0 | Q66: 0.002 | R66: 0.102 | S66: 0 | T66: 0 | U66: 0.2707 | V66: 2.65667
A67: 1802 | B67: Husks, shells, skins and other cocoa waste
A68: 2401 | B68: Tobacco raw materials; tobacco waste | C68: 220.989 | D68: 70.53007 | E68: 1131.8826 | F68: 9223.8334 | G68: 60.522 | H68: 27.39515 | I68: 1280.7019 | J68: 9874.4424 | K68: 124.83 | L68: 30.933 | M68: 1148.3166 | N68: 7884.2399 | O68: 268.3091 | P68: 65.46291 | Q68: 3039.0777 | R68: 19540.121 | S68: 278.29807 | T68: 163.30954 | U68: 3945.9057 | V68: 22951.547 | W68: 216.4896 | X68: 49.3315 | Y68: 3869.7896 | Z68: 24796.113 | AA68: 168.55808 | AB68: 80.47509 | AC68: 3810.3117 | AD68: 21140.619 | AE68: 374.4936 | AF68: 135.08766 | AG68: 1342.6025 | AH68: 11456.823 | AI68: 44.098 | AJ68: 11.71776 | AK68: 13.0611 | AL68: 43.17648 | AM68: 129.03049 | AN68: 26.2754 | AO68: 3165.424 | AP68: 19805.124 | AQ68: 387.8 | AR68: 2839.5875 | AS68: 233.5981 | AT68: 2711.903 | AU68: =VLOOKUP($A$8:$A$72,[1]Лист1!$A$15:$I$2062,4,0) -> 0 | AV68: =VLOOKUP($A$8:$A$72,[1]Лист1!$A$15:$I$2062,6,0) -> 0 | AW68: =VLOOKUP($A$8:$A$72,[1]Лист1!$A$15:$I$2062,7,0) -> 219.7119 | AX68: =VLOOKUP($A$8:$A$72,[1]Лист1!$A$15:$I$2062,9,0) -> 2657.5792
A69: 5301 | B69: Raw flax or flax processed but not spun; tow and waste of flax (including spinning waste and garnetted stock) | C69: 0 | D69: 0 | E69: 3.05 | F69: 6.22061 | G69: 0 | H69: 0 | I69: 0.0694 | J69: 0.45892 | K69: 0 | L69: 0 | M69: 0.542 | N69: 3.5764 | O69: 0.01599 | P69: 0.09972 | Q69: 1.82 | R69: 14.15839 | S69: 0.04483 | T69: 0.23453 | U69: 1.73715 | V69: 9.48748 | W69: 0.0037 | X69: 0.02984 | Y69: 1.4958 | Z69: 8.02077 | AA69: 0.0169 | AB69: 0.1078 | AC69: 2.8442 | AD69: 15.17965 | AE69: 0.0418 | AF69: 0.28404 | AG69: 0.8112 | AH69: 9.15575 | AI69: 0 | AJ69: 0 | AK69: 1.7006 | AL69: 12.9027 | AM69: 0 | AN69: 0 | AO69: 0.01852 | AP69: 0.19193 | AQ69: 0 | AR69: 0 | AS69: 0.011 | AT69: 0.032 | AU69: =VLOOKUP($A$8:$A$72,[1]Лист1!$A$15:$I$2062,4,0) -> 0 | AV69: =VLOOKUP($A$8:$A$72,[1]Лист1!$A$15:$I$2062,6,0) -> 0 | AW69: =VLOOKUP($A$8:$A$72,[1]Лист1!$A$15:$I$2062,7,0) -> 0.011 | AX69: =VLOOKUP($A$8:$A$72,[1]Лист1!$A$15:$I$2062,9,0) -> 0.032 | AY69: 0 | AZ69: 0 | BA69: 0.0043 | BB69: 0.07203
A70: 5302 | B70: Hemp (cannabis sativa l.), raw or processed but not spun; tow and hemp waste (including spinning waste and garnetted stock) | AA70: 0 | AB70: 0 | AC70: 0.284 | AD70: 0.65593
A71: 5303 | B71: Jute and other textile bast fibers (other than flax, hemp and ramie), raw or processed but not spun; tow and waste of these fibers (including spinning waste and garnetted stock) | C71: 0 | D71: 0 | E71: 5.7 | F71: 0.67019 | O71: 0 | P71: 0 | Q71: 0.704 | R71: 0.19793
A72: 5305 | B72: Coconut, abaca, ramie and other vegetable textile fibers | K72: 0 | L72: 0 | M72: 5.3176 | N72: 9.3064 | O72: 0 | P72: 0 | Q72: 2.6588 | R72: 9.80202 | AI72: 0 | AJ72: 0 | AK72: 0.026 | AL72: 0.03507 | AM72: 0 | AN72: 0 | AO72: 0.043 | AP72: 0.12199 | AY72: 0 | AZ72: 0 | BA72: 0.03 | BB72: 0.08387
A74: *Preliminary data.
