Workbook

Sheet Metadata
A2: Code of the Statistical Indicator | B2: 312101, 312103
A3: Name of the Statistical Indicator | B3: Turnover in foreign currency, Goods transported in physical terms in the main unit of measurement
A4: Unit of Measurement | B4: thousand US dollars, tons
A5: Abbreviated Title of the Statistical Indicator | B5: Turnover in foreign currency, Goods transported in physical terms in the main unit of measurement
A6: History of the Indicator | B6: The indicator has been compiled since 2015.
A7: Definition of the Indicator | B7: Trade turnover of the Republic of Kazakhstan with the member states of the Eurasian Economic Union
A8: Data Processing Method | B8: Calculated, aggregation
A9: Methodology for Calculation | B9: Methodology for maintaining statistics of mutual trade in goods of the member states of the Eurasian Economic Union Approved By the decision of the Board of the Eurasian Economic Commission dated December 25, 2018 No.210
A10: Source of the Indicator | B10: The main source of information is the data from the statistical reporting 1-TC «Report on mutual trade in goods with the member States of the Eurasian Economic Union» with the EAEU countries
A11: Notes
A12: Classifications | B12: https://stat.gov.kz/classifiers/statistical/115/
A13: Methodological Explanations: | B13: https://stat.gov.kz/methodology/95/
A14: Related Publications: | B14: https://stat.gov.kz/region/almatyobl/dynamic-tables/4481/
A15: Useful Links: | B15: https://taldau.stat.gov.kz/kk/Search/SearchByKeyWord
A16: Date of Last Update: | B16: 46314
A17: Date of Next Update: | B17: 46345
A18: Responsible Structural Division | B18: Division of trade, services and prices statistics
A19: Responsible Officer | B19: Akhmetova Z.
A20: Telephone Number: | B20: +7 727 2778124
A21: E-mail: | B21: za.akhmetova@aspire.gov.kz

Sheet Conventions
B6: Conventional designations:
B7: «-» - no case
B8: «0.0» - insignificant value
B9: «X» - data is confidential
B10: «...» - no data available
B12: In some cases, minor discrepancies between the total and the sum of the terms are explained by the rounding of the data.
B18: © Agency for Strategic planning and reforms of the Republic of Kazakhstan Bureau of National statistics

Sheet 2015-2026
A1: Export and import of crop products
A2: Almaty
A4: CNFEA EAEU | B4: Name of product | C4: 2015 | G4: 2016 | K4: 2017 | O4: 2018 | S4: 2019 | W4: 2020 | AA4: 2021 | AE4: 2022 | AI4: 2023 | AM4: 2024 | AQ4: 2025 | AU4: January-August 2025 | AY4: January-August 2026*
C5: export | E5: import | G5: export | I5: import | K5: export | M5: import | O5: export | Q5: import | S5: export | U5: import | W5: export | Y5: import | AA5: export | AC5: import | AE5: export | AG5: import | AI5: export | AK5: import | AM5: export | AO5: import | AQ5: export | AS5: import | AU5: export | AW5: import | AY5: export | BA5: import
C6: tons | D6: thousand US dollars | E6: tons | F6: thousand US dollars | G6: tons | H6: thousand US dollars | I6: tons | J6: thousand US dollars | K6: tons | L6: thousand US dollars | M6: tons | N6: thousand US dollars | O6: tons | P6: thousand US dollars | Q6: tons | R6: thousand US dollars | S6: tons | T6: thousand US dollars | U6: tons | V6: thousand US dollars | W6: tons | X6: thousand US dollars | Y6: tons | Z6: thousand US dollars | AA6: tons | AB6: thousand US dollars | AC6: tons | AD6: thousand US dollars | AE6: tons | AF6: thousand US dollars | AG6: tons | AH6: thousand US dollars | AI6: tons | AJ6: thousand US dollars | AK6: tons | AL6: thousand US dollars | AM6: tons | AN6: thousand US dollars | AO6: tons | AP6: thousand US dollars | AQ6: tons | AR6: thousand US dollars | AS6: tons | AT6: thousand US dollars | AU6: tons | AV6: thousand US dollars | AW6: tons | AX6: thousand US dollars | AY6: tons | AZ6: thousand US dollars | BA6: tons | BB6: thousand US dollars
B7: Total | C7: 9358.364 | D7: 9358.364 | E7: 9358.364 | F7: 9358.364 | G7: 9358.364 | H7: 9358.364 | I7: 9358.364 | J7: 9358.364 | K7: 9358.364 | L7: 9358.364 | M7: 9358.364 | N7: 9358.364 | O7: 31892.372 | P7: 12457.375 | Q7: 28625.773 | R7: 25966.897 | S7: 29820.318 | T7: 17668.223 | U7: 17105.724 | V7: 28918.456 | W7: 19831.87 | X7: 9210.0031 | Y7: 36698.593 | Z7: 36082.693 | AA7: 23641.159 | AB7: 13834.054 | AC7: 162654.06 | AD7: 66294.34 | AE7: 5108.99 | AF7: 5774.6201 | AG7: 75625.473 | AH7: 41427.558 | AI7: 2535.0402 | AJ7: 3696.225 | AK7: 144257.63 | AL7: 26609.469 | AM7: 7049.9158 | AN7: 13480.03 | AO7: 127928 | AP7: 39602.431 | AQ7: 17491.737 | AR7: 25174.797 | AS7: 262631.84 | AT7: 51632.975 | AU7: 9391.2065 | AV7: 11926.53 | AW7: 47702.243 | AX7: 13459.666 | AY7: 6137.0199 | AZ7: 9050.1424 | BA7: 87301.007 | BB7: 19235.352
A8: 0601 | B8: Bulbs, tubers, tuberous roots, corms, rhizomes, including branched ones, in a state of vegetative dormancy, vegetation, or flowering; chicory plants and roots other than those of heading 1212 | AA8: 0.109 | AB8: 0.749 | AC8: 0 | AD8: 0 | AQ8: 29.7 | AR8: 242.43994 | AS8: 0 | AT8: 0
A9: 0602 | B9: Other live plants (including their roots), cuttings and cuttings; mushroom mycelium | C9: 0 | D9: 0 | E9: 17.15 | F9: 91.04577 | G9: 0 | H9: 0 | I9: 159.8096 | J9: 194.52702 | K9: 0 | L9: 0 | M9: 37.654 | N9: 53.6201 | O9: 0 | P9: 0 | Q9: 25.565 | R9: 48.17136 | S9: 6.2 | T9: 4.487 | U9: 280.15053 | V9: 96.13693 | W9: 1.115 | X9: 10.081 | Y9: 105.0622 | Z9: 131.47602 | AA9: 0.44 | AB9: 3.377 | AC9: 56.506 | AD9: 83.68923 | AE9: 1.182 | AF9: 9.51929 | AG9: 315.301 | AH9: 420.74276 | AI9: 1.3 | AJ9: 1.4105 | AK9: 1128.8226 | AL9: 438.74548 | AM9: 0 | AN9: 0 | AO9: 2121.0306 | AP9: 498.76952 | AQ9: 0 | AR9: 0 | AS9: 3413.0303 | AT9: 1008.7682 | AU9: =VLOOKUP($A$8:$A$72,[1]Лист1!$A$15:$I$2062,4,0) -> 0 | AV9: =VLOOKUP($A$8:$A$72,[1]Лист1!$A$15:$I$2062,6,0) -> 0 | AW9: =VLOOKUP($A$8:$A$72,[1]Лист1!$A$15:$I$2062,7,0) -> 2112.3074 | AX9: =VLOOKUP($A$8:$A$72,[1]Лист1!$A$15:$I$2062,9,0) -> 433.01418 | AY9: 1328.842 | AZ9: 1096.9984 | BA9: 908.771 | BB9: 986.90063
A10: 0603 | B10: Cut flowers and buds suitable for arranging bouquets or for decorative purposes, fresh, dried, dyed, bleached, impregnated or otherwise prepared | G10: 1.55 | H10: 2.2794 | I10: 0 | J10: 0 | K10: 30 | L10: 41.545 | M10: 0 | N10: 0 | O10: 517.378 | P10: 663.1993 | Q10: 0.62 | R10: 1.17136 | S10: 186.457 | T10: 319.4363 | U10: 0 | V10: 0 | W10: 240.883 | X10: 227.04551 | Y10: 0 | Z10: 0 | AA10: 192.197 | AB10: 131.47998 | AC10: 0 | AD10: 0 | AE10: 69.72 | AF10: 161.033 | AG10: 0 | AH10: 0 | AI10: 16.2682 | AJ10: 33.39785 | AK10: 0 | AL10: 0 | AM10: 139.58709 | AN10: 543.36289 | AO10: 0 | AP10: 0 | AQ10: 46.9082 | AR10: 71.6781 | AS10: 2.3 | AT10: 3.56606 | AU10: =VLOOKUP($A$8:$A$72,[1]Лист1!$A$15:$I$2062,4,0) -> 28.5752 | AV10: =VLOOKUP($A$8:$A$72,[1]Лист1!$A$15:$I$2062,6,0) -> 50.2551 | AW10: =VLOOKUP($A$8:$A$72,[1]Лист1!$A$15:$I$2062,7,0) -> 2.3 | AX10: =VLOOKUP($A$8:$A$72,[1]Лист1!$A$15:$I$2062,9,0) -> 3.56606 | AY10: 34.62389 | AZ10: 93.33704 | BA10: 0 | BB10: 0
A11: 0604 | B11: Leaves, twigs and other parts of plants without flowers or buds, herbs, mosses and lichens, suitable for bouquets or ornamental purposes, fresh, dried, dyed, bleached, impregnated or otherwise prepared | G11: 0 | H11: 0 | I11: 2.429 | J11: 19.6212 | O11: 0 | P11: 0 | Q11: 2.3061 | R11: 7.51789 | S11: 0.003 | T11: 0.209 | U11: 11.8868 | V11: 13.5067 | W11: 0 | X11: 0 | Y11: 3.385 | Z11: 5.97062 | AA11: 0.425 | AB11: 0.40908 | AC11: 0.45 | AD11: 0.97838 | AM11: 0.004 | AN11: 0.0045 | AO11: 0 | AP11: 0 | AQ11: 0 | AR11: 0 | AS11: 0.012 | AT11: 0.00338 | AU11: =VLOOKUP($A$8:$A$72,[1]Лист1!$A$15:$I$2062,4,0) -> 0 | AV11: =VLOOKUP($A$8:$A$72,[1]Лист1!$A$15:$I$2062,6,0) -> 0 | AW11: =VLOOKUP($A$8:$A$72,[1]Лист1!$A$15:$I$2062,7,0) -> 0.012 | AX11: =VLOOKUP($A$8:$A$72,[1]Лист1!$A$15:$I$2062,9,0) -> 0.00338 | AY11: 0 | AZ11: 0 | BA11: 1.5 | BB11: 3.522
A12: 0701 | B12: Fresh or chilled potatoes | C12: 0 | D12: 0 | E12: 260 | F12: 146.24466 | K12: 1.57 | L12: 0.71884 | M12: 1104.9 | N12: 189.74893 | O12: 0 | P12: 0 | Q12: 266.584 | R12: 90.951 | S12: 376.354 | T12: 41.5558 | U12: 169.5 | V12: 28.82822 | W12: 17.7182 | X12: 9.096 | Y12: 947.565 | Z12: 239.99838 | AA12: 0 | AB12: 0 | AC12: 0.1875 | AD12: 0.274 | AE12: 0 | AF12: 0 | AG12: 974 | AH12: 98.17142 | AI12: 0 | AJ12: 0 | AK12: 21672.306 | AL12: 926.75648 | AM12: 0 | AN12: 0 | AO12: 17894.916 | AP12: 1942.9284 | AQ12: 0 | AR12: 0 | AS12: 2486.918 | AT12: 583.83865 | AU12: =VLOOKUP($A$8:$A$72,[1]Лист1!$A$15:$I$2062,4,0) -> 0 | AV12: =VLOOKUP($A$8:$A$72,[1]Лист1!$A$15:$I$2062,6,0) -> 0 | AW12: =VLOOKUP($A$8:$A$72,[1]Лист1!$A$15:$I$2062,7,0) -> 67.85 | AX12: =VLOOKUP($A$8:$A$72,[1]Лист1!$A$15:$I$2062,9,0) -> 26.69605
A13: 0702 | B13: Fresh or chilled tomatoes | G13: 657.464 | H13: 796.8214 | I13: 0 | J13: 0 | K13: 2682.982 | L13: 4185.4254 | M13: 1.541 | N13: 0.88552 | O13: 3150.7242 | P13: 4002.3577 | Q13: 4.682 | R13: 2.86798 | S13: 2176.002 | T13: 3202.943 | U13: 0 | V13: 0 | W13: 2712.2217 | X13: 3089.9459 | Y13: 3.795 | Z13: 0.502 | AA13: 2756.8505 | AB13: 3643.8627 | AC13: 1.638 | AD13: 0.2222 | AE13: 918.33459 | AF13: 1507.787 | AG13: 20 | AH13: 2.407 | AI13: 608.29622 | AJ13: 1050.9816 | AK13: 43.545 | AL13: 17.8314 | AM13: 4623.2884 | AN13: 10276.893 | AO13: 103.42 | AP13: 6.92712 | AQ13: 1249.368 | AR13: 1782.313 | AS13: 74.1 | AT13: 15.13214 | AU13: =VLOOKUP($A$8:$A$72,[1]Лист1!$A$15:$I$2062,4,0) -> 506.96 | AV13: =VLOOKUP($A$8:$A$72,[1]Лист1!$A$15:$I$2062,6,0) -> 750.81045 | AW13: =VLOOKUP($A$8:$A$72,[1]Лист1!$A$15:$I$2062,7,0) -> 74.1 | AX13: =VLOOKUP($A$8:$A$72,[1]Лист1!$A$15:$I$2062,9,0) -> 15.13214 | AY13: 2326.014 | AZ13: 3752.0769 | BA13: 0 | BB13: 0
A14: 0703 | B14: Onions, shallots, garlic, leeks and other bulbous vegetables, fresh or chilled | C14: 4251.285 | D14: 658.74904 | E14: 0 | F14: 0 | G14: 3715.818 | H14: 386.2531 | I14: 1595.769 | J14: 298.77156 | K14: 5293.37 | L14: 1093.9268 | M14: 0 | N14: 0 | O14: 6662.7956 | P14: 698.8609 | Q14: 7.736 | R14: 1.69624 | S14: 3902.4819 | T14: 627.9663 | U14: 0.5882 | V14: 0.46925 | W14: 4647.6402 | X14: 850.25417 | Y14: 44.34 | Z14: 10.4645 | AA14: 6930.3783 | AB14: 1417.4045 | AC14: 0.2 | AD14: 0.372 | AE14: 369.785 | AF14: 79.08499 | AG14: 0 | AH14: 0 | AI14: 4.642 | AJ14: 8.51891 | AK14: 83.8 | AL14: 9.86117 | AM14: 320.773 | AN14: 128.4375 | AO14: 49.58 | AP14: 6.75505 | AQ14: 11.842 | AR14: 13.417 | AS14: 1.25 | AT14: 0.30189 | AU14: =VLOOKUP($A$8:$A$72,[1]Лист1!$A$15:$I$2062,4,0) -> 8.843 | AV14: =VLOOKUP($A$8:$A$72,[1]Лист1!$A$15:$I$2062,6,0) -> 9.13 | AW14: =VLOOKUP($A$8:$A$72,[1]Лист1!$A$15:$I$2062,7,0) -> 1.2 | AX14: =VLOOKUP($A$8:$A$72,[1]Лист1!$A$15:$I$2062,9,0) -> 0.27722 | AY14: 105.878 | AZ14: 43.696 | BA14: 0 | BB14: 0
A15: 0704 | B15: Cabbage, cauliflower, kohlrabi, collard greens and similar edible vegetables of the genus brassica, fresh or chilled | G15: 30.4386 | H15: 9.14819 | I15: 1506.343 | J15: 195.5178 | K15: 55.178 | L15: 34.69089 | M15: 106.487 | N15: 18.887 | O15: 270.6101 | P15: 43.78387 | Q15: 21.76 | R15: 0.479 | S15: 939.15403 | T15: 128.6513 | U15: 13.603 | V15: 2.36799 | W15: 683.13405 | X15: 124.3433 | Y15: 13.2 | Z15: 2.4562 | AA15: 764.80445 | AB15: 233.129 | AC15: 52 | AD15: 4.316 | AE15: 21.97 | AF15: 30.668 | AG15: 3.906 | AH15: 0.337 | AI15: 0 | AJ15: 0 | AK15: 160.095 | AL15: 8.00814 | AM15: 249.486 | AN15: 166.05306 | AO15: 907.5 | AP15: 21.22009 | AQ15: 21 | AR15: 4.32 | AS15: 22.492 | AT15: 9.75552 | AU15: =VLOOKUP($A$8:$A$72,[1]Лист1!$A$15:$I$2062,4,0) -> 21 | AV15: =VLOOKUP($A$8:$A$72,[1]Лист1!$A$15:$I$2062,6,0) -> 4.32 | AW15: =VLOOKUP($A$8:$A$72,[1]Лист1!$A$15:$I$2062,7,0) -> 20.142 | AX15: =VLOOKUP($A$8:$A$72,[1]Лист1!$A$15:$I$2062,9,0) -> 7.75552 | AY15: 0 | AZ15: 0 | BA15: 3.96 | BB15: 1.70311
A16: 0705 | B16: Lettuce (lactuca sativa) and chicory (cichorium spp.), fresh or chilled | K16: 81.492 | L16: 109.3495 | M16: 0 | N16: 0 | O16: 0 | P16: 0 | Q16: 11.707 | R16: 18.69868 | S16: 0 | T16: 0 | U16: 62.1271 | V16: 51.96076 | W16: 0 | X16: 0 | Y16: 209.316 | Z16: 75.0407 | AA16: 16.137 | AB16: 57.06278 | AC16: 316.48 | AD16: 205.06063 | AE16: 105.945 | AF16: 189.98533 | AG16: 101.496 | AH16: 81.40641 | AI16: 33.7 | AJ16: 103.1914 | AK16: 102.7128 | AL16: 105.58931 | AM16: 42.203 | AN16: 286.553 | AO16: 102.137 | AP16: 161.871 | AQ16: 57.107 | AR16: 231.088 | AS16: 70.342 | AT16: 81.24424 | AU16: =VLOOKUP($A$8:$A$72,[1]Лист1!$A$15:$I$2062,4,0) -> 35.953 | AV16: =VLOOKUP($A$8:$A$72,[1]Лист1!$A$15:$I$2062,6,0) -> 145.398 | AW16: =VLOOKUP($A$8:$A$72,[1]Лист1!$A$15:$I$2062,7,0) -> 46.024 | AX16: =VLOOKUP($A$8:$A$72,[1]Лист1!$A$15:$I$2062,9,0) -> 51.5146 | AY16: 8.957 | AZ16: 40.746 | BA16: 111.0027 | BB16: 135.42357
A17: 0706 | B17: Carrots, turnips, table beets, goatskins, celeriac, radishes and other similar edible root vegetables, fresh or chilled | K17: 39.88 | L17: 50.97677 | M17: 17.769 | N17: 0.375 | O17: 12 | P17: 0.48 | Q17: 349.5 | R17: 7.3024 | S17: 0 | T17: 0 | U17: 0.17 | V17: 0.27525 | W17: 29.0016 | X17: 14.083 | Y17: 9.95 | Z17: 2.57517 | AA17: 0 | AB17: 0 | AC17: 50.502 | AD17: 20.11319 | AE17: 0 | AF17: 0 | AG17: 23.33 | AH17: 9.06157 | AI17: 0 | AJ17: 0 | AK17: 10615.716 | AL17: 368.04539 | AM17: 0 | AN17: 0 | AO17: 1541.43 | AP17: 98.32409 | AQ17: 0 | AR17: 0 | AS17: 1450.83 | AT17: 113.21992 | AU17: =VLOOKUP($A$8:$A$72,[1]Лист1!$A$15:$I$2062,4,0) -> 0 | AV17: =VLOOKUP($A$8:$A$72,[1]Лист1!$A$15:$I$2062,6,0) -> 0 | AW17: =VLOOKUP($A$8:$A$72,[1]Лист1!$A$15:$I$2062,7,0) -> 1450.28 | AX17: =VLOOKUP($A$8:$A$72,[1]Лист1!$A$15:$I$2062,9,0) -> 112.88692
A18: 0707 | B18: Cucumbers and gherkins, fresh or chilled | C18: 270.504 | D18: 149.89587 | E18: 0 | F18: 0 | G18: 972.67658 | H18: 732.98795 | I18: 0 | J18: 0 | K18: 2172.116 | L18: 2347.7421 | M18: 0 | N18: 0 | O18: 3100.816 | P18: 3253.3918 | Q18: 1.4114 | R18: 3.03371 | S18: 2302.967 | T18: 2110.7494 | U18: 5.3798 | V18: 0.94407 | W18: 914.22124 | X18: 671.45241 | Y18: 20 | Z18: 2.608 | AA18: 1388.3429 | AB18: 1500.7219 | AC18: 0 | AD18: 0 | AE18: 1299.2659 | AF18: 1668.6054 | AG18: 0 | AH18: 0 | AI18: 832.88611 | AJ18: 1615.9237 | AK18: 153.59 | AL18: 15.83195 | AM18: 1129.4766 | AN18: 1535.9224 | AO18: 54.25 | AP18: 4.8762 | AQ18: 5042.1755 | AR18: 7894.8374 | AS18: 31.831 | AT18: 8.0055 | AU18: =VLOOKUP($A$8:$A$72,[1]Лист1!$A$15:$I$2062,4,0) -> 3605.2225 | AV18: =VLOOKUP($A$8:$A$72,[1]Лист1!$A$15:$I$2062,6,0) -> 5401.8654 | AW18: =VLOOKUP($A$8:$A$72,[1]Лист1!$A$15:$I$2062,7,0) -> 31.831 | AX18: =VLOOKUP($A$8:$A$72,[1]Лист1!$A$15:$I$2062,9,0) -> 8.0055 | AY18: 1943.829 | AZ18: 3099.722 | BA18: 0 | BB18: 0
A19: 0708 | B19: Leguminous vegetables, whether or not shelled, fresh or chilled | K19: 3.445 | L19: 2.83762 | M19: 0 | N19: 0 | O19: 6 | P19: 0.34 | Q19: 0.13 | R19: 0.57723 | W19: 1.2 | X19: 0.48539 | Y19: 0 | Z19: 0 | AA19: 4.614 | AB19: 2.00487 | AC19: 0 | AD19: 0 | AE19: 3.6 | AF19: 2.031 | AG19: 0.497 | AH19: 2.16809 | AI19: 3 | AJ19: 1.41066 | AK19: 0.186 | AL19: 2.25519 | AM19: 0.8 | AN19: 0.383 | AO19: 0 | AP19: 0 | AY19: 0 | AZ19: 0 | BA19: 0.6 | BB19: 0.15644
A20: 0709 | B20: Other vegetables, fresh or chilled | C20: 0 | D20: 0 | E20: 0.0005 | F20: 0.00355 | G20: 0 | H20: 0 | I20: 0.0008 | J20: 0.00457 | K20: 1043.08 | L20: 997.50324 | M20: 0.0761 | N20: 0.2021 | O20: 3051.154 | P20: 703.23007 | Q20: 268.958 | R20: 25.76774 | S20: 438.809 | T20: 434.49841 | U20: 36.361 | V20: 55.85825 | W20: 295.58 | X20: 293.45714 | Y20: 526.639 | Z20: 688.48326 | AA20: 37.391 | AB20: 45.83437 | AC20: 1317.6132 | AD20: 1775.7707 | AE20: 248.207 | AF20: 355.17052 | AG20: 632.6906 | AH20: 902.91853 | AI20: 235.911 | AJ20: 211.6811 | AK20: 137.8652 | AL20: 69.12176 | AM20: 42.699 | AN20: 195.969 | AO20: 5755.8992 | AP20: 648.52153 | AQ20: 51.954 | AR20: 177.42 | AS20: 2050.01 | AT20: 4293.5927 | AU20: =VLOOKUP($A$8:$A$72,[1]Лист1!$A$15:$I$2062,4,0) -> 32.767 | AV20: =VLOOKUP($A$8:$A$72,[1]Лист1!$A$15:$I$2062,6,0) -> 110.119 | AW20: =VLOOKUP($A$8:$A$72,[1]Лист1!$A$15:$I$2062,7,0) -> 1353.355 | AX20: =VLOOKUP($A$8:$A$72,[1]Лист1!$A$15:$I$2062,9,0) -> 2835.533 | AY20: 7.726 | AZ20: 32.215 | BA20: 939.64117 | BB20: 2069.3047
A21: 0710 | B21: Vegetables (raw or boiled in water or steamed) frozen | C21: 0 | D21: 0 | E21: 0.2266 | F21: 0.272 | G21: 0 | H21: 0 | I21: 1.864 | J21: 2.67969 | K21: 0 | L21: 0 | M21: 59.857 | N21: 16.76 | O21: 0.024 | P21: 0.03825 | Q21: 12.368 | R21: 18.14951 | S21: 0.09 | T21: 0.20527 | U21: 44.399 | V21: 14.29099 | W21: 0 | X21: 0 | Y21: 57.2794 | Z21: 14.54475 | AA21: 6.54 | AB21: 8.10314 | AC21: 4.56 | AD21: 12.52503 | AE21: 0 | AF21: 0 | AG21: 3.095 | AH21: 12.94795 | AI21: 0 | AJ21: 0 | AK21: 203.329 | AL21: 50.09137 | AM21: 9.4 | AN21: 13.579 | AO21: 83.235 | AP21: 53.47735 | AQ21: 0 | AR21: 0 | AS21: 66.712 | AT21: 109.99676 | AU21: =VLOOKUP($A$8:$A$72,[1]Лист1!$A$15:$I$2062,4,0) -> 0 | AV21: =VLOOKUP($A$8:$A$72,[1]Лист1!$A$15:$I$2062,6,0) -> 0 | AW21: =VLOOKUP($A$8:$A$72,[1]Лист1!$A$15:$I$2062,7,0) -> 25.193 | AX21: =VLOOKUP($A$8:$A$72,[1]Лист1!$A$15:$I$2062,9,0) -> 45.07181 | AY21: 0 | AZ21: 0 | BA21: 28.781 | BB21: 56.84107
A22: 0713 | B22: Legume vegetables, dried, peeled, seeded or unpeeled, split or not split | C22: 0 | D22: 0 | E22: 1.5544 | F22: 1.00422 | G22: 0 | H22: 0 | I22: 11.016 | J22: 6.52593 | K22: 0 | L22: 0 | M22: 0.504 | N22: 0.26674 | O22: 0 | P22: 0 | Q22: 44.19273 | R22: 36.04087 | W22: 0.64 | X22: 0.66568 | Y22: 0.005 | Z22: 0.012 | AA22: 20.026 | AB22: 16.77218 | AC22: 8.5 | AD22: 9.08 | AE22: 31.116 | AF22: 19.20686 | AG22: 3.25 | AH22: 3.6 | AI22: 10.132 | AJ22: 4.97435 | AK22: 7.71 | AL22: 9.93736 | AM22: 0.8 | AN22: 0.312 | AO22: 348.17167 | AP22: 12.85218 | AQ22: 7458.358 | AR22: 8585.2705 | AS22: 2.84 | AT22: 0.83306 | AU22: =VLOOKUP($A$8:$A$72,[1]Лист1!$A$15:$I$2062,4,0) -> 2799.3855 | AV22: =VLOOKUP($A$8:$A$72,[1]Лист1!$A$15:$I$2062,6,0) -> 3220.893 | AW22: =VLOOKUP($A$8:$A$72,[1]Лист1!$A$15:$I$2062,7,0) -> 2.84 | AX22: =VLOOKUP($A$8:$A$72,[1]Лист1!$A$15:$I$2062,9,0) -> 0.83306 | AY22: 3.36 | AZ22: 2.00422 | BA22: 0 | BB22: 0
A23: 0714 | B23: Cassava, arrowroot, salep, ground pear or Jerusalem artichoke, sweet potato or sweet potato and similar roots and tubers with a high starch or inulin content, fresh, chilled, frozen or dried, whole or sliced or in | AE23: 0 | AF23: 0 | AG23: 30.285 | AH23: 1.28595 | AI23: 0 | AJ23: 0 | AK23: 0.5355 | AL23: 1.29421 | AM23: 0 | AN23: 0 | AO23: 0.2815 | AP23: 0.674 | AQ23: 0 | AR23: 0 | AS23: 0.03 | AT23: 0.093 | AU23: =VLOOKUP($A$8:$A$72,[1]Лист1!$A$15:$I$2062,4,0) -> 0 | AV23: =VLOOKUP($A$8:$A$72,[1]Лист1!$A$15:$I$2062,6,0) -> 0 | AW23: =VLOOKUP($A$8:$A$72,[1]Лист1!$A$15:$I$2062,7,0) -> 0.03 | AX23: =VLOOKUP($A$8:$A$72,[1]Лист1!$A$15:$I$2062,9,0) -> 0.093
A24: 0801 | B24: Coconuts, Brazil nuts and cashew nuts, fresh or dried, whether or not shelled, with or without skin | G24: 0 | H24: 0 | I24: 0.46725 | J24: 1.821 | K24: 0 | L24: 0 | M24: 0.65 | N24: 2.9927 | O24: 0.0015 | P24: 0.02616 | Q24: 4.9076 | R24: 4.74059 | S24: 0 | T24: 0 | U24: 0.96875 | V24: 3.76116 | W24: 0 | X24: 0 | Y24: 1.95805 | Z24: 7.45651 | AA24: 15.876 | AB24: 16.16848 | AC24: 1.95366 | AD24: 8.98409 | AE24: 0 | AF24: 0 | AG24: 2.4019 | AH24: 11.57546 | AI24: 0.1 | AJ24: 0.226 | AK24: 4.28065 | AL24: 10.61829 | AM24: 1.219 | AN24: 3.48859 | AO24: 43.5252 | AP24: 74.22841 | AQ24: 3.474 | AR24: 12.33008 | AS24: 2.0538 | AT24: 7.9748 | AU24: =VLOOKUP($A$8:$A$72,[1]Лист1!$A$15:$I$2062,4,0) -> 2.349 | AV24: =VLOOKUP($A$8:$A$72,[1]Лист1!$A$15:$I$2062,6,0) -> 8.33408 | AW24: =VLOOKUP($A$8:$A$72,[1]Лист1!$A$15:$I$2062,7,0) -> 2.0488 | AX24: =VLOOKUP($A$8:$A$72,[1]Лист1!$A$15:$I$2062,9,0) -> 7.9028 | AY24: 0 | AZ24: 0 | BA24: 10.672 | BB24: 39.68611
A25: 0802 | B25: Other nuts, fresh or dried, whether or not shelled or peeled | K25: 0 | L25: 0 | M25: 0.1641 | N25: 1.42228 | O25: 0.15 | P25: 0.339 | Q25: 41.8914 | R25: 5.79069 | S25: 0 | T25: 0 | U25: 2.51671 | V25: 2.67498 | W25: 0 | X25: 0 | Y25: 0.309 | Z25: 0.22297 | AA25: 2703.58 | AB25: 3009.0014 | AC25: 0.001 | AD25: 0.009 | AE25: 16.6 | AF25: 5.461 | AG25: 2.032 | AH25: 7.1084 | AI25: 0 | AJ25: 0 | AK25: 134.494 | AL25: 35.03002 | AM25: 0 | AN25: 0 | AO25: 33.7 | AP25: 10.10446 | AQ25: 49.743 | AR25: 170.607 | AS25: 18.003 | AT25: 5.23007 | AU25: =VLOOKUP($A$8:$A$72,[1]Лист1!$A$15:$I$2062,4,0) -> 49.743 | AV25: =VLOOKUP($A$8:$A$72,[1]Лист1!$A$15:$I$2062,6,0) -> 170.607 | AW25: =VLOOKUP($A$8:$A$72,[1]Лист1!$A$15:$I$2062,7,0) -> 18.003 | AX25: =VLOOKUP($A$8:$A$72,[1]Лист1!$A$15:$I$2062,9,0) -> 5.23007 | AY25: 0 | AZ25: 0 | BA25: 3.34 | BB25: 0.92894
A26: 0803 | B26: Bananas, including plantains, fresh or dried | K26: 0 | L26: 0 | M26: 2200.3736 | N26: 1910.7284 | O26: 1336.2 | P26: 81.7367 | Q26: 1295.8726 | R26: 1146.8051 | S26: 0 | T26: 0 | U26: 1109.906 | V26: 870.654 | W26: 25 | X26: 26.829 | Y26: 5238.2201 | Z26: 3222.6245 | AA26: 7.5 | AB26: 4.255 | AC26: 6279.301 | AD26: 4691.7726 | AE26: 0 | AF26: 0 | AG26: 1864.0006 | AH26: 2186.8713 | AI26: 0 | AJ26: 0 | AK26: 41.12 | AL26: 71.92559 | AM26: 27.41 | AN26: 27.385 | AO26: 0.3221 | AP26: 1.548 | AQ26: 0 | AR26: 0 | AS26: 1.44 | AT26: 4.91047 | AU26: =VLOOKUP($A$8:$A$72,[1]Лист1!$A$15:$I$2062,4,0) -> 0 | AV26: =VLOOKUP($A$8:$A$72,[1]Лист1!$A$15:$I$2062,6,0) -> 0 | AW26: =VLOOKUP($A$8:$A$72,[1]Лист1!$A$15:$I$2062,7,0) -> 1.44 | AX26: =VLOOKUP($A$8:$A$72,[1]Лист1!$A$15:$I$2062,9,0) -> 4.91047
A27: 0804 | B27: Dates, figs, pineapples, avocados, guava, mango and mangosteen or garcinia, fresh or dried | K27: 136.569 | L27: 161.60198 | M27: 0 | N27: 0 | O27: 623.4 | P27: 32.892 | Q27: 4.002 | R27: 1.55628 | S27: 3.15 | T27: 6.48131 | U27: 2.856 | V27: 1.57496 | W27: 17.5 | X27: 19.596 | Y27: 86.5694 | Z27: 66.62548 | AA27: 245.586 | AB27: 258.362 | AC27: 290.31445 | AD27: 316.36119 | AE27: 28.5 | AF27: 25.255 | AG27: 24.84267 | AH27: 50.4429 | AI27: 0 | AJ27: 0 | AK27: 14.8709 | AL27: 22.21328 | AM27: 6.25 | AN27: 9.47 | AO27: 35.2117 | AP27: 82.08494 | AQ27: 6.74 | AR27: 4.629 | AS27: 28.126 | AT27: 110.76309 | AU27: =VLOOKUP($A$8:$A$72,[1]Лист1!$A$15:$I$2062,4,0) -> 6.74 | AV27: =VLOOKUP($A$8:$A$72,[1]Лист1!$A$15:$I$2062,6,0) -> 4.629 | AW27: =VLOOKUP($A$8:$A$72,[1]Лист1!$A$15:$I$2062,7,0) -> 21.64 | AX27: =VLOOKUP($A$8:$A$72,[1]Лист1!$A$15:$I$2062,9,0) -> 87.98247 | AY27: 0 | AZ27: 0 | BA27: 4.89308 | BB27: 3.05248
A28: 0805 | B28: Citrus fruits, fresh or dried | K28: 771.76 | L28: 210.70942 | M28: 25.598 | N28: 36.021 | O28: 1162.85 | P28: 56.42264 | Q28: 305.4926 | R28: 243.7522 | S28: 8145.25 | T28: 6803.1924 | U28: 0 | V28: 0 | W28: 0 | X28: 0 | Y28: 164.676 | Z28: 112.48358 | AA28: 0 | AB28: 0 | AC28: 825.0076 | AD28: 663.87766 | AE28: 110.755 | AF28: 77.74573 | AG28: 2957.3914 | AH28: 323.89401 | AI28: 0 | AJ28: 0 | AK28: 55.649 | AL28: 44.25929 | AM28: 0 | AN28: 0 | AO28: 47.6 | AP28: 18.08421 | AQ28: 51.425 | AR28: 76.006 | AS28: 144.95 | AT28: 88.58048 | AU28: =VLOOKUP($A$8:$A$72,[1]Лист1!$A$15:$I$2062,4,0) -> 51.425 | AV28: =VLOOKUP($A$8:$A$72,[1]Лист1!$A$15:$I$2062,6,0) -> 76.006 | AW28: =VLOOKUP($A$8:$A$72,[1]Лист1!$A$15:$I$2062,7,0) -> 50.88 | AX28: =VLOOKUP($A$8:$A$72,[1]Лист1!$A$15:$I$2062,9,0) -> 25.70117 | AY28: 0 | AZ28: 0 | BA28: 24.4 | BB28: 18.24241
A29: 0806 | B29: Grapes, fresh or dried | K29: 341.838 | L29: 282.73481 | M29: 86.607 | N29: 68.2596 | O29: 109.2 | P29: 7.0049 | Q29: 1355.4662 | R29: 132.87037 | S29: 0 | T29: 0 | U29: 350.722 | V29: 154.1828 | W29: 19.23 | X29: 11.70482 | Y29: 0.3 | Z29: 0.438 | AE29: 0 | AF29: 0 | AG29: 11.987 | AH29: 13.76235 | AI29: 0 | AJ29: 0 | AK29: 45.528 | AL29: 17.50732 | AM29: 0 | AN29: 0 | AO29: 28.52 | AP29: 9.7497 | AQ29: 75.003 | AR29: 109.78 | AS29: 9.25 | AT29: 3.22708 | AU29: =VLOOKUP($A$8:$A$72,[1]Лист1!$A$15:$I$2062,4,0) -> 75.003 | AV29: =VLOOKUP($A$8:$A$72,[1]Лист1!$A$15:$I$2062,6,0) -> 109.78 | AW29: =VLOOKUP($A$8:$A$72,[1]Лист1!$A$15:$I$2062,7,0) -> 7.39 | AX29: =VLOOKUP($A$8:$A$72,[1]Лист1!$A$15:$I$2062,9,0) -> 2.11689 | AY29: 0 | AZ29: 0 | BA29: 0.4 | BB29: 0.10313
A30: 0807 | B30: Melons (including watermelons) and papaya, fresh | C30: 4545.2 | D30: 685.99314 | E30: 0 | F30: 0 | G30: 5913.6773 | H30: 647.29801 | I30: 0 | J30: 0 | K30: 8085.292 | L30: 1139.8092 | M30: 0 | N30: 0 | O30: 7996.833 | P30: 1327.1285 | Q30: 0 | R30: 0 | S30: 8173.452 | T30: 1285.8668 | U30: 0 | V30: 0 | W30: 6760.4043 | X30: 1445.8675 | Y30: 24.75 | Z30: 5.543 | AA30: 5624.4887 | AB30: 1018.2179 | AC30: 0.1202 | AD30: 0.90532 | AE30: 18 | AF30: 6.55448 | AG30: 1.5 | AH30: 0.28002 | AI30: 171.782 | AJ30: 69.956 | AK30: 3.136 | AL30: 0.41483 | AM30: 8.04 | AN30: 6.416 | AO30: 0.2 | AP30: 0.02364 | AQ30: 0 | AR30: 0 | AS30: 20.92 | AT30: 8.67796 | AU30: =VLOOKUP($A$8:$A$72,[1]Лист1!$A$15:$I$2062,4,0) -> 0 | AV30: =VLOOKUP($A$8:$A$72,[1]Лист1!$A$15:$I$2062,6,0) -> 0 | AW30: =VLOOKUP($A$8:$A$72,[1]Лист1!$A$15:$I$2062,7,0) -> 20.92 | AX30: =VLOOKUP($A$8:$A$72,[1]Лист1!$A$15:$I$2062,9,0) -> 8.67796
A31: 0808 | B31: Apples, pears and quince, fresh | K31: 326.059 | L31: 171.0507 | M31: 52.147 | N31: 19.167 | O31: 2749.4697 | P31: 1007.4068 | Q31: 1208.006 | R31: 106.40503 | S31: 2455.8564 | T31: 1867.1366 | U31: 150.194 | V31: 25.87087 | W31: 2688.5801 | X31: 1948.2357 | Y31: 225.0975 | Z31: 32.9791 | AA31: 2066.8801 | AB31: 1693.7298 | AC31: 90.552 | AD31: 7.23462 | AE31: 650.93556 | AF31: 556.25423 | AG31: 18.605 | AH31: 29.5312 | AI31: 381.32603 | AJ31: 336.70505 | AK31: 908.814 | AL31: 283.90169 | AM31: 115.84956 | AN31: 97.93671 | AO31: 1202.01 | AP31: 308.69152 | AQ31: 794.31 | AR31: 770.275 | AS31: 283.576 | AT31: 55.45066 | AU31: =VLOOKUP($A$8:$A$72,[1]Лист1!$A$15:$I$2062,4,0) -> 561.046 | AV31: =VLOOKUP($A$8:$A$72,[1]Лист1!$A$15:$I$2062,6,0) -> 559.796 | AW31: =VLOOKUP($A$8:$A$72,[1]Лист1!$A$15:$I$2062,7,0) -> 274.825 | AX31: =VLOOKUP($A$8:$A$72,[1]Лист1!$A$15:$I$2062,9,0) -> 50.13108 | AY31: 204 | AZ31: 371.667 | BA31: 30.25 | BB31: 5.66553
A32: 0809 | B32: Apricots, cherries and black cherries, peaches (including nectarines), plums and sloes, fresh | G32: 0 | H32: 0 | I32: 0.25 | J32: 0.4455 | K32: 0 | L32: 0 | M32: 35.6603 | N32: 44.86278 | O32: 395.1 | P32: 15.95 | Q32: 5391.451 | R32: 522.28922 | S32: 126.844 | T32: 118.30081 | U32: 101.4986 | V32: 97.25999 | W32: 311.54 | X32: 69.58043 | Y32: 158.5 | Z32: 19.444 | AA32: 2.3 | AB32: 1.66888 | AC32: 19.1 | AD32: 1.252 | AE32: 0 | AF32: 0 | AG32: 66 | AH32: 56.90182 | AI32: 0 | AJ32: 0 | AK32: 674.944 | AL32: 296.49542 | AM32: 0 | AN32: 0 | AO32: 2249.16 | AP32: 662.81356 | AQ32: 0 | AR32: 0 | AS32: 24.759 | AT32: 15.94603 | AU32: =VLOOKUP($A$8:$A$72,[1]Лист1!$A$15:$I$2062,4,0) -> 0 | AV32: =VLOOKUP($A$8:$A$72,[1]Лист1!$A$15:$I$2062,6,0) -> 0 | AW32: =VLOOKUP($A$8:$A$72,[1]Лист1!$A$15:$I$2062,7,0) -> 8.231 | AX32: =VLOOKUP($A$8:$A$72,[1]Лист1!$A$15:$I$2062,9,0) -> 7.007 | AY32: 0 | AZ32: 0 | BA32: 0.15 | BB32: 0.0418
A33: 0810 | B33: Other fruits, fresh | C33: 0 | D33: 0 | E33: 0.3 | F33: 0.45416 | G33: 0 | H33: 0 | I33: 0.95 | J33: 0.7109 | K33: 250.72 | L33: 231.06661 | M33: 1577.5205 | N33: 171.76903 | O33: 258.35 | P33: 12.66 | Q33: 1389.729 | R33: 139.04613 | S33: 0 | T33: 0 | U33: 217.001 | V33: 90.85527 | W33: 11.04 | X33: 5.253 | Y33: 15.015 | Z33: 3.7969 | AA33: 135.943 | AB33: 151.734 | AC33: 42.84862 | AD33: 77.56328 | AE33: 22.06 | AF33: 16.43955 | AG33: 56.393 | AH33: 87.662 | AI33: 0 | AJ33: 0 | AK33: 1113.281 | AL33: 498.5865 | AM33: 4.4 | AN33: 4.524 | AO33: 34016.522 | AP33: 1380.3092 | AQ33: 0.224 | AR33: 0.28 | AS33: 7485.167 | AT33: 175.16499 | AU33: =VLOOKUP($A$8:$A$72,[1]Лист1!$A$15:$I$2062,4,0) -> 0.224 | AV33: =VLOOKUP($A$8:$A$72,[1]Лист1!$A$15:$I$2062,6,0) -> 0.28 | AW33: =VLOOKUP($A$8:$A$72,[1]Лист1!$A$15:$I$2062,7,0) -> 7470.297 | AX33: =VLOOKUP($A$8:$A$72,[1]Лист1!$A$15:$I$2062,9,0) -> 166.5071 | AY33: 0 | AZ33: 0 | BA33: 0.1 | BB33: 0.02861
A34: 0811 | B34: Fruit and nuts, uncooked or boiled in boiling water or steamed, frozen, whether or not containing added sugar or other sweetening matter | G34: 0 | H34: 0 | I34: 0.027 | J34: 0.3938 | K34: 0 | L34: 0 | M34: 0.1965 | N34: 0.8937 | O34: 0.01 | P34: 0.02851 | Q34: 0.622 | R34: 0.18892 | S34: 0.054 | T34: 0.31386 | U34: 3.98666 | V34: 9.33235 | W34: 0 | X34: 0 | Y34: 11.1824 | Z34: 13.31772 | AA34: 0 | AB34: 0 | AC34: 185.042 | AD34: 86.51436 | AE34: 0 | AF34: 0 | AG34: 37.816 | AH34: 16.44022 | AI34: 0 | AJ34: 0 | AK34: 218.202 | AL34: 173.65862 | AM34: 0 | AN34: 0 | AO34: 182.211 | AP34: 281.42677 | AQ34: 388.2159 | AR34: 1201.8304 | AS34: 342.781 | AT34: 848.42675 | AU34: =VLOOKUP($A$8:$A$72,[1]Лист1!$A$15:$I$2062,4,0) -> 189.1359 | AV34: =VLOOKUP($A$8:$A$72,[1]Лист1!$A$15:$I$2062,6,0) -> 493.16005 | AW34: =VLOOKUP($A$8:$A$72,[1]Лист1!$A$15:$I$2062,7,0) -> 96.998 | AX34: =VLOOKUP($A$8:$A$72,[1]Лист1!$A$15:$I$2062,9,0) -> 254.5941 | AY34: 79.4 | AZ34: 386.97857 | BA34: 226.194 | BB34: 589.89548
A35: 0813 | B35: Dried fruits, other than those of headings 0801 to 0806; mixtures of nuts or dried fruits of this Chapter | G35: 0 | H35: 0 | I35: 0.3375 | J35: 2.32557 | K35: 0 | L35: 0 | M35: 1.59725 | N35: 5.15871 | O35: 20.5 | P35: 1.136 | Q35: 18.72275 | R35: 10.14004 | S35: 0.17 | T35: 0.48 | U35: 45.58258 | V35: 15.23392 | W35: 0.173 | X35: 0.406 | Y35: 81.964 | Z35: 54.16846 | AA35: 51.868 | AB35: 89.359 | AC35: 4.28295 | AD35: 18.40759 | AE35: 0 | AF35: 0 | AG35: 2.74655 | AH35: 23.05139 | AI35: 0 | AJ35: 0 | AK35: 323.34095 | AL35: 123.88466 | AM35: 0 | AN35: 0 | AO35: 116.32325 | AP35: 111.4707 | AQ35: 0 | AR35: 0 | AS35: 36.4992 | AT35: 132.00029 | AU35: =VLOOKUP($A$8:$A$72,[1]Лист1!$A$15:$I$2062,4,0) -> 0 | AV35: =VLOOKUP($A$8:$A$72,[1]Лист1!$A$15:$I$2062,6,0) -> 0 | AW35: =VLOOKUP($A$8:$A$72,[1]Лист1!$A$15:$I$2062,7,0) -> 36.057 | AX35: =VLOOKUP($A$8:$A$72,[1]Лист1!$A$15:$I$2062,9,0) -> 112.84705 | AY35: 0 | AZ35: 0 | BA35: 4.18 | BB35: 10.3513
A36: 0904 | B36: Pepper of the genus piper; fruits of the genus capsicum or genus pimenta, dried, crushed or ground | G36: 0 | H36: 0 | I36: 4.69521 | J36: 67.0965 | K36: 0 | L36: 0 | M36: 6.96298 | N36: 80.8548 | O36: 0 | P36: 0 | Q36: 5.96715 | R36: 71.35536 | S36: 0 | T36: 0 | U36: 8.81764 | V36: 65.87167 | W36: 0.393 | X36: 1.664 | Y36: 81.78867 | Z36: 384.41186 | AA36: 0.045 | AB36: 0.12393 | AC36: 129.54341 | AD36: 559.79664 | AE36: 0.924 | AF36: 5.15993 | AG36: 129.76373 | AH36: 642.79311 | AI36: 2.8778 | AJ36: 14.32658 | AK36: 99.05051 | AL36: 508.59821 | AM36: 2.32985 | AN36: 12.3702 | AO36: 102.808 | AP36: 469.47266 | AQ36: 1.6228 | AR36: 6.81449 | AS36: 75.84157 | AT36: 487.83485 | AU36: =VLOOKUP($A$8:$A$72,[1]Лист1!$A$15:$I$2062,4,0) -> 1.6228 | AV36: =VLOOKUP($A$8:$A$72,[1]Лист1!$A$15:$I$2062,6,0) -> 6.81449 | AW36: =VLOOKUP($A$8:$A$72,[1]Лист1!$A$15:$I$2062,7,0) -> 43.37423 | AX36: =VLOOKUP($A$8:$A$72,[1]Лист1!$A$15:$I$2062,9,0) -> 304.73187 | AY36: 0 | AZ36: 0 | BA36: 41.8132 | BB36: 220.53858
A37: 0906 | B37: Cinnamon and flowers of the cinnamon tree | G37: 0 | H37: 0 | I37: 0.712 | J37: 5.2726 | K37: 0 | L37: 0 | M37: 0.5035 | N37: 3.7623 | O37: 0.00114 | P37: 0.0072 | Q37: 0.6044 | R37: 4.26682 | S37: 0 | T37: 0 | U37: 0.6351 | V37: 4.59256 | W37: 0 | X37: 0 | Y37: 2.03593 | Z37: 14.75746 | AA37: 0 | AB37: 0 | AC37: 3.36918 | AD37: 41.15341 | AE37: 0 | AF37: 0 | AG37: 1.89176 | AH37: 31.05362 | AI37: 0.0108 | AJ37: 0.08228 | AK37: 3.5064 | AL37: 29.74571 | AM37: 0.02865 | AN37: 0.22751 | AO37: 7.0929 | AP37: 42.30785 | AQ37: 0.003 | AR37: 0.02465 | AS37: 9.0208 | AT37: 48.28233 | AU37: =VLOOKUP($A$8:$A$72,[1]Лист1!$A$15:$I$2062,4,0) -> 0.003 | AV37: =VLOOKUP($A$8:$A$72,[1]Лист1!$A$15:$I$2062,6,0) -> 0.02465 | AW37: =VLOOKUP($A$8:$A$72,[1]Лист1!$A$15:$I$2062,7,0) -> 6.8395 | AX37: =VLOOKUP($A$8:$A$72,[1]Лист1!$A$15:$I$2062,9,0) -> 29.86985 | AY37: 0 | AZ37: 0 | BA37: 4.4516 | BB37: 22.0752
A38: 0907 | B38: Carnation (whole fruits, flowers and stalks) | G38: 0 | H38: 0 | I38: 0.044 | J38: 0.8644 | K38: 0 | L38: 0 | M38: 0.075 | N38: 1.7255 | O38: 0 | P38: 0 | Q38: 0.04 | R38: 0.9087 | S38: 0 | T38: 0 | U38: 0.075 | V38: 1.6467 | W38: 0 | X38: 0 | Y38: 0.3714 | Z38: 5.42265 | AA38: 0 | AB38: 0 | AC38: 0.44944 | AD38: 7.22108 | AE38: 0 | AF38: 0 | AG38: 0.664 | AH38: 13.03221 | AI38: 0 | AJ38: 0 | AK38: 0.946 | AL38: 19.15545 | AM38: 0.0084 | AN38: 0.17633 | AO38: 1.35075 | AP38: 23.50836 | AQ38: 0 | AR38: 0 | AS38: 1.13 | AT38: 28.16818 | AU38: =VLOOKUP($A$8:$A$72,[1]Лист1!$A$15:$I$2062,4,0) -> 0 | AV38: =VLOOKUP($A$8:$A$72,[1]Лист1!$A$15:$I$2062,6,0) -> 0 | AW38: =VLOOKUP($A$8:$A$72,[1]Лист1!$A$15:$I$2062,7,0) -> 0.715 | AX38: =VLOOKUP($A$8:$A$72,[1]Лист1!$A$15:$I$2062,9,0) -> 16.61286 | AY38: 0 | AZ38: 0 | BA38: 0.41275 | BB38: 11.70339
A39: 0908 | B39: Nutmeg, mace and cardamom | G39: 0 | H39: 0 | I39: 0.04607 | J39: 0.5342 | K39: 0 | L39: 0 | M39: 0.092 | N39: 1.1818 | O39: 0 | P39: 0 | Q39: 0.08 | R39: 1.0462 | S39: 0 | T39: 0 | U39: 0.064 | V39: 0.7754 | W39: 0 | X39: 0 | Y39: 0.279 | Z39: 1.99408 | AA39: 0 | AB39: 0 | AC39: 0.4848 | AD39: 4.14831 | AE39: 0 | AF39: 0 | AG39: 0.5163 | AH39: 4.16994 | AI39: 0 | AJ39: 0 | AK39: 0.4291 | AL39: 3.07641 | AM39: 0 | AN39: 0 | AO39: 1.5879 | AP39: 6.60893 | AQ39: 0 | AR39: 0 | AS39: 1.6612 | AT39: 16.42989 | AU39: =VLOOKUP($A$8:$A$72,[1]Лист1!$A$15:$I$2062,4,0) -> 0 | AV39: =VLOOKUP($A$8:$A$72,[1]Лист1!$A$15:$I$2062,6,0) -> 0 | AW39: =VLOOKUP($A$8:$A$72,[1]Лист1!$A$15:$I$2062,7,0) -> 0.5679 | AX39: =VLOOKUP($A$8:$A$72,[1]Лист1!$A$15:$I$2062,9,0) -> 2.78897 | AY39: 0 | AZ39: 0 | BA39: 0.0243 | BB39: 0.40034
A40: 0909 | B40: Seeds of anise, star anise, fennel, coriander, Roman cumin, or Volosh cumin, or cumin; juniper berries | G40: 0 | H40: 0 | I40: 0.1875 | J40: 0.6394 | K40: 0 | L40: 0 | M40: 0.32125 | N40: 1.5804 | O40: 0 | P40: 0 | Q40: 0.36 | R40: 1.4647 | S40: 0 | T40: 0 | U40: 0.2025 | V40: 0.6776 | W40: 0 | X40: 0 | Y40: 5.16625 | Z40: 12.73985 | AA40: 0 | AB40: 0 | AC40: 6.07572 | AD40: 14.13007 | AE40: 0 | AF40: 0 | AG40: 7.95425 | AH40: 22.66969 | AI40: 0.48846 | AJ40: 2.69502 | AK40: 6.42391 | AL40: 21.624 | AM40: 0.22669 | AN40: 1.49202 | AO40: 91.83056 | AP40: 77.97879 | AQ40: 0.1366 | AR40: 1.0206 | AS40: 113.43527 | AT40: 96.94322 | AU40: =VLOOKUP($A$8:$A$72,[1]Лист1!$A$15:$I$2062,4,0) -> 0.1366 | AV40: =VLOOKUP($A$8:$A$72,[1]Лист1!$A$15:$I$2062,6,0) -> 1.0206 | AW40: =VLOOKUP($A$8:$A$72,[1]Лист1!$A$15:$I$2062,7,0) -> 79.9485 | AX40: =VLOOKUP($A$8:$A$72,[1]Лист1!$A$15:$I$2062,9,0) -> 69.9495 | AY40: 0 | AZ40: 0 | BA40: 81.66246 | BB40: 29.85441
A41: 0910 | B41: Ginger, saffron, turmeric (turmeric), thyme or thyme, bay leaf, curry and other spices | G41: 0 | H41: 0 | I41: 2.09893 | J41: 17.80437 | K41: 0 | L41: 0 | M41: 2.07118 | N41: 21.1875 | O41: 0.0009 | P41: 0.00292 | Q41: 2.11004 | R41: 16.09642 | S41: 0 | T41: 0 | U41: 55.36166 | V41: 181.28145 | W41: 0 | X41: 0 | Y41: 32.92351 | Z41: 98.08075 | AA41: 0 | AB41: 0 | AC41: 54.90036 | AD41: 138.97992 | AE41: 0.1625 | AF41: 1.16367 | AG41: 87.58469 | AH41: 314.93729 | AI41: 0.31 | AJ41: 2.25593 | AK41: 181.7379 | AL41: 481.08618 | AM41: 0.2675 | AN41: 2.62518 | AO41: 225.56185 | AP41: 598.92604 | AQ41: 0 | AR41: 0 | AS41: 144.25643 | AT41: 480.21555 | AU41: =VLOOKUP($A$8:$A$72,[1]Лист1!$A$15:$I$2062,4,0) -> 0 | AV41: =VLOOKUP($A$8:$A$72,[1]Лист1!$A$15:$I$2062,6,0) -> 0 | AW41: =VLOOKUP($A$8:$A$72,[1]Лист1!$A$15:$I$2062,7,0) -> 111.29359 | AX41: =VLOOKUP($A$8:$A$72,[1]Лист1!$A$15:$I$2062,9,0) -> 363.10734 | AY41: 0.075 | AZ41: 0.58853 | BA41: 47.24807 | BB41: 139.11311
...
