Workbook

Sheet РК
A1: Экспорт и импорт сельскохозяйственной переработанной продукции
A2: Республика Казахстан
A4: ТНВЭД ЕАЭС | B4: Наименование товара | C4: 2015 | G4: 2016 | K4: 2017 | O4: 2018 | S4: 2019 | W4: 2020 | AA4: 2021 | AE4: 2022* | AI4: январь-март 2022 года* | AM4: январь-март 2023 года*
C5: экспорт | E5: импорт | G5: экспорт | I5: импорт | K5: экспорт | M5: импорт | O5: экспорт | Q5: импорт | S5: экспорт | U5: импорт | W5: экспорт | Y5: импорт | AA5: экспорт | AC5: импорт | AE5: экспорт | AG5: импорт | AI5: экспорт | AK5: импорт | AM5: экспорт | AO5: импорт
C6: тонн | D6: тыс. долларов США | E6: тонн | F6: тыс. долларов США | G6: тонн | H6: тыс. долларов США | I6: тонн | J6: тыс. долларов США | K6: тонн | L6: тыс. долларов США | M6: тонн | N6: тыс. долларов США | O6: тонн | P6: тыс. долларов США | Q6: тонн | R6: тыс. долларов США | S6: тонн | T6: тыс. долларов США | U6: тонн | V6: тыс. долларов США | W6: тонн | X6: тыс. долларов США | Y6: тонн | Z6: тыс. долларов США | AA6: тонн | AB6: тыс. долларов США | AC6: тонн | AD6: тыс. долларов США | AE6: тонн | AF6: тыс. долларов США | AG6: тонн | AH6: тыс. долларов США | AI6: тонн | AJ6: тыс. долларов США | AK6: тонн | AL6: тыс. долларов США | AM6: тонн | AN6: тыс. долларов США | AO6: тонн | AP6: тыс. долларов США
B7: Всего | C7: 2387083.5 | D7: 945072.07 | E7: 5532790.8 | F7: 2235116.9 | G7: 3254185.5 | H7: 978157.35 | I7: 6453889.4 | J7: 2055189.5 | K7: 3296552.8 | L7: 1087154 | M7: 6386275.5 | N7: 2383478.3 | O7: 3535517.9 | P7: 1133507 | Q7: 6308697.2 | R7: 2424534.8 | S7: 2792553.6 | T7: 1114967.2 | U7: 6549581.2 | V7: 2602361 | W7: 3086369.8 | X7: 1348724.9 | Y7: 5736979.4 | Z7: 2752170.6 | AA7: 2621436 | AB7: 1428413 | AC7: 6287915.3 | AD7: 3286411.9 | AE7: =SUM(AE8:AE120) -> 3845691.8 | AF7: =SUM(AF8:AF120) -> 2341248.6 | AG7: =SUM(AG8:AG120) -> 6201049.8 | AH7: =SUM(AH8:AH120) -> 4073378.9 | AI7: =SUM(AI8:AI120) -> 835819.09 | AJ7: =SUM(AJ8:AJ120) -> 476851.7 | AK7: =SUM(AK8:AK120) -> 1421094.3 | AL7: =SUM(AL8:AL120) -> 762697.35 | ... AP7: =SUM(AP8:AP120) -> 1034877.7
A8: 0206 | B8: Пищевые субпродукты крупного рогатого скота, свиней, овец, коз, лошадей, ослов, мулов или лошаков, свежие, охлажденные или замороженные | C8: 95.5059 | D8: 46.08841 | E8: 2919.4277 | F8: 3153.7196 | G8: 845.19389 | H8: 1277.8861 | I8: 3127.9069 | J8: 3608.9068 | K8: 1222.0406 | L8: 1683.41 | M8: 3555.2578 | N8: 3886.7782 | O8: 747.9433 | P8: 895.7 | Q8: 2271.3 | R8: 3088.3 | S8: 398.76665 | T8: 315.98188 | U8: 1521.0935 | V8: 2051.3484 | W8: 875.96585 | X8: 398.56832 | Y8: 1874.3899 | Z8: 2140.8112 | AA8: 361.06536 | AB8: 284.16418 | AC8: 1906.084 | AD8: 3719.4981 | AE8: 60.3809 | AF8: 87.72602 | AG8: 1007.7293 | AH8: 1949.5178 | AI8: 29.13548 | AJ8: 21.90156 | AK8: 261.43149 | AL8: 456.8964 | AM8: 660.66159 | AN8: 250.13696 | AO8: 319.8616 | AP8: 483.15109
A9: 0207 | B9: Мясо и пищевые субпродукты домашней птицы, указанной в товарной позиции 0105, свежие, охлажденные или замороженные | C9: 7896.7223 | D9: 12843.376 | E9: 161750.11 | F9: 144447.59 | G9: 8778.9208 | H9: 11813.547 | I9: 165560.85 | J9: 131379.86 | K9: 5954.5733 | L9: 9994.8817 | M9: 173765.52 | N9: 148402.2 | O9: 8557.8398 | P9: 11887.3 | Q9: 191752.5 | R9: 152289.6 | S9: 13764.203 | T9: 21236.414 | U9: 173354.86 | V9: 178664.53 | W9: 12629.963 | X9: 16903.9 | Y9: 183437.65 | Z9: 165173.11 | AA9: 24699.412 | AB9: 38903.984 | AC9: 168579.95 | AD9: 167719.64 | AE9: 14677.593 | AF9: 25877.126 | AG9: 153135.95 | AH9: 208404.94 | AI9: 2959.8177 | AJ9: 4612.8826 | AK9: 26306.329 | AL9: 31701.87 | AM9: 6567.4141 | AN9: 9941.7724 | AO9: 23769.318 | AP9: 31294.105
A10: 0209 | B10: Свиной жир, отделенный от тощего мяса, и жир домашней птицы, не вытопленные или не извлеченные другим способом, свежие, охлажденные, мороженые, соленые, в рассоле, сушеные или копченые | C10: 412.96712 | D10: 391.1985 | E10: 514.48455 | F10: 556.1577 | G10: 237.878 | H10: 268.08454 | I10: 243.88508 | J10: 318.8518 | K10: 665.5115 | L10: 740.19127 | M10: 807.41013 | N10: 800.34965 | O10: 403.9469 | P10: 380.8 | Q10: 476 | R10: 558.5 | S10: 368.896 | T10: 277.46485 | U10: 289.64764 | V10: 345.91527 | W10: 227.49 | X10: 213.15974 | Y10: 313.99295 | Z10: 405.17445 | AA10: 122.019 | AB10: 136.23778 | AC10: 225.85958 | AD10: 359.82919 | AE10: 5.50962 | AF10: 3.65737 | AG10: 420.14568 | AH10: 762.52737 | AI10: 1.5 | AJ10: 0.90144 | AK10: 104.153 | AL10: 123.04105 | AM10: 0 | AN10: 0 | AO10: 70.25422 | AP10: 124.60907
A11: 0210 | B11: Мясо и пищевые мясные субпродукты, соленые, в рассоле, сушеные или копченые; пищевая мука тонкого и грубого помола из мяса или мясных субпродуктов | C11: 0 | D11: 0 | E11: 450.09513 | F11: 890.42408 | G11: 283.6059 | H11: 30.19201 | I11: 99.66796 | J11: 308.70541 | K11: 246.63 | L11: 85.05569 | M11: 139.31276 | N11: 341.3566 | O11: 19.801 | P11: 3.9 | Q11: 101.7 | R11: 351.7 | S11: 129.9 | T11: 19.39402 | U11: 230.57335 | V11: 734.5786 | W11: 166.12006 | X11: 17.9983 | Y11: 154.99172 | Z11: 450.45185 | AA11: 441.19 | AB11: 69.50569 | AC11: 322.08426 | AD11: 1248.1715 | AE11: 28.12 | AF11: 44.26302 | AG11: 428.62096 | AH11: 783.67128 | AI11: 27.6 | AJ11: 24.84 | AK11: 18.8404 | AL11: 114.09368 | AM11: 0 | AN11: 0 | AO11: 15.63024 | AP11: 124.54178
A12: 0304 | B12: Филе рыбное и прочее мясо рыбы (включая фарш), свежие, охлажденные или мороженые | C12: 6416.503 | D12: 42015.733 | E12: 3232.3345 | F12: 4287.9636 | G12: 7109.8022 | H12: 39963.345 | I12: 1539.805 | J12: 2570.2887 | K12: 7354.3747 | L12: 40233.485 | M12: 2711.0964 | N12: 4432.8733 | O12: 8054.7887 | P12: 43994.1 | Q12: 1812 | R12: 4663.5 | S12: 6808.5853 | T12: 36000.627 | U12: 2887.5562 | V12: 6907.0563 | W12: 6947.7464 | X12: 36297.06 | Y12: 1759.4005 | Z12: 4192.1427 | AA12: 6222.9939 | AB12: 29026.742 | AC12: 2143.3376 | AD12: 6407.9888 | AE12: 9851.6421 | AF12: 61172.63 | AG12: 2764.2512 | AH12: 11405.103 | AI12: 1924.76 | AJ12: 9637.8291 | AK12: 628.36982 | AL12: 2343.0423 | AM12: 2699.1775 | AN12: 19726.87 | AO12: 1128.9313 | AP12: 3722.5556
A13: 0305 | B13: Рыба сушеная, соленая или в рассоле; рыба горячего или холодного копчения; рыбная мука тонкого и грубого помола и гранулы из рыбы, пригодные для употребления в пищу | C13: 1372.0576 | D13: 1274.0756 | E13: 740.23483 | F13: 3867.8069 | G13: 1365.9285 | H13: 1377.2705 | I13: 860.6418 | J13: 3254.7234 | K13: 1307.3276 | L13: 1943.8732 | M13: 662.83946 | N13: 3286.7173 | O13: 1865.0013 | P13: 2374.3 | Q13: 947.1 | R13: 3837.2 | S13: 2697.0516 | T13: 3237.4332 | U13: 794.45222 | V13: 4231.9207 | W13: 2871.9534 | X13: 5373.1995 | Y13: 849.21536 | Z13: 4765.089 | AA13: 2503.0186 | AB13: 6162.4321 | AC13: 814.02582 | AD13: 5257.5537 | AE13: 1733.7626 | AF13: 9232.2518 | AG13: 461.56064 | AH13: 4466.1745 | AI13: 315.624 | AJ13: 839.77155 | AK13: 114.55869 | AL13: 829.81274 | AM13: 335.22691 | AN13: 1841.8772 | AO13: 222.75283 | AP13: 1092.6441
A14: 0401 | B14: Молоко и сливки, несгущенные и без добавления сахара или других подслащивающих веществ | C14: 7568.2716 | D14: 4002.7343 | E14: 46260.736 | F14: 33216.546 | G14: 11975.917 | H14: 5582.7026 | I14: 34833.187 | J14: 25722.298 | K14: 19217.882 | L14: 9431.7907 | M14: 34760.417 | N14: 27619.057 | O14: 27424.163 | P14: 11870.3 | Q14: 21255.9 | R14: 17289 | S14: 38853.633 | T14: 16702.07 | U14: 21853.178 | V14: 17478.059 | W14: 37662.115 | X14: 18454.643 | Y14: 28106.555 | Z14: 27517.501 | AA14: 32285.757 | AB14: 16976.375 | AC14: 23813.45 | AD14: 22365.282 | AE14: 13750.756 | AF14: 10538.135 | AG14: 26060.172 | AH14: 31062.391 | AI14: 4555.2506 | AJ14: 2903.6393 | AK14: 5999.3789 | AL14: 6355.3744 | AM14: 1599.8708 | AN14: 1506.1448 | AO14: 8711.8913 | AP14: 9674.8039
A15: 0402 | B15: Молоко и сливки, сгущенные или с добавлением сахара или других подслащивающих веществ | C15: 523.3992 | D15: 1025.8647 | E15: 41150.786 | F15: 75091.917 | G15: 368.20181 | H15: 670.13175 | I15: 43890.005 | J15: 75688.693 | K15: 886.37946 | L15: 1084.0201 | M15: 45327.946 | N15: 91883.649 | O15: 733.47966 | P15: 1095.1 | Q15: 44152.9 | R15: 79962.1 | S15: 912.41931 | T15: 1845.4748 | U15: 38789.73 | V15: 76632.499 | W15: 1476.0671 | X15: 7274.4827 | Y15: 47559.918 | Z15: 101048.48 | AA15: 1559.957 | AB15: 5320.6042 | AC15: 37689.341 | AD15: 83718.946 | AE15: 2834.1235 | AF15: 12824.768 | AG15: 41206.921 | AH15: 119564 | AI15: 377.12515 | AJ15: 1476.6269 | AK15: 10386.437 | AL15: 27861.693 | AM15: 648.75932 | AN15: 2935.8085 | AO15: 8640.0831 | AP15: 25085.236
A16: 0403 | B16: Пахта, свернувшиеся молоко и сливки, йогурт, кефир и прочие ферментированные или сквашенные молоко и сливки, сгущенные или несгущенные, с добавлением или без добавления сахара или других подслащивающих веществ, со вкусо-ароматическими добавками или без | C16: 4428.0827 | D16: 3133.3972 | E16: 32442.199 | F16: 35208.22 | G16: 3906.5814 | H16: 2814.0568 | I16: 34760.822 | J16: 30439.966 | K16: 6759.0847 | L16: 5903.2545 | M16: 32409.625 | N16: 36130.859 | O16: 9683.9826 | P16: 8456.6 | Q16: 32170.2 | R16: 37391.4 | S16: 11112.981 | T16: 10021.888 | U16: 36348.285 | V16: 43111.76 | W16: 12098.08 | X16: 12088.84 | Y16: 40056.658 | Z16: 44144.91 | AA16: 14786.291 | AB16: 16383.473 | AC16: 43000.054 | AD16: 45969.509 | AE16: 12685.017 | AF16: 18646.813 | AG16: 42089.063 | AH16: 55082.811 | AI16: 2983.1489 | AJ16: 3651.6978 | AK16: 11712.772 | AL16: 12992.84 | AM16: 3021.2543 | AN16: 4754.7633 | AO16: 10564.172 | AP16: 13772.505
A17: 0404 | B17: Молочная сыворотка, сгущенная или несгущенная, с добавлением или без добавления сахара или других подслащивающих веществ; продукты из натуральных компонентов молока, с добавлением или без добавления сахара или других подслащивающих веществ, в другом мес | C17: 15.099 | D17: 11.07708 | E17: 7063.7161 | F17: 5884.3995 | G17: 1321.1961 | H17: 741.63052 | I17: 8542.3409 | J17: 6594.6943 | K17: 89.7995 | L17: 180.32569 | M17: 8150.6509 | N17: 8314.0286 | O17: 272.67933 | P17: 125.3 | Q17: 9543.6 | R17: 8308.4 | S17: 695.39464 | T17: 377.3904 | U17: 11753.599 | V17: 12516.493 | W17: 880.33668 | X17: 513.71187 | Y17: 13816.121 | Z17: 15128.422 | AA17: 1076.8087 | AB17: 750.96064 | AC17: 15245.95 | AD17: 19670.109 | AE17: 1872.1832 | AF17: 1469.171 | AG17: 10915.518 | AH17: 16043.904 | AI17: 244.2519 | AJ17: 157.37664 | AK17: 2322.2055 | AL17: 3478.0511 | AM17: 554.5413 | AN17: 395.4884 | AO17: 2768.3824 | AP17: 3878.8216
A18: 0405 | B18: Сливочное масло и прочие жиры и масла, изготовленные из молока; молочные пасты | C18: 3119.7767 | D18: 19037.754 | E18: 7573.724 | F18: 22413 | G18: 374.37322 | H18: 1342.2709 | I18: 8868.805 | J18: 26891.304 | K18: 342.09585 | L18: 1440.0789 | M18: 7016.3445 | N18: 26710.602 | O18: 1793.992 | P18: 8884.8 | Q18: 6396.9 | R18: 27360.1 | S18: 2829.5721 | T18: 13727.63 | U18: 5008.803 | V18: 20669.588 | W18: 1622.2936 | X18: 6423.7814 | Y18: 7198.8991 | Z18: 28108.41 | AA18: 4587.5462 | AB18: 20628.069 | AC18: 5238.22 | AD18: 23541.158 | AE18: 3819.3675 | AF18: 25826.425 | AG18: 7815.6684 | AH18: 39813.843 | AI18: 355.59162 | AJ18: 2009.5608 | AK18: 2245.4421 | AL18: 9449.2127 | AM18: 310.6201 | AN18: 1661.1704 | AO18: 1920.2193 | AP18: 11022.383
A19: 0406 | B19: Сыры и творог | C19: 1750.1153 | D19: 4346.2917 | E19: 21202.671 | F19: 63513.011 | G19: 1669.8572 | H19: 4147.221 | I19: 20773.832 | J19: 60760.422 | K19: 2047.1907 | L19: 7975.2982 | M19: 22971.949 | N19: 80238.316 | O19: 2359.0189 | P19: 8941.3 | Q19: 22058 | R19: 76415 | S19: 3419.4444 | T19: 10813.268 | U19: 25434.914 | V19: 87204.422 | W19: 3221.2782 | X19: 10083.739 | Y19: 34590.696 | Z19: 102361.03 | AA19: 3689.3069 | AB19: 10645.395 | AC19: 33253.782 | AD19: 117026.2 | AE19: 2690.5338 | AF19: 10298.657 | AG19: 34932.127 | AH19: 155483.29 | AI19: 525.10021 | AJ19: 1589.2767 | AK19: 7990.2985 | AL19: 27863.548 | AM19: 415.08641 | AN19: 1804.3951 | AO19: 8093.0089 | AP19: 37532.658
... A21: 0712 | B21: Овощи сушеные, целые, нарезанные кусками, ломтиками, измельченные или в виде порошка, но не подвергнутые дальнейшей обработке | C21: 306.375 | D21: 596.49797 | E21: 2145.8054 | F21: 3938.51 | G21: 141.3 | H21: 646.19882 | I21: 1684.2036 | J21: 2260.2684 | K21: 106.7289 | L21: 417.16795 | M21: 1389.8553 | N21: 2286.791 | O21: 34.9522 | P21: 140.6 | Q21: 1704.4 | R21: 2526.9 | S21: 63.5122 | T21: 37.20067 | U21: 28352.497 | V21: 8895.8099 | W21: 208.7584 | X21: 129.06268 | Y21: 25910.199 | Z21: 10100.738 | AA21: 504.6467 | AB21: 329.03712 | AC21: 1867.6307 | AD21: 4217.5284 | AE21: 16.40955 | AF21: 183.67666 | AG21: 1575.115 | AH21: 4830.989 | AI21: 8.6504 | AJ21: 14.3942 | AK21: 461.75087 | AL21: 1344.0195 | AM21: 0.09615 | AN21: 1.10535 | AO21: 712.86543 | AP21: 1029.0962
A22: 0812 | B22: Фрукты и орехи, консервированные для кратковременного хранения (например, диоксидом серы, в рассоле, сернистой воде или в другом временно консервирующем растворе), но в таком виде непригодные для непосредственного употребления в пищу | C22: 0 | D22: 0 | E22: 5.23127 | F22: 7.36041 | G22: 0 | H22: 0 | I22: 185.57232 | J22: 135.59632 | K22: 0 | L22: 0 | M22: 293.59165 | N22: 97.66344 | O22: - | P22: - | Q22: 860.6 | R22: 121.8 | S22: - | T22: - | U22: 41.74002 | V22: 29.63367 | W22: - | X22: - | Y22: 97.22287 | Z22: 68.2548 | AA22: 700 | AB22: 651.92 | AC22: 24.8517 | AD22: 10.5805 | AE22: 0 | AF22: 0 | AG22: 2.26325 | AH22: 5.074 | AI22: 0 | AJ22: 0 | AK22: 0.11325 | AL22: 0.43 | AM22: 0 | AN22: 0 | AO22: 171.56 | AP22: 9.02545
A23: 0814 | B23: Кожура цитрусовых плодов или корки дынь (включая корки арбузов), свежие, морож.,сушеные или консервир. Для кратк. Хран. В рассоле, сернистой воде или в др.временно консервирующем растворе | C23: 0 | D23: 0 | E23: 0.33859 | F23: 0.50043 | G23: 0 | H23: 0 | I23: 0.04864 | J23: 0.498 | K23: 0 | L23: 0 | M23: 1.2875 | N23: 7.159 | O23: - | P23: - | Q23: 6.9 | R23: 31.5 | S23: - | T23: - | U23: 3.19328 | V23: 17.67419 | W23: - | X23: - | Y23: 4.41887 | Z23: 17.11571 | AA23: 20 | AB23: 11.633 | AC23: 7.73461 | AD23: 38.93626 | AE23: 0 | AF23: 0 | AG23: 1.56574 | AH23: 9.74862 | AI23: 0 | AJ23: 0 | AK23: 0.54858 | AL23: 2.80603 | AM23: 0.103 | AN23: 0.00442 | AO23: 0.7789 | AP23: 3.02902
A24: 0901 | B24: Кофе, жареный или нежареный, с кофеином или без кофеина; кофейная шелуха и оболочки зерен кофе; заменители кофе, содержащие кофе в любой пропорции | C24: 5.24296 | D24: 11.07811 | E24: 571.52807 | F24: 4100.4042 | G24: 5.45595 | H24: 4.82267 | I24: 1110.4345 | J24: 4829.0826 | K24: 0.93421 | L24: 9.91204 | M24: 1003.2418 | N24: 6676.0901 | O24: 3.72531 | P24: 27.2 | Q24: 1201.9 | R24: 8139.5 | S24: 41.67477 | T24: 392.35393 | U24: 1614.812 | V24: 10165.298 | W24: 16.04676 | X24: 53.58014 | Y24: 1570.4556 | Z24: 9173.6305 | AA24: 9.26246 | AB24: 66.34566 | AC24: 1901.7465 | AD24: 11877.867 | AE24: 132.80557 | AF24: 1520.7698 | AG24: 2928.794 | AH24: 23091.386 | AI24: 3.0804 | AJ24: 35.28394 | AK24: 479.90313 | AL24: 3534.4694 | AM24: 100.79593 | AN24: 559.98923 | AO24: 767.6145 | AP24: 5776.8375
A25: 0902 | B25: Чай со вкусо-ароматическими добавками или без них | C25: 1687.0302 | D25: 8512.8846 | E25: 28590.181 | F25: 110200.7 | G25: 1991.8324 | H25: 9682.6764 | I25: 30581.287 | J25: 112434.13 | K25: 1864.2452 | L25: 8886.1222 | M25: 33268.804 | N25: 122794.6 | O25: 2958.2544 | P25: 11782.2 | Q25: 30525.6 | R25: 112747.2 | S25: 2621.6373 | T25: 12230.456 | U25: 30663.814 | V25: 107844.27 | W25: 4170.7915 | X25: 18986.658 | Y25: 29271.445 | Z25: 101616.75 | AA25: 3900.1527 | AB25: 20291.117 | AC25: 32297.987 | AD25: 111608.11 | AE25: 4475.7916 | AF25: 26738.755 | AG25: 28386.345 | AH25: 92556.646 | AI25: 1200.2939 | AJ25: 5542.6656 | AK25: 6302.2557 | AL25: 20653.189 | AM25: 681.36804 | AN25: 4166.4711 | AO25: 9530.0951 | AP25: 29981.985
A26: 0903 | B26: Мате (парагвайский чай) | C26: 0 | D26: 0 | E26: 0.14356 | F26: 1.16401 | G26: 0 | H26: 0 | I26: 1.0498 | J26: 9.31384 | K26: 0 | L26: 0 | M26: 2.34318 | N26: 9.5054 | O26: - | P26: - | Q26: 0.4 | R26: 5.2 | S26: - | T26: - | U26: 1.35293 | V26: 3.11637 | W26: - | X26: - | Y26: 0.23383 | Z26: 2.94582 | AA26: 0.8 | AB26: 0.18573 | AC26: 0.35001 | AD26: 4.17693 | AE26: 0 | AF26: 0 | AG26: 0.67568 | AH26: 3.47848 | AI26: 0 | AJ26: 0 | AK26: 0.52813 | AL26: 1.37393 | AM26: 0 | AN26: 0 | AO26: 0.06938 | AP26: 1.1748
A27: 0905 | B27: Ваниль | C27: 0.0045 | D27: 0.04725 | E27: 8.05735 | F27: 33.21878 | G27: 0 | H27: 0 | I27: 4.13182 | J27: 37.98679 | K27: 0 | L27: 0 | M27: 5.31542 | N27: 33.36331 | O27: - | P27: - | Q27: 4.4 | R27: 49.5 | S27: - | T27: - | U27: 3.10766 | V27: 15.26703 | W27: 0.00059 | X27: 0.35914 | Y27: 0.22017 | Z27: 5.65182 | AA27: 8e-05 | AB27: 0.0019 | AC27: 2.9746 | AD27: 78.71569 | AE27: 0.0015 | AF27: 0.043 | AG27: 0.36453 | AH27: 14.24288 | AI27: 0.0015 | AJ27: 0.043 | AK27: 0.0742 | AL27: 2.59127 | AM27: 0 | AN27: 0 | AO27: 0.0014 | AP27: 1.28544
A28: 1101 | B28: Мука пшеничная или пшенично-ржаная | C28: 1822669.2 | D28: 493724.22 | E28: 5973.8701 | F28: 1873.3414 | G28: 2394276.9 | H28: 505110.94 | I28: 2339.4957 | J28: 776.66816 | K28: 2316871.6 | L28: 469402.22 | M28: 2740.3271 | N28: 978.39301 | O28: 2297686.9 | P28: 448385.5 | Q28: 3222.2 | R28: 1116 | S28: 1560146.4 | T28: 362086.9 | U28: 3875.9559 | V28: 1749.9354 | W28: 1743751.7 | X28: 489864.37 | Y28: 7874.0836 | Z28: 2859.4729 | AA28: 1468753 | AB28: 440904.33 | AC28: 9111.8438 | AD28: 3732.2994 | AE28: 1935566.7 | AF28: 753016.68 | AG28: 26137.533 | AH28: 8681.6428 | AI28: 466212.69 | AJ28: 172143.99 | AK28: 4412.3371 | AL28: 1272.7519 | AM28: 453651.95 | AN28: 155001.33 | AO28: 5567.288 | AP28: 1573.575
A29: 1102 | B29: Мука из зерна прочих злаков, кроме пшеничной или пшенично-ржаной | C29: 450.11 | D29: 90.27509 | E29: 3771.8587 | F29: 696.8429 | G29: 2596.967 | H29: 556.46845 | I29: 1255.1069 | J29: 353.02732 | K29: 505.135 | L29: 108.68935 | M29: 1803.5824 | N29: 531.44677 | O29: 286.268 | P29: 54.3 | Q29: 2528.2 | R29: 608.2 | S29: 734.195 | T29: 189.81878 | U29: 3375.517 | V29: 947.59206 | W29: 22.56 | X29: 3.69622 | Y29: 4733.9914 | Z29: 1387.4622 | AA29: 2.28 | AB29: 0.89776 | AC29: 4513.9233 | AD29: 1303.2917 | AE29: 525.84 | AF29: 161.29019 | AG29: 3247.3996 | AH29: 1280.1487 | AI29: 3.48 | AJ29: 7.14815 | AK29: 512.69118 | AL29: 187.16428 | AM29: 136.14 | AN29: 29.9269 | AO29: 779.56967 | AP29: 239.99481
A30: 1103 | B30: Крупа, мука грубого помола и гранулы из зерна злаков | C30: 6158.699 | D30: 2417.01 | E30: 10955.826 | F30: 5773.4591 | G30: 11010.101 | H30: 3840.8359 | I30: 6634.0224 | J30: 2820.0347 | K30: 17302.525 | L30: 7354.2489 | M30: 4819.3866 | N30: 2329.9974 | O30: 25271.23 | P30: 6621.5 | Q30: 6690.9 | R30: 2686.2 | S30: 19879.24 | T30: 5888.6578 | U30: 7402.9995 | V30: 3583.8925 | W30: 13478.447 | X30: 5078.0795 | Y30: 8709.9991 | Z30: 4101.1214 | AA30: 14362.672 | AB30: 7621.5435 | AC30: 7831.4951 | AD30: 4031.1297 | AE30: 10949.188 | AF30: 7683.1054 | AG30: 9014.4136 | AH30: 5147.7041 | AI30: 2450.8314 | AJ30: 1578.9138 | AK30: 1764.6328 | AL30: 788.79034 | AM30: 2652.308 | AN30: 1129.9343 | AO30: 2423.1819 | AP30: 871.18758
A31: 1104 | B31: Зерно злаков, обработанное другими способами (например, шелушеное, плюще?ное, переработанное в хлопья, обрушенное, в виде сечки или дробленое), кроме риса товарной позиции 1006; зародыши зерна злаков, целые, плющеные, в виде хлопьев или молотые | C31: 3939.4872 | D31: 1405.4184 | E31: 8091.4525 | F31: 6065.3141 | G31: 5633.3842 | H31: 2116.8494 | I31: 8724.1345 | J31: 5849.405 | K31: 9296.904 | L31: 4180.5492 | M31: 10258.97 | N31: 6647.2677 | O31: 21636.381 | P31: 5846.3 | Q31: 12834.5 | R31: 7332.8 | S31: 24721.145 | T31: 8241.4517 | U31: 13732.65 | V31: 7967.8217 | W31: 23261.169 | X31: 10813.604 | Y31: 23411.831 | Z31: 9018.239 | AA31: 26831.67 | AB31: 19297.089 | AC31: 17841.088 | AD31: 10286.189 | AE31: 29006.404 | AF31: 26780.655 | AG31: 13008.033 | AH31: 10465.987 | AI31: 5040.3211 | AJ31: 4246.9647 | AK31: 3763.8239 | AL31: 2348.0177 | AM31: 4280.008 | AN31: 2966.0814 | AO31: 3546.3627 | AP31: 1994.7105
A32: 1105 | B32: Мука тонкого и грубого помола, порошок, хлопья, гранулы картофельные | C32: 0 | D32: 0 | E32: 112.30629 | F32: 76.63314 | G32: 0.375 | H32: 0.743 | I32: 120.07096 | J32: 104.57217 | K32: 0.495 | L32: 1.024 | M32: 133.11356 | N32: 152.52953 | O32: - | P32: - | Q32: 155.1 | R32: 169.5 | S32: 20.04 | T32: 0.8584 | U32: 198.96508 | V32: 233.69493 | W32: - | X32: - | Y32: 223.19451 | Z32: 273.53006 | AA32: 0 | AB32: 0 | AC32: 227.35446 | AD32: 356.54147 | AE32: 0 | AF32: 0 | AG32: 314.97029 | AH32: 763.81805 | AI32: 0 | AJ32: 0 | AK32: 78.27751 | AL32: 158.86667 | AM32: 0 | AN32: 0 | AO32: 71.6012 | AP32: 94.81591
A33: 1106 | B33: Мука тонкого и грубого помола и порошок из сушеных бобовых овощей товарной позиции 0713, из сердцевины саговой пальмы, из корнеплодов или клубнеплодов товарной позиции 0714 или продуктов группы 08 | C33: 0 | D33: 0 | E33: 77.17811 | F33: 215.24103 | G33: 0 | H33: 0 | I33: 50.292 | J33: 135.55058 | K33: 0 | L33: 0 | M33: 123.69516 | N33: 155.10661 | O33: - | P33: - | Q33: 41.5 | R33: 147.5 | S33: - | T33: - | U33: 39.59199 | V33: 178.21624 | W33: - | X33: - | Y33: 39.43334 | Z33: 223.90832 | AA33: 0.8 | AB33: 0.67261 | AC33: 80.9911 | AD33: 315.47342 | AE33: 0.1028 | AF33: 3.23772 | AG33: 130.75129 | AH33: 269.4925 | AI33: 0.0496 | AJ33: 1.12353 | AK33: 45.99706 | AL33: 85.75523 | AM33: 0.03714 | AN33: 0.19376 | AO33: 22.64192 | AP33: 113.1959
A34: 1107 | B34: Солод, поджаренный или неподжаренный | C34: 2681.8238 | D34: 1277.4702 | E34: 20294.136 | F34: 7916.2415 | G34: 22181.17 | H34: 7044.6786 | I34: 17490.853 | J34: 6644.5586 | K34: 13529.6 | L34: 4975.4929 | M34: 18524.825 | N34: 8533.6554 | O34: 14961.233 | P34: 5712.4 | Q34: 21002.2 | R34: 8419.1 | S34: 19814.76 | T34: 8129.7217 | U34: 21822.665 | V34: 10053.505 | W34: 16479.95 | X34: 6302.7546 | Y34: 12397.788 | Z34: 4991.9359 | AA34: 17403.12 | AB34: 7527.1327 | AC34: 23220.287 | AD34: 9760.8181 | AE34: 15039.103 | AF34: 8215.8776 | AG34: 17002.046 | AH34: 11462.098 | AI34: 4630.85 | AJ34: 2400.532 | AK34: 3596.9709 | AL34: 1763.1812 | AM34: 3183 | AN34: 2151.8457 | AO34: 3472.667 | AP34: 2073.6662
A35: 1108 | B35: Крахмал; инулин | C35: 1862.206 | D35: 901.80477 | E35: 6605.0747 | F35: 3580.3486 | G35: 1943.66 | H35: 754.10525 | I35: 5533.9265 | J35: 3298.5431 | K35: 3901.599 | L35: 1489.1402 | M35: 6323.9345 | N35: 3918.4845 | O35: 5246.5505 | P35: 1853.8 | Q35: 8086.2 | R35: 4094.1 | S35: 6784.29 | T35: 2287.1418 | U35: 9342.2346 | V35: 5073.1229 | W35: 8977.7022 | X35: 3167.7808 | Y35: 8221.2863 | Z35: 4453.0328 | AA35: 21931.81 | AB35: 7739.6706 | AC35: 9025.4778 | AD35: 4429.2404 | AE35: 20036.237 | AF35: 9380.6687 | AG35: 9087.2543 | AH35: 7471.0275 | AI35: 8061 | AJ35: 3092.046 | AK35: 2225.3507 | AL35: 1478.9662 | AM35: 7762.875 | AN35: 4193.6676 | AO35: 2592.3815 | AP35: 3654.4128
A36: 1109 | B36: Клейковина пшеничная, сухая или сырая | C36: 10 | D36: 3.2 | E36: 115.5607 | F36: 137.24091 | G36: 0 | H36: 0 | I36: 169.7319 | J36: 290.0298 | K36: 0.05 | L36: 0.16731 | M36: 424.5333 | N36: 785.46846 | O36: 194.9346 | P36: 278.4 | Q36: 70.6 | R36: 139.1 | S36: 1093.1002 | T36: 1335.1097 | U36: 47.04125 | V36: 101.30372 | W36: 1656.722 | X36: 1815.8263 | Y36: 37.325 | Z36: 46.61447 | AA36: 6349.44 | AB36: 9481.1069 | AC36: 36.1516 | AD36: 63.20886 | AE36: 7727.7865 | AF36: 15534.064 | AG36: 124.4019 | AH36: 97.29603 | AI36: 2462.78 | AJ36: 4485.3229 | AK36: 3.8 | AL36: 8.82365 | AM36: 1832.482 | AN36: 3718.5641 | AO36: 2.9 | AP36: 6.53475
A37: 1208 | B37: Мука тонкого и грубого помола из семян или плодов масличных культур, кроме семян горчицы | C37: 0 | D37: 0 | E37: 427.0168 | F37: 260.38359 | G37: 0 | H37: 0 | I37: 434.17148 | J37: 121.95867 | K37: 0 | L37: 0 | M37: 989.01588 | N37: 285.94126 | O37: - | P37: - | Q37: 716.5 | R37: 179.1 | S37: - | T37: - | U37: 877.84667 | V37: 456.60565 | W37: 0.0033 | X37: 0.00376 | Y37: 63.18185 | Z37: 103.32613 | AA37: 0 | AB37: 0 | AC37: 88.37664 | AD37: 104.74489 | AE37: 0 | AF37: 0 | AG37: 70.55063 | AH37: 101.01403 | AI37: 0 | AJ37: 0 | AK37: 10.01111 | AL37: 14.30425 | AM37: 0.027 | AN37: 0.05612 | AO37: 24.39985 | AP37: 26.24309
A38: 1501 | B38: Жир свиной (включая лярд) и жир домашней птицы, кроме жира товарной позиции 0209 или 1503 | C38: 34.1 | D38: 38.47 | E38: 3.7219 | F38: 9.1276 | G38: 0 | H38: 0 | I38: 28.2 | J38: 21.76027 | K38: 0 | L38: 0 | M38: 59.4811 | N38: 54.68523 | O38: - | P38: - | Q38: 3 | R38: 0.8 | S38: 0.6 | T38: 0.5584 | U38: 79.64 | V38: 49.7542 | Y38: 96.03996 | Z38: 59.10577 | AA38: 0 | AB38: 0 | AC38: 3.54263 | AD38: 7.86001 | AE38: 0 | AF38: 0 | AG38: 14.20473 | AH38: 25.33565 | AI38: 0 | AJ38: 0 | AK38: 0.49033 | AL38: 7.93606 | AM38: 10.1 | AN38: 7.972 | AO38: 21.6 | AP38: 28.819
A39: 1502 | B39: Жир крупного рогатого скота, овец или коз, кроме жира товарной позиции 1503 | C39: 0 | D39: 0 | E39: 938.79017 | F39: 651.15252 | G39: 0 | H39: 0 | I39: 1070.4736 | J39: 732.97001 | K39: 80 | L39: 92.496 | M39: 733.53362 | N39: 531.40177 | O39: 76.0022 | P39: 101.6 | Q39: 368.6 | R39: 367.4 | S39: 61.5941 | T39: 72.91113 | U39: 739.45057 | V39: 713.48305 | W39: 883.112 | X39: 843.59908 | Y39: 896.74802 | Z39: 833.76541 | AA39: 1281.478 | AB39: 1069.6602 | AC39: 1032.9238 | AD39: 1129.3208 | AE39: 93.10014 | AF39: 72.16316 | AG39: 1316.1862 | AH39: 1344.3288 | AI39: 19.251 | AJ39: 4.04271 | AK39: 256.68366 | AL39: 249.41903 | AM39: 0 | AN39: 0 | AO39: 231.84743 | AP39: 130.30125
A40: 1503 | B40: Лярд-стеарин, лярд-ойль, олеостеарин (олеомаргарин) и животное масло (технический маргарин), неэмульгированные или несмешанные, или не приготовленные каким-либо иным способом | C40: 0 | D40: 0 | E40: 2.17062 | F40: 1.08717 | G40: 0 | H40: 0 | I40: 4.97 | J40: 5.81693 | K40: 0 | L40: 0 | M40: 0.0288 | N40: 0.18774 | O40: - | P40: - | Q40: 0.1 | R40: 0.6 | S40: - | T40: - | U40: 0.1456 | V40: 0.57177 | W40: - | X40: - | Y40: 0.2245 | Z40: 6.62921 | AA40: 0 | AB40: 0 | AC40: 0.006 | AD40: 0.093 | AE40: 0 | AF40: 0 | AG40: 0.51195 | AH40: 15.27917 | AI40: 0 | AJ40: 0 | AK40: 0.21782 | AL40: 1.21422 | AM40: 0 | AN40: 0 | AO40: 0.035 | AP40: 0.629
A41: 1504 | B41: Жиры, масла и их фракции, из рыбы или морских млекопитающих, нерафинированные или рафинированные, но без изменения химического состава | C41: 9.3 | D41: 10.856 | E41: 30.45907 | F41: 448.69683 | G41: 0 | H41: 0 | I41: 40.31001 | J41: 452.15975 | K41: 0 | L41: 0 | M41: 35.90459 | N41: 445.11721 | O41: 0.6907 | P41: 23.7 | Q41: 58.7 | R41: 491.7 | S41: 0.87475 | T41: 28.35847 | U41: 65.75761 | V41: 673.26479 | W41: 0.4417 | X41: 20.71623 | Y41: 157.3096 | Z41: 1314.5755 | AA41: 1.4955 | AB41: 178.9529 | AC41: 234.55893 | AD41: 1546.2875 | AE41: 2.74347 | AF41: 83.57083 | AG41: 113.90387 | AH41: 1175.2716 | AI41: 0.19036 | AJ41: 10.93191 | AK41: 21.75396 | AL41: 360.77452 | AM41: 3.01156 | AN41: 71.41836 | AO41: 20.0136 | AP41: 170.25311
A42: 1505 | B42: Жиропот и жировые вещества, получаемые из него ( включая ланолин) | C42: 0 | D42: 0 | E42: 20.0071 | F42: 169.59158 | G42: 0.335 | H42: 3.20229 | I42: 29.389 | J42: 87.84336 | K42: 0.795 | L42: 8.75618 | M42: 4.13885 | N42: 39.43853 | O42: - | P42: - | Q42: 3.9 | R42: 44 | S42: 0.1 | T42: 1.08151 | U42: 5.2 | V42: 47.86629 | W42: 0.1 | X42: 1.11204 | Y42: 4.34594 | Z42: 40.98857 | AA42: 0.2 | AB42: 2.81672 | AC42: 4.58544 | AD42: 42.06403 | AE42: 0.12012 | AF42: 3.61473 | AG42: 5.81152 | AH42: 86.97661 | AI42: 0 | AJ42: 0 | AK42: 0.9 | AL42: 15.07177 | AM42: 0.05 | AN42: 1.27229 | AO42: 5.833 | AP42: 65.8483
...

Sheet По регионам
A1: Экспорт и импорт сельскохозяйственной переработанной продукции
A3: Наименование области | B3: 2015 | F3: 2016 | J3: 2017 | N3: 2018 | R3: 2019 | V3: 2020 | Z3: 2021 | AD3: 2022* | AH3: январь-март 2022 года* | AL3: январь-март 2023 года*
B4: экспорт | D4: импорт | F4: экспорт | H4: импорт | J4: экспорт | L4: импорт | N4: экспорт | P4: импорт | R4: экспорт | T4: импорт | V4: экспорт | X4: импорт | Z4: экспорт | AB4: импорт | AD4: экспорт | AF4: импорт | AH4: экспорт | AJ4: импорт | AL4: экспорт | AN4: импорт
B5: тонн | C5: тыс. долларов США | D5: тонн | E5: тыс. долларов США | F5: тонн | G5: тыс. долларов США | H5: тонн | I5: тыс. долларов США | J5: тонн | K5: тыс. долларов США | L5: тонн | M5: тыс. долларов США | N5: тонн | O5: тыс. долларов США | P5: тонн | Q5: тыс. долларов США | R5: тонн | S5: тыс. долларов США | T5: тонн | U5: тыс. долларов США | V5: тонн | W5: тыс. долларов США | X5: тонн | Y5: тыс. долларов США | Z5: тонн | AA5: тыс. долларов США | AB5: тонн | AC5: тыс. долларов США | AD5: тонн | AE5: тыс. долларов США | AF5: тонн | AG5: тыс. долларов США | AH5: тонн | AI5: тыс. долларов США | AJ5: тонн | AK5: тыс. долларов США | AL5: тонн | AM5: тыс. долларов США | AN5: тонн | AO5: тыс. долларов США
A6: Қазақстан Республикасы | B6: 2387083.5 | C6: 945072.07 | D6: 5532790.8 | E6: 2235116.9 | F6: 3254185.5 | G6: 978157.35 | H6: 6453889.4 | I6: 2055189.5 | J6: 3296552.8 | K6: 1087154 | L6: 6386275.5 | M6: 2383478.3 | N6: 3535517.9 | O6: 1133506.5 | P6: 6308697.2 | Q6: 2424534.9 | R6: 2792553.6 | S6: 1114967.2 | T6: 6549581.2 | U6: 2602361 | V6: 3086369.8 | W6: 1348724.9 | X6: 5736979.4 | Y6: 2752170.6 | Z6: 2621436 | AA6: 1428413 | AB6: 6287915.3 | AC6: 3286411.9 | AD6: =AD8+AD7+AD9+AD10+AD11+AD12+AD13+AD14+AD15+AD16+AD17+AD18+AD19+AD20+AD21+AD22+AD23+AD24+AD25+AD26 -> #REF! | AE6: =AE8+AE7+AE9+AE10+AE11+AE12+AE13+AE14+AE15+AE16+AE17+AE18+AE19+AE20+AE21+AE22+AE23+AE24+AE25+AE26 -> #REF! | AF6: =AF8+AF7+AF9+AF10+AF11+AF12+AF13+AF14+AF15+AF16+AF17+AF18+AF19+AF20+AF21+AF22+AF23+AF24+AF25+AF26 -> #REF! | AG6: =AG8+AG7+AG9+AG10+AG11+AG12+AG13+AG14+AG15+AG16+AG17+AG18+AG19+AG20+AG21+AG22+AG23+AG24+AG25+AG26 -> #REF! | AH6: =AH8+AH7+AH9+AH10+AH11+AH12+AH13+AH14+AH15+AH16+AH17+AH18+AH19+AH20+AH21+AH22+AH23+AH24+AH25+AH26 -> #REF! | AI6: =AI8+AI7+AI9+AI10+AI11+AI12+AI13+AI14+AI15+AI16+AI17+AI18+AI19+AI20+AI21+AI22+AI23+AI24+AI25+AI26 -> #REF! | AJ6: =AJ8+AJ7+AJ9+AJ10+AJ11+AJ12+AJ13+AJ14+AJ15+AJ16+AJ17+AJ18+AJ19+AJ20+AJ21+AJ22+AJ23+AJ24+AJ25+AJ26 -> #REF! | AK6: =AK8+AK7+AK9+AK10+AK11+AK12+AK13+AK14+AK15+AK16+AK17+AK18+AK19+AK20+AK21+AK22+AK23+AK24+AK25+AK26 -> #REF! | ... AO6: =AO8+AO7+AO9+AO10+AO11+AO12+AO13+AO14+AO15+AO16+AO17+AO18+AO19+AO20+AO21+AO22+AO23+AO24+AO25+AO26 -> #REF!
A7: Абай | AD7: =Абай!C7 -> 119577.9 | AE7: =Абай!D7 -> 91606.852 | AF7: =Абай!E7 -> 18812.809 | AG7: =Абай!F7 -> 20436.766 | AH7: =Абай!G7 -> 28529.516 | AI7: =Абай!H7 -> 20178.225 | AJ7: =Абай!I7 -> 4399.1467 | AK7: =Абай!J7 -> 4093.7538 | ... AO7: =Абай!N7 -> 4697.4839
A8: Ақмола | B8: 147604.69 | C8: 40089.345 | D8: 29969.36 | E8: 42832.31 | F8: 213384.73 | G8: 46332.759 | H8: 31718.788 | I8: 37350.424 | J8: 219157.99 | K8: 42659.467 | L8: 28096.016 | M8: 39997.876 | N8: 226083.76 | O8: 46608.978 | P8: 27883.866 | Q8: 39338.037 | R8: 168080.06 | S8: 38575.075 | T8: 29878.553 | U8: 41420.866 | V8: 168846.73 | W8: 48265.91 | X8: 31889.992 | Y8: 42492.549 | Z8: 79278.282 | AA8: 46243.608 | AB8: 49542.87 | AC8: 61271.79 | AD8: =Ақмола!AE7 -> 132619.57 | AE8: =Ақмола!AF7 -> 55172.952 | AF8: =Ақмола!AG7 -> 32792.945 | AG8: =Ақмола!AH7 -> 61094.868 | AH8: =Ақмола!AI7 -> 27854.131 | AI8: =Ақмола!AJ7 -> 10885.15 | AJ8: =Ақмола!AK7 -> 6033.3482 | AK8: =Ақмола!AL7 -> 9866.8495 | ... AO8: =Ақмола!AP7 -> 13025.895
A9: Ақтөбе | B9: 27680.359 | C9: 30756.896 | D9: 139187.74 | E9: 157236.79 | F9: 33021.197 | G9: 11721.433 | H9: 117212.19 | I9: 128945.28 | J9: 25759.224 | K9: 10586.192 | L9: 125605.41 | M9: 148040.57 | N9: 10332.701 | O9: 3861.1015 | P9: 110880.6 | Q9: 131217.15 | R9: 19473.496 | S9: 9285.3088 | T9: 116435.67 | U9: 116131.48 | V9: 33546.927 | W9: 14182.532 | X9: 193073.84 | Y9: 145495.24 | Z9: 20833.642 | AA9: 14143.119 | AB9: 148713.4 | AC9: 125233.89 | AD9: =Ақтөбе!AE7 -> 65338.272 | AE9: =Ақтөбе!AF7 -> 47721.466 | AF9: =Ақтөбе!AG7 -> 141004.76 | AG9: =Ақтөбе!AH7 -> 157768.86 | AH9: =Ақтөбе!AI7 -> 14030.868 | AI9: =Ақтөбе!AJ7 -> 9994.1925 | AJ9: =Ақтөбе!AK7 -> 34372.905 | AK9: =Ақтөбе!AL7 -> 29500.552 | ... AO9: =Ақтөбе!AP7 -> 43744.798
A10: Алматы | B10: 92519.017 | C10: 64528.236 | D10: 105984.21 | E10: 152443.78 | F10: 138074.49 | G10: 68789.025 | H10: 106870.52 | I10: 142909.72 | J10: 137333.58 | K10: 65082.462 | L10: 129571.82 | M10: 174190.7 | N10: 170883.31 | O10: 82869.19 | P10: 149683.53 | Q10: 189954.95 | R10: 168308.7 | S10: 109739.67 | T10: 188283.09 | U10: 212826.8 | V10: 164235.73 | W10: 132886.76 | X10: 218705.02 | Y10: 242635.06 | Z10: 155691.95 | AA10: 161190.85 | AB10: 333002.48 | AC10: 360495.63 | AD10: =Алматы!AE7 -> 139908.38 | AE10: =Алматы!AF7 -> 204307.91 | AF10: =Алматы!AG7 -> 302431.03 | AG10: =Алматы!AH7 -> 407623.49 | AH10: =Алматы!AI7 -> 31619.308 | AI10: =Алматы!AJ7 -> 37401.724 | AJ10: =Алматы!AK7 -> 63237.187 | AK10: =Алматы!AL7 -> 86617.15 | ... AO10: =Алматы!AP7 -> 87282.385
A11: Атырау | B11: 1189.4786 | C11: 1457.0714 | D11: 20795.951 | E11: 24878.027 | F11: 978.8345 | G11: 967.91856 | H11: 19461.087 | I11: 22636.238 | J11: 627.92314 | K11: 907.69393 | L11: 16924.062 | M11: 24325.457 | N11: 1371.4894 | O11: 2965.9504 | P11: 16182.261 | Q11: 22437.527 | R11: 1302.946 | S11: 3177.9317 | T11: 19804.73 | U11: 25985.118 | V11: 1864.6664 | W11: 2323.3396 | X11: 18889.855 | Y11: 24369.2 | Z11: 3682.6731 | AA11: 2346.1598 | AB11: 24389.848 | AC11: 28360.395 | AD11: =#REF! -> #REF! | AE11: =#REF! -> #REF! | AF11: =#REF! -> #REF! | AG11: =#REF! -> #REF! | AH11: =#REF! -> #REF! | AI11: =#REF! -> #REF! | AJ11: =#REF! -> #REF! | AK11: =#REF! -> #REF! | ... AO11: =#REF! -> #REF!
A12: Батыс Қазақстан | B12: 23907.04 | C12: 12122.707 | D12: 66838.137 | E12: 69356.607 | F12: 39414.793 | G12: 13477.049 | H12: 69552.494 | I12: 65483.789 | J12: 45847.181 | K12: 15830.061 | L12: 63357.794 | M12: 62667.611 | N12: 66784.682 | O12: 26756.003 | P12: 49683.245 | Q12: 50215.955 | R12: 55915.756 | S12: 28484.142 | T12: 61559.147 | U12: 63677.991 | V12: 68284.028 | W12: 46582.406 | X12: 88187.425 | Y12: 76252.087 | Z12: 56578.94 | AA12: 50153.471 | AB12: 100301.82 | AC12: 124236.9 | AD12: =#REF! -> #REF! | AE12: =#REF! -> #REF! | AF12: =#REF! -> #REF! | AG12: =#REF! -> #REF! | AH12: =#REF! -> #REF! | AI12: =#REF! -> #REF! | AJ12: =#REF! -> #REF! | AK12: =#REF! -> #REF! | ... AO12: =#REF! -> #REF!
A13: Жамбыл | B13: 4759.3297 | C13: 4266.5129 | D13: 36193.921 | E13: 31467.156 | F13: 11349.521 | G13: 4687.5963 | H13: 123860.7 | I13: 70662.071 | J13: 42978.156 | K13: 20805.321 | L13: 308688.96 | M13: 152638.21 | N13: 53136.708 | O13: 26482.436 | P13: 193182.14 | Q13: 86265.007 | R13: 9640.7589 | S13: 7795.1226 | T13: 193501.22 | U13: 86248.014 | V13: 29240.969 | W13: 15535.231 | X13: 139349.26 | Y13: 75973.795 | Z13: 19582.886 | AA13: 12253.78 | AB13: 226100.05 | AC13: 122561.49 | AD13: =#REF! -> #REF! | AE13: =#REF! -> #REF! | AF13: =#REF! -> #REF! | AG13: =#REF! -> #REF! | AH13: =#REF! -> #REF! | AI13: =#REF! -> #REF! | AJ13: =#REF! -> #REF! | AK13: =#REF! -> #REF! | ... AO13: =#REF! -> #REF!
A14: Жетісу | AD14: =#REF! -> #REF! | AE14: =#REF! -> #REF! | AF14: =#REF! -> #REF! | AG14: =#REF! -> #REF! | AH14: =#REF! -> #REF! | AI14: =#REF! -> #REF! | AJ14: =#REF! -> #REF! | AK14: =#REF! -> #REF! | ... AO14: =#REF! -> #REF!
A15: Қарағанды | B15: 179172.03 | C15: 52345.369 | D15: 129201.37 | E15: 153165.85 | F15: 221011.45 | G15: 47618.669 | H15: 112795.59 | I15: 141317.33 | J15: 127098.82 | K15: 32554.754 | L15: 124106.41 | M15: 168148.25 | N15: 148204.16 | O15: 36107.533 | P15: 129347.67 | Q15: 177802.54 | R15: 126154.62 | S15: 37145.283 | T15: 130681.89 | U15: 161012.35 | V15: 127453.88 | W15: 45031.943 | X15: 124550.62 | Y15: 169748.87 | Z15: 110294.51 | AA15: 47611.402 | AB15: 133985.91 | AC15: 207746.47 | AD15: =#REF! -> #REF! | AE15: =#REF! -> #REF! | AF15: =#REF! -> #REF! | AG15: =#REF! -> #REF! | AH15: =#REF! -> #REF! | AI15: =#REF! -> #REF! | AJ15: =#REF! -> #REF! | AK15: =#REF! -> #REF! | ... AO15: =#REF! -> #REF!
A16: Қостанай | B16: 685976.22 | C16: 205277.26 | D16: 91053.207 | E16: 128967.62 | F16: 1067530.5 | G16: 246088.93 | H16: 98947.768 | I16: 117168.39 | J16: 1104150.6 | K16: 261859.02 | L16: 108137.96 | M16: 130618.72 | N16: 1207500.1 | O16: 269488.78 | P16: 110001.47 | Q16: 124459.85 | R16: 766757.7 | S16: 210634.62 | T16: 114779.22 | U16: 127575.71 | V16: 1011895 | W16: 304774.34 | X16: 133981.94 | Y16: 150085.8 | Z16: 821593.03 | AA16: 259856.94 | AB16: 120263.72 | AC16: 165451.97 | AD16: ='2015-2026'!AE7 -> 38590.892 | AE16: ='2015-2026'!AF7 -> 27254.953 | AF16: ='2015-2026'!AG7 -> 108671.93 | AG16: ='2015-2026'!AH7 -> 190225.64 | AH16: ='2015-2026'!AI7 -> 53584.198 | AI16: ='2015-2026'!AJ7 -> 29768.605 | AJ16: ='2015-2026'!AK7 -> 170566.3 | AK16: ='2015-2026'!AL7 -> 194208.4 | AL16: ='2015-2026'!AU7 -> 52564.417 | AM16: ='2015-2026'!AV7 -> 24666.482 | AN16: ='2015-2026'!AW7 -> 94600.176 | AO16: ='2015-2026'!AX7 -> 122728.18
A17: Қызылорда | B17: 2935.121 | C17: 5115.7948 | D17: 2920.2163 | E17: 5077.2337 | F17: 1883.81 | G17: 5814.9001 | H17: 3221.9639 | I17: 4307.0308 | J17: 2815.958 | K17: 6703.2826 | L17: 3181.0195 | M17: 4267.9761 | N17: 4451.732 | O17: 7908.196 | P17: 3799.2548 | Q17: 5077.656 | R17: 2780.877 | S17: 7352.0317 | T17: 5286.0144 | U17: 7008.0344 | V17: 3177.592 | W17: 5871.1009 | X17: 5508.535 | Y17: 8096.1153 | Z17: 1121.491 | AA17: 4201.931 | AB17: 6103.848 | AC17: 9373.9763 | AD17: =#REF! -> #REF! | AE17: =#REF! -> #REF! | AF17: =#REF! -> #REF! | AG17: =#REF! -> #REF! | AH17: =#REF! -> #REF! | AI17: =#REF! -> #REF! | AJ17: =#REF! -> #REF! | AK17: =#REF! -> #REF! | ... AO17: =#REF! -> #REF!
A18: Маңғыстау | B18: 557 | C18: 196.83 | D18: 15763.131 | E18: 17766.648 | F18: 2057.5052 | G18: 455.44658 | H18: 12509.79 | I18: 14919.891 | J18: 4023.2208 | K18: 940.5824 | L18: 14163.528 | M18: 19853.254 | N18: 2556.1 | O18: 459.41154 | P18: 15914.736 | Q18: 23738.03 | R18: 1016.9162 | S18: 274.52468 | T18: 18128.555 | U18: 25213.917 | V18: 2014.0089 | W18: 1435.8106 | X18: 20651.721 | Y18: 29046.888 | Z18: 722.68126 | AA18: 321.27969 | AB18: 25816.705 | AC18: 35580.942 | AD18: =#REF! -> #REF! | AE18: =#REF! -> #REF! | AF18: =#REF! -> #REF! | AG18: =#REF! -> #REF! | AH18: =#REF! -> #REF! | AI18: =#REF! -> #REF! | AJ18: =#REF! -> #REF! | AK18: =#REF! -> #REF! | ... AO18: =#REF! -> #REF!
A19: Павлодар | B19: 10974.719 | C19: 6230.7288 | D19: 52209.31 | E19: 52688.698 | F19: 24268.809 | G19: 8249.4759 | H19: 45633.251 | I19: 42444.003 | J19: 29720.595 | K19: 13123.208 | L19: 53880.11 | M19: 55148.716 | N19: 39184.079 | O19: 12842.018 | P19: 49353.236 | Q19: 52145.316 | R19: 50229.698 | S19: 19475.468 | T19: 67158.848 | U19: 65142.613 | V19: 51155.512 | W19: 23651.592 | X19: 65112.765 | Y19: 67790.767 | Z19: 49582.174 | AA19: 30010.781 | AB19: 57186.527 | AC19: 67146.409 | AD19: =#REF! -> #REF! | AE19: =#REF! -> #REF! | AF19: =#REF! -> #REF! | AG19: =#REF! -> #REF! | AH19: =#REF! -> #REF! | AI19: =#REF! -> #REF! | AJ19: =#REF! -> #REF! | AK19: =#REF! -> #REF! | ... AO19: =#REF! -> #REF!
A20: Солтүстік Қазақстан | B20: 143383.27 | C20: 34744.118 | D20: 27123.633 | E20: 29276.63 | F20: 274452.34 | G20: 53435.214 | H20: 21213.833 | I20: 23287.521 | J20: 279553.83 | K20: 56961.543 | L20: 27425.194 | M20: 33596.167 | N20: 296197.33 | O20: 60795.313 | P20: 70813.178 | Q20: 33691.86 | R20: 265539.18 | S20: 77322.85 | T20: 39192.156 | U20: 43152.982 | V20: 208457.46 | W20: 65332.986 | X20: 53718.457 | Y20: 58605.928 | Z20: 198527.9 | AA20: 68917.7 | AB20: 53284.434 | AC20: 70033.682 | AD20: =#REF! -> #REF! | AE20: =#REF! -> #REF! | AF20: =#REF! -> #REF! | AG20: =#REF! -> #REF! | AH20: =#REF! -> #REF! | AI20: =#REF! -> #REF! | AJ20: =#REF! -> #REF! | AK20: =#REF! -> #REF! | ... AO20: =#REF! -> #REF!
A21: Түркістан | B21: 141922.62 | C21: 64179.329 | D21: 9221.7131 | E21: 11722.927 | F21: 148888.53 | G21: 66542.593 | H21: 10306.949 | I21: 14644.774 | J21: 180008.25 | K21: 82522.056 | L21: 15760.523 | M21: 20662.262 | N21: 172131.34 | O21: 84338.475 | P21: 12978.056 | Q21: 16831.114 | R21: 145566.37 | S21: 77832.833 | T21: 47127.889 | U21: 31121.281 | V21: 145218.39 | W21: 104253.11 | X21: 59712.939 | Y21: 41223.858 | Z21: 99374.791 | AA21: 117277.88 | AB21: 37852.712 | AC21: 35832.467 | AD21: =#REF! -> #REF! | AE21: =#REF! -> #REF! | AF21: =#REF! -> #REF! | AG21: =#REF! -> #REF! | AH21: =#REF! -> #REF! | AI21: =#REF! -> #REF! | AJ21: =#REF! -> #REF! | AK21: =#REF! -> #REF! | ... AO21: =#REF! -> #REF!
A22: Ұлытау | AD22: =#REF! -> #REF! | AE22: =#REF! -> #REF! | AF22: =#REF! -> #REF! | AG22: =#REF! -> #REF! | AH22: =#REF! -> #REF! | AI22: =#REF! -> #REF! | AJ22: =#REF! -> #REF! | AK22: =#REF! -> #REF! | ... AO22: =#REF! -> #REF!
A23: Шығыс Қазақстан | B23: 65672.425 | C23: 28015.82 | D23: 3737089.9 | E23: 47718.008 | F23: 83151.646 | G23: 26391.483 | H23: 4657550.6 | I23: 42762.057 | J23: 93950.643 | K23: 37673.763 | L23: 4467438.8 | M23: 44687.633 | N23: 133513.19 | O23: 50613.203 | P23: 4252190.1 | Q23: 43386.039 | R23: 120614.4 | S23: 54897.998 | T23: 4402746.7 | U23: 44202.659 | V23: 126901.06 | W23: 64207.991 | X23: 3331498.3 | Y23: 43934.136 | Z23: 113473.82 | AA23: 83778.541 | AB23: 3746086.2 | AC23: 62449.069 | AD23: =#REF! -> #REF! | AE23: =#REF! -> #REF! | AF23: =#REF! -> #REF! | AG23: =#REF! -> #REF! | AH23: =#REF! -> #REF! | AI23: =#REF! -> #REF! | AJ23: =#REF! -> #REF! | AK23: =#REF! -> #REF! | ... AO23: =#REF! -> #REF!
A24: Астана қ. | B24: 91113.253 | C24: 26899.975 | D24: 47416.5 | E24: 72906.388 | F24: 137015.53 | G24: 31454.774 | H24: 55015.661 | I24: 68567.229 | J24: 142740.12 | K24: 38554.721 | L24: 61913.934 | M24: 84140.876 | N24: 186041.62 | O24: 50793.77 | P24: 85990.794 | Q24: 112028.66 | R24: 154838.05 | S24: 54288.999 | T24: 110441.77 | U24: 128086.86 | V24: 185062.61 | W24: 61095.314 | X24: 134545.31 | Y24: 147296.76 | Z24: 140108.87 | AA24: 59000.552 | AB24: 184393.06 | AC24: 206258.4 | AD24: =#REF! -> #REF! | AE24: =#REF! -> #REF! | AF24: =#REF! -> #REF! | AG24: =#REF! -> #REF! | AH24: =#REF! -> #REF! | AI24: =#REF! -> #REF! | AJ24: =#REF! -> #REF! | AK24: =#REF! -> #REF! | ... AO24: =#REF! -> #REF!
A25: Алматы қ. | B25: 132458.66 | C25: 158193.7 | D25: 964535.13 | E25: 1171593.9 | F25: 191948.25 | G25: 153013.69 | H25: 929808.07 | I25: 1069992.5 | J25: 232710.16 | K25: 203208.66 | L25: 777491.06 | M25: 1151105.6 | N25: 253083.36 | O25: 205787.97 | P25: 960435.72 | Q25: 1226461 | R25: 283368.66 | S25: 205515.96 | T25: 916062 | U25: 1330511.3 | V25: 357030.55 | W25: 246072.06 | X25: 1033315.2 | Y25: 1335487.8 | Z25: 436411.72 | AA25: 291443.32 | AB25: 945106.21 | AC25: 1488828.4 | AD25: =#REF! -> #REF! | AE25: =#REF! -> #REF! | AF25: =#REF! -> #REF! | AG25: =#REF! -> #REF! | AH25: =#REF! -> #REF! | AI25: =#REF! -> #REF! | AJ25: =#REF! -> #REF! | AK25: =#REF! -> #REF! | ... AO25: =#REF! -> #REF!
A26: Шымкент қ. | B26: 635258.23 | C26: 210652.37 | D26: 57287.315 | E26: 66018.406 | F26: 665753.53 | G26: 193116.4 | H26: 38210.096 | I26: 47791.232 | J26: 628076.55 | K26: 197181.21 | L26: 60532.992 | M26: 69388.494 | N26: 564062.25 | O26: 164828.18 | P26: 70377.316 | Q26: 89484.215 | R26: 452965.37 | S26: 173169.42 | T26: 88513.761 | U26: 93043.034 | V26: 401984.64 | W26: 167222.52 | X26: 84288.147 | Y26: 93635.737 | Z26: 314576.6 | AA26: 179661.64 | AB26: 95785.545 | AC26: 115550.03 | AD26: =#REF! -> #REF! | AE26: =#REF! -> #REF! | AF26: =#REF! -> #REF! | AG26: =#REF! -> #REF! | AH26: =#REF! -> #REF! | AI26: =#REF! -> #REF! | AJ26: =#REF! -> #REF! | AK26: =#REF! -> #REF! | ... AO26: =#REF! -> #REF!
A28: *Предварительные данные.

Sheet Абай
A1: Экспорт и импорт сельскохозяйственной переработанной продукции
A2: Абайская
A4: ТНВЭД ЕАЭС | B4: Наименование товара | C4: 2022* | G4: январь-март 2022 года* | K4: январь-март 2023 года*
C5: экспорт | E5: импорт | G5: экспорт | I5: импорт | K5: экспорт | M5: импорт
C6: тонн | D6: тыс. долларов США | E6: тонн | F6: тыс. долларов США | G6: тонн | H6: тыс. долларов США | I6: тонн | J6: тыс. долларов США | K6: тонн | L6: тыс. долларов США | M6: тонн | N6: тыс. долларов США
B7: Всего | C7: =SUM(C8:C120) -> 119577.9 | D7: =SUM(D8:D120) -> 91606.852 | E7: =SUM(E8:E120) -> 18812.809 | F7: =SUM(F8:F120) -> 20436.766 | G7: =SUM(G8:G120) -> 28529.516 | H7: =SUM(H8:H120) -> 20178.225 | I7: =SUM(I8:I120) -> 4399.1467 | J7: =SUM(J8:J120) -> 4093.7538 | ... N7: =SUM(N8:N120) -> 4697.4839
A8: 0206 | B8: Пищевые субпродукты крупного рогатого скота, свиней, овец, коз, лошадей, ослов, мулов или лошаков, свежие, охлажденные или замороженные | C8: 0 | D8: 0 | E8: 8.821 | F8: 12.60283 | G8: 0 | H8: 0 | I8: 5.769 | J8: 6.59041 | K8: - | L8: - | M8: - | N8: -
A9: 0207 | B9: Мясо и пищевые субпродукты домашней птицы, указанной в товарной позиции 0105, свежие, охлажденные или замороженные | C9: 89.98483 | D9: 179.6661 | E9: 71.6198 | F9: 143.34792 | G9: 0 | H9: 0 | I9: 24.15019 | J9: 37.05596 | K9: - | L9: - | M9: - | N9: -
A10: 0209 | B10: Свиной жир, отделенный от тощего мяса, и жир домашней птицы, не вытопленные или не извлеченные другим способом, свежие, охлажденные, мороженые, соленые, в рассоле, сушеные или копченые | C10: - | D10: - | E10: - | F10: - | G10: - | H10: - | I10: - | J10: - | K10: - | L10: - | M10: - | N10: -
A11: 0210 | B11: Мясо и пищевые мясные субпродукты, соленые, в рассоле, сушеные или копченые; пищевая мука тонкого и грубого помола из мяса или мясных субпродуктов | C11: - | D11: - | E11: - | F11: - | G11: - | H11: - | I11: - | J11: - | K11: - | L11: - | M11: - | N11: -
A12: 0304 | B12: Филе рыбное и прочее мясо рыбы (включая фарш), свежие, охлажденные или мороженые | C12: - | D12: - | E12: - | F12: - | G12: - | H12: - | I12: - | J12: - | K12: 0 | L12: 0 | M12: 0.67102 | N12: 1.77391
A13: 0305 | B13: Рыба сушеная, соленая или в рассоле; рыба горячего или холодного копчения; рыбная мука тонкого и грубого помола и гранулы из рыбы, пригодные для употребления в пищу | C13: 0 | D13: 0 | E13: 4.1658 | F13: 42.95433 | G13: 0 | H13: 0 | I13: 0.9572 | J13: 8.30723 | K13: 0 | L13: 0 | M13: 1.4354 | N13: 13.3161
A14: 0401 | B14: Молоко и сливки, несгущенные и без добавления сахара или других подслащивающих веществ | C14: - | D14: - | E14: - | F14: - | G14: - | H14: - | I14: - | J14: - | K14: 0 | L14: 0 | M14: 1.339 | N14: 2.839
A15: 0402 | B15: Молоко и сливки, сгущенные или с добавлением сахара или других подслащивающих веществ | C15: 0 | D15: 0 | E15: 25.16642 | F15: 39.76762 | G15: 0 | H15: 0 | I15: 7.745 | J15: 7.99732 | K15: 0 | L15: 0 | M15: 5.00469 | N15: 7.36044
A16: 0403 | B16: Пахта, свернувшиеся молоко и сливки, йогурт, кефир и прочие ферментированные или сквашенные молоко и сливки, сгущенные или несгущенные, с добавлением или без добавления сахара или других подслащивающих веществ, со вкусо-ароматическими добавками или без | C16: 0 | D16: 0 | E16: 169.95057 | F16: 475.87273 | G16: 0 | H16: 0 | I16: 57.28602 | J16: 94.82391 | K16: 0 | L16: 0 | M16: 26.6162 | N16: 77.72962
A17: 0404 | B17: Молочная сыворотка, сгущенная или несгущенная, с добавлением или без добавления сахара или других подслащивающих веществ; продукты из натуральных компонентов молока, с добавлением или без добавления сахара или других подслащивающих веществ, в другом мес | C17: 0 | D17: 0 | E17: 20.7828 | F17: 94.5974 | G17: - | H17: - | I17: - | J17: - | K17: 0 | L17: 0 | M17: 5.958 | N17: 23.87352
A18: 0405 | B18: Сливочное масло и прочие жиры и масла, изготовленные из молока; молочные пасты | C18: - | D18: - | E18: - | F18: - | G18: - | H18: - | I18: - | J18: - | K18: - | L18: - | M18: - | N18: -
A19: 0406 | B19: Сыры и творог | C19: 20 | D19: 147.95945 | E19: 20.97268 | F19: 157.90649 | G19: 20 | H19: 147.95945 | I19: 1.575 | J19: 6.514 | K19: 0 | L19: 0 | M19: 4.99539 | N19: 35.25503
A20: 0711 | B20: Овощи консервированные для кратковременного хранения (например, диоксидом серы, в рассоле, сернистой воде или в другом временно консервирующем растворе), но в таком виде непригодные для непосредственного употребления в пищу | C20: - | D20: - | E20: - | F20: - | G20: - | H20: - | I20: - | J20: - | K20: - | L20: - | M20: - | N20: -
A21: 0712 | B21: Овощи сушеные, целые, нарезанные кусками, ломтиками, измельченные или в виде порошка, но не подвергнутые дальнейшей обработке | C21: 0 | D21: 0 | E21: 2.36638 | F21: 15.3025 | G21: 0 | H21: 0 | I21: 0.45895 | J21: 2.52517 | K21: 0 | L21: 0 | M21: 0.53624 | N21: 3.2689
A22: 0812 | B22: Фрукты и орехи, консервированные для кратковременного хранения (например, диоксидом серы, в рассоле, сернистой воде или в другом временно консервирующем растворе), но в таком виде непригодные для непосредственного употребления в пищу | C22: - | D22: - | E22: - | F22: - | G22: - | H22: - | I22: - | J22: - | K22: - | L22: - | M22: - | N22: -
A23: 0814 | B23: Кожура цитрусовых плодов или корки дынь (включая корки арбузов), свежие, морож.,сушеные или консервир. Для кратк. Хран. В рассоле, сернистой воде или в др.временно консервирующем растворе | C23: - | D23: - | E23: - | F23: - | G23: - | H23: - | I23: - | J23: - | K23: - | L23: - | M23: - | N23: -
A24: 0901 | B24: Кофе, жареный или нежареный, с кофеином или без кофеина; кофейная шелуха и оболочки зерен кофе; заменители кофе, содержащие кофе в любой пропорции | C24: 0 | D24: 0 | E24: 0.21 | F24: 1.90902 | G24: 0 | H24: 0 | I24: 0.025 | J24: 0.1018 | K24: 0 | L24: 0 | M24: 0.05 | N24: 0.3431
A25: 0902 | B25: Чай со вкусо-ароматическими добавками или без них | C25: 1.55861 | D25: 6.36859 | E25: 8.84339 | F25: 32.4859 | G25: 0.0577 | H25: 0.24967 | I25: 0.6802 | J25: 3.28799 | K25: 0.2721 | L25: 0.94898 | M25: 0.54636 | N25: 4.01132
A26: 0903 | B26: Мате (парагвайский чай) | C26: - | D26: - | E26: - | F26: - | G26: - | H26: - | I26: - | J26: - | K26: - | L26: - | M26: - | N26: -
A27: 0905 | B27: Ваниль | C27: - | D27: - | E27: - | F27: - | G27: - | H27: - | I27: - | J27: - | K27: - | L27: - | M27: - | N27: -
A28: 1101 | B28: Мука пшеничная или пшенично-ржаная | C28: 5899.023 | D28: 2199.7006 | E28: 12.451 | F28: 5.57711 | G28: 1081.048 | H28: 340.59 | I28: 3.065 | J28: 1.02838 | K28: 2921 | L28: 957.755 | M28: 2.292 | N28: 1.247
A29: 1102 | B29: Мука из зерна прочих злаков, кроме пшеничной или пшенично-ржаной | C29: 0 | D29: 0 | E29: 0.511 | F29: 0.962 | G29: 0 | H29: 0 | I29: 0.246 | J29: 0.32 | K29: - | L29: - | M29: - | N29: -
A30: 1103 | B30: Крупа, мука грубого помола и гранулы из зерна злаков | C30: 0 | D30: 0 | E30: 161.51515 | F30: 111.19292 | G30: 0 | H30: 0 | I30: 50.894 | J30: 32.82473 | K30: 0 | L30: 0 | M30: 38.195 | N30: 20.4807
A31: 1104 | B31: Зерно злаков, обработанное другими способами (например, шелушеное, плюще?ное, переработанное в хлопья, обрушенное, в виде сечки или дробленое), кроме риса товарной позиции 1006; зародыши зерна злаков, целые, плющеные, в виде хлопьев или молотые | C31: 0 | D31: 0 | E31: 307.72686 | F31: 234.93235 | G31: 0 | H31: 0 | I31: 78.91628 | J31: 52.38928 | K31: 0 | L31: 0 | M31: 20.5704 | N31: 10.3599
A32: 1105 | B32: Мука тонкого и грубого помола, порошок, хлопья, гранулы картофельные | C32: - | D32: - | E32: - | F32: - | G32: - | H32: - | I32: - | J32: - | K32: - | L32: - | M32: - | N32: -
A33: 1106 | B33: Мука тонкого и грубого помола и порошок из сушеных бобовых овощей товарной позиции 0713, из сердцевины саговой пальмы, из корнеплодов или клубнеплодов товарной позиции 0714 или продуктов группы 08 | C33: 0 | D33: 0 | E33: 0.048 | F33: 0.125 | G33: 0 | H33: 0 | I33: 0.018 | J33: 0.036 | K33: - | L33: - | M33: - | N33: -
A34: 1107 | B34: Солод, поджаренный или неподжаренный | C34: 0 | D34: 0 | E34: 143.5 | F34: 90.03459 | G34: 0 | H34: 0 | I34: 65.5 | J34: 42.22374 | K34: 0 | L34: 0 | M34: 66 | N34: 48.97105
A35: 1108 | B35: Крахмал; инулин | C35: 0 | D35: 0 | E35: 194.23068 | F35: 106.913 | G35: 0 | H35: 0 | I35: 64.6312 | J35: 23.84365 | K35: 0 | L35: 0 | M35: 0.50292 | N35: 1.1021
A36: 1109 | B36: Клейковина пшеничная, сухая или сырая | C36: - | D36: - | E36: - | F36: - | G36: - | H36: - | I36: - | J36: - | K36: - | L36: - | M36: - | N36: -
A37: 1208 | B37: Мука тонкого и грубого помола из семян или плодов масличных культур, кроме семян горчицы | C37: 0 | D37: 0 | E37: 0.301 | F37: 0.617 | G37: 0 | H37: 0 | I37: 0.122 | J37: 0.2 | K37: 0 | L37: 0 | M37: 0.022 | N37: 0.045
A38: 1501 | B38: Жир свиной (включая лярд) и жир домашней птицы, кроме жира товарной позиции 0209 или 1503 | C38: - | D38: - | E38: - | F38: - | G38: - | H38: - | I38: - | J38: - | K38: - | L38: - | M38: - | N38: -
A39: 1502 | B39: Жир крупного рогатого скота, овец или коз, кроме жира товарной позиции 1503 | C39: - | D39: - | E39: - | F39: - | G39: - | H39: - | I39: - | J39: - | K39: - | L39: - | M39: - | N39: -
A40: 1503 | B40: Лярд-стеарин, лярд-ойль, олеостеарин (олеомаргарин) и животное масло (технический маргарин), неэмульгированные или несмешанные, или не приготовленные каким-либо иным способом | C40: - | D40: - | E40: - | F40: - | G40: - | H40: - | I40: - | J40: - | K40: - | L40: - | M40: - | N40: -
A41: 1504 | B41: Жиры, масла и их фракции, из рыбы или морских млекопитающих, нерафинированные или рафинированные, но без изменения химического состава | C41: - | D41: - | E41: - | F41: - | G41: - | H41: - | I41: - | J41: - | K41: - | L41: - | M41: - | N41: -
...

Sheet Ақмола
A1: Экспорт и импорт сельскохозяйственной переработанной продукции
A2: Акмолинская
A4: ТНВЭД ЕАЭС | B4: Наименование товара | C4: 2015 | G4: 2016 | K4: 2017 | O4: 2018 | S4: 2019 | W4: 2020 | AA4: 2021 | AE4: 2022* | AI4: январь-март 2022 года* | AM4: январь-март 2023 года*
C5: экспорт | E5: импорт | G5: экспорт | I5: импорт | K5: экспорт | M5: импорт | O5: экспорт | Q5: импорт | S5: экспорт | U5: импорт | W5: экспорт | Y5: импорт | AA5: экспорт | AC5: импорт | AE5: экспорт | AG5: импорт | AI5: экспорт | AK5: импорт | AM5: экспорт | AO5: импорт
C6: тонн | D6: тыс. долларов США | E6: тонн | F6: тыс. долларов США | G6: тонн | H6: тыс. долларов США | I6: тонн | J6: тыс. долларов США | K6: тонн | L6: тыс. долларов США | M6: тонн | N6: тыс. долларов США | O6: тонн | P6: тыс. долларов США | Q6: тонн | R6: тыс. долларов США | S6: тонн | T6: тыс. долларов США | U6: тонн | V6: тыс. долларов США | W6: тонн | X6: тыс. долларов США | Y6: тонн | Z6: тыс. долларов США | AA6: тонн | AB6: тыс. долларов США | AC6: тонн | AD6: тыс. долларов США | AE6: тонн | AF6: тыс. долларов США | AG6: тонн | AH6: тыс. долларов США | AI6: тонн | AJ6: тыс. долларов США | AK6: тонн | AL6: тыс. долларов США | AM6: тонн | AN6: тыс. долларов США | AO6: тонн | AP6: тыс. долларов США
B7: Всего | C7: 147604.69 | D7: 40089.345 | E7: 29969.36 | F7: 42832.31 | G7: 213384.73 | H7: 46332.759 | I7: 31718.788 | J7: 37350.424 | K7: 219157.99 | L7: 42659.467 | M7: 28096.016 | N7: 39997.876 | O7: 226083.76 | P7: 46608.978 | Q7: 27883.866 | R7: 39338.037 | S7: 168080.06 | T7: 38575.075 | U7: 29878.553 | V7: 41420.866 | W7: 168846.73 | X7: 48265.91 | Y7: 31889.992 | Z7: 42492.549 | AA7: 79278.282 | AB7: 46243.608 | AC7: 49542.87 | AD7: 61271.79 | AE7: =SUM(AE8:AE120) -> 132619.57 | AF7: =SUM(AF8:AF120) -> 55172.952 | AG7: =SUM(AG8:AG120) -> 32792.945 | AH7: =SUM(AH8:AH120) -> 61094.868 | AI7: =SUM(AI8:AI120) -> 27854.131 | AJ7: =SUM(AJ8:AJ120) -> 10885.15 | AK7: =SUM(AK8:AK120) -> 6033.3482 | AL7: =SUM(AL8:AL120) -> 9866.8495 | ... AP7: =SUM(AP8:AP120) -> 13025.895
A8: 0206 | B8: Пищевые субпродукты крупного рогатого скота, свиней, овец, коз, лошадей, ослов, мулов или лошаков, свежие, охлажденные или замороженные | C8: 5.88048 | D8: 19.62714 | E8: 1.99907 | F8: 1.587 | G8: 9.99789 | H8: 27.57129 | I8: 0 | J8: 0 | K8: 8.48461 | L8: 26.819 | M8: 12.531 | N8: 7.64747 | O8: 8.3 | P8: 1.15237 | Q8: 92.95047 | R8: 103.69832 | S8: 1.4957 | T8: 7.12314 | U8: 18.316 | V8: 14.11345 | W8: 0 | X8: 0 | Y8: 19.718 | Z8: 5.1936 | AA8: 0.60455 | AB8: 2.62016 | AE8: 2.8899 | AF8: 35.86142 | AG8: 3.77274 | AH8: 5.88453 | AI8: 0.12348 | AJ8: 1.06056 | AK8: 3.355 | AL8: 1.6556 | AM8: 2.44659 | AN8: 20.87902 | AO8: 0 | AP8: 0
A9: 0207 | B9: Мясо и пищевые субпродукты домашней птицы, указанной в товарной позиции 0105, свежие, охлажденные или замороженные | C9: 958.41202 | D9: 864.2464 | E9: 3199.7628 | F9: 2870.1691 | G9: 1208.9304 | H9: 891.99284 | I9: 2210.9624 | J9: 1978.859 | K9: 266.76201 | L9: 206.77091 | M9: 1987.0028 | N9: 1908.116 | O9: 708.82975 | P9: 1262.1234 | Q9: 1754.7523 | R9: 1930.4249 | S9: 438.01412 | T9: 310.99107 | U9: 3131.0518 | V9: 2724.5636 | W9: 1709.2053 | X9: 2003.305 | Y9: 1780.4736 | Z9: 1630.3083 | AA9: 11366.982 | AB9: 18212.141 | AC9: 2618.2953 | AD9: 2336.7471 | AE9: 309.00702 | AF9: 226.29768 | AG9: 485.65483 | AH9: 810.51848 | AI9: 20 | AJ9: 14.393 | AK9: 189.66361 | AL9: 235.58452 | AM9: 137.00223 | AN9: 93.43774 | AO9: 106.36835 | AP9: 205.07586
A10: 0209 | B10: Свиной жир, отделенный от тощего мяса, и жир домашней птицы, не вытопленные или не извлеченные другим способом, свежие, охлажденные, мороженые, соленые, в рассоле, сушеные или копченые | C10: 189.11255 | D10: 209.25151 | E10: 0 | F10: 0 | G10: 232.08 | H10: 264.707 | I10: 0 | J10: 0 | K10: 235.305 | L10: 358.575 | M10: 0 | N10: 0 | O10: 397.841 | P10: 371.56776 | Q10: 0 | R10: 0 | S10: 357.412 | T10: 270.85785 | U10: 0 | V10: 0 | W10: 196.16 | X10: 143.98286 | Y10: 12.77758 | Z10: 16.026 | AA10: 92.489 | AB10: 114.06985 | AE10: - | AF10: - | AG10: - | AH10: - | AI10: - | AJ10: - | AK10: - | AL10: - | AM10: - | AN10: - | AO10: - | AP10: -
A11: 0210 | B11: Мясо и пищевые мясные субпродукты, соленые, в рассоле, сушеные или копченые; пищевая мука тонкого и грубого помола из мяса или мясных субпродуктов | C11: - | D11: - | E11: - | F11: - | G11: - | H11: - | I11: - | J11: - | K11: 0 | L11: 0 | M11: 4.00439 | N11: 5.957 | O11: - | P11: - | Q11: - | R11: - | S11: 0.48 | T11: 0.25263 | U11: 0 | V11: 0 | W11: - | X11: - | Y11: - | Z11: - | AE11: 0 | AF11: 0 | AG11: 3.60765 | AH11: 43.00324 | AI11: - | AJ11: - | AK11: - | AL11: - | AM11: - | AN11: - | AO11: - | AP11: -
A12: 0304 | B12: Филе рыбное и прочее мясо рыбы (включая фарш), свежие, охлажденные или мороженые | C12: 0 | D12: 0 | E12: 0.03 | F12: 0.055 | G12: 0 | H12: 0 | I12: 1.66 | J12: 3.249 | K12: 0 | L12: 0 | M12: 1.26034 | N12: 3.35314 | O12: 16.74 | P12: 117.74173 | Q12: 5.0019 | R12: 13.81322 | S12: 0 | T12: 0 | U12: 52.6835 | V12: 129.57191 | W12: 14.04 | X12: 95.07696 | Y12: 0.28 | Z12: 0.3604 | AC12: 0.6171 | AD12: 1.74075 | AE12: 0 | AF12: 0 | AG12: 0.25 | AH12: 1.45981 | AI12: 0 | AJ12: 0 | AK12: 0.05 | AL12: 0.234 | AM12: 0 | AN12: 0 | AO12: 0.129 | AP12: 0.39367
A13: 0305 | B13: Рыба сушеная, соленая или в рассоле; рыба горячего или холодного копчения; рыбная мука тонкого и грубого помола и гранулы из рыбы, пригодные для употребления в пищу | C13: 0 | D13: 0 | E13: 6.0928 | F13: 79.311 | G13: 0 | H13: 0 | I13: 13.3483 | J13: 74.89973 | K13: 0 | L13: 0 | M13: 7.8891 | N13: 79.026 | O13: 0 | P13: 0 | Q13: 34.9163 | R13: 103.64948 | S13: 0.5 | T13: 1.651 | U13: 98.43902 | V13: 195.2165 | W13: 0 | X13: 0 | Y13: 14.39084 | Z13: 77.57878 | AC13: 10.33971 | AD13: 95.93926 | AE13: 0 | AF13: 0 | AG13: 10.51934 | AH13: 100.48697 | AI13: 0 | AJ13: 0 | AK13: 2.5614 | AL13: 16.372 | AM13: 0 | AN13: 0 | AO13: 3.36348 | AP13: 29.41386
A14: 0401 | B14: Молоко и сливки, несгущенные и без добавления сахара или других подслащивающих веществ | C14: 2085.646 | D14: 829.68364 | E14: 239.22928 | F14: 153.34836 | G14: 4458.4997 | H14: 1778.3195 | I14: 186.55713 | J14: 64.76867 | K14: 2758.5394 | L14: 1359.8058 | M14: 6.54713 | N14: 7.98689 | O14: 5087.9434 | P14: 1790.0976 | Q14: 4.18833 | R14: 5.997 | S14: 6006.9416 | T14: 2049.8923 | U14: 2.90007 | V14: 2.77949 | W14: 3813.831 | X14: 1858.2404 | Y14: 35.23181 | Z14: 87.44385 | AA14: 4340.4584 | AB14: 1974.2472 | AC14: 38.7001 | AD14: 31.70865 | AE14: 1506.4912 | AF14: 598.69343 | AG14: 34.67211 | AH14: 36.23309 | AI14: 62.4912 | AJ14: 24.74268 | AK14: 8.98991 | AL14: 6.07746 | AM14: 168 | AN14: 75.9615 | AO14: 17.20088 | AP14: 23.14353
