Workbook

Sheet РК
A1: Экспорт и импорт сельскохозяйственной переработанной продукции
A2: Республика Казахстан
A4: ТНВЭД ЕАЭС | B4: Наименование товара | C4: 2015 | G4: 2016 | K4: 2017 | O4: 2018 | S4: 2019 | W4: 2020 | AA4: 2021 | AE4: 2022* | AI4: январь-март 2022 года* | AM4: январь-март 2023 года*
C5: экспорт | E5: импорт | G5: экспорт | I5: импорт | K5: экспорт | M5: импорт | O5: экспорт | Q5: импорт | S5: экспорт | U5: импорт | W5: экспорт | Y5: импорт | AA5: экспорт | AC5: импорт | AE5: экспорт | AG5: импорт | AI5: экспорт | AK5: импорт | AM5: экспорт | AO5: импорт
C6: тонн | D6: тыс. долларов США | E6: тонн | F6: тыс. долларов США | G6: тонн | H6: тыс. долларов США | I6: тонн | J6: тыс. долларов США | K6: тонн | L6: тыс. долларов США | M6: тонн | N6: тыс. долларов США | O6: тонн | P6: тыс. долларов США | Q6: тонн | R6: тыс. долларов США | S6: тонн | T6: тыс. долларов США | U6: тонн | V6: тыс. долларов США | W6: тонн | X6: тыс. долларов США | Y6: тонн | Z6: тыс. долларов США | AA6: тонн | AB6: тыс. долларов США | AC6: тонн | AD6: тыс. долларов США | AE6: тонн | AF6: тыс. долларов США | AG6: тонн | AH6: тыс. долларов США | AI6: тонн | AJ6: тыс. долларов США | AK6: тонн | AL6: тыс. долларов США | AM6: тонн | AN6: тыс. долларов США | AO6: тонн | AP6: тыс. долларов США
B7: Всего | C7: 2387083.5 | D7: 945072.07 | E7: 5532790.8 | F7: 2235116.9 | G7: 3254185.5 | H7: 978157.35 | I7: 6453889.4 | J7: 2055189.5 | K7: 3296552.8 | L7: 1087154 | M7: 6386275.5 | N7: 2383478.3 | O7: 3535517.9 | P7: 1133507 | Q7: 6308697.2 | R7: 2424534.8 | S7: 2792553.6 | T7: 1114967.2 | U7: 6549581.2 | V7: 2602361 | W7: 3086369.8 | X7: 1348724.9 | Y7: 5736979.4 | Z7: 2752170.6 | AA7: 2621436 | AB7: 1428413 | AC7: 6287915.3 | AD7: 3286411.9 | AE7: =SUM(AE8:AE120) -> 3845691.8 | AF7: =SUM(AF8:AF120) -> 2341248.6 | AG7: =SUM(AG8:AG120) -> 6201049.8 | AH7: =SUM(AH8:AH120) -> 4073378.9 | AI7: =SUM(AI8:AI120) -> 835819.09 | AJ7: =SUM(AJ8:AJ120) -> 476851.7 | AK7: =SUM(AK8:AK120) -> 1421094.3 | AL7: =SUM(AL8:AL120) -> 762697.35 | ... AP7: =SUM(AP8:AP120) -> 1034877.7
A8: 0206 | B8: Пищевые субпродукты крупного рогатого скота, свиней, овец, коз, лошадей, ослов, мулов или лошаков, свежие, охлажденные или замороженные | C8: 95.5059 | D8: 46.08841 | E8: 2919.4277 | F8: 3153.7196 | G8: 845.19389 | H8: 1277.8861 | I8: 3127.9069 | J8: 3608.9068 | K8: 1222.0406 | L8: 1683.41 | M8: 3555.2578 | N8: 3886.7782 | O8: 747.9433 | P8: 895.7 | Q8: 2271.3 | R8: 3088.3 | S8: 398.76665 | T8: 315.98188 | U8: 1521.0935 | V8: 2051.3484 | W8: 875.96585 | X8: 398.56832 | Y8: 1874.3899 | Z8: 2140.8112 | AA8: 361.06536 | AB8: 284.16418 | AC8: 1906.084 | AD8: 3719.4981 | AE8: 60.3809 | AF8: 87.72602 | AG8: 1007.7293 | AH8: 1949.5178 | AI8: 29.13548 | AJ8: 21.90156 | AK8: 261.43149 | AL8: 456.8964 | AM8: 660.66159 | AN8: 250.13696 | AO8: 319.8616 | AP8: 483.15109
A9: 0207 | B9: Мясо и пищевые субпродукты домашней птицы, указанной в товарной позиции 0105, свежие, охлажденные или замороженные | C9: 7896.7223 | D9: 12843.376 | E9: 161750.11 | F9: 144447.59 | G9: 8778.9208 | H9: 11813.547 | I9: 165560.85 | J9: 131379.86 | K9: 5954.5733 | L9: 9994.8817 | M9: 173765.52 | N9: 148402.2 | O9: 8557.8398 | P9: 11887.3 | Q9: 191752.5 | R9: 152289.6 | S9: 13764.203 | T9: 21236.414 | U9: 173354.86 | V9: 178664.53 | W9: 12629.963 | X9: 16903.9 | Y9: 183437.65 | Z9: 165173.11 | AA9: 24699.412 | AB9: 38903.984 | AC9: 168579.95 | AD9: 167719.64 | AE9: 14677.593 | AF9: 25877.126 | AG9: 153135.95 | AH9: 208404.94 | AI9: 2959.8177 | AJ9: 4612.8826 | AK9: 26306.329 | AL9: 31701.87 | AM9: 6567.4141 | AN9: 9941.7724 | AO9: 23769.318 | AP9: 31294.105
A10: 0209 | B10: Свиной жир, отделенный от тощего мяса, и жир домашней птицы, не вытопленные или не извлеченные другим способом, свежие, охлажденные, мороженые, соленые, в рассоле, сушеные или копченые | C10: 412.96712 | D10: 391.1985 | E10: 514.48455 | F10: 556.1577 | G10: 237.878 | H10: 268.08454 | I10: 243.88508 | J10: 318.8518 | K10: 665.5115 | L10: 740.19127 | M10: 807.41013 | N10: 800.34965 | O10: 403.9469 | P10: 380.8 | Q10: 476 | R10: 558.5 | S10: 368.896 | T10: 277.46485 | U10: 289.64764 | V10: 345.91527 | W10: 227.49 | X10: 213.15974 | Y10: 313.99295 | Z10: 405.17445 | AA10: 122.019 | AB10: 136.23778 | AC10: 225.85958 | AD10: 359.82919 | AE10: 5.50962 | AF10: 3.65737 | AG10: 420.14568 | AH10: 762.52737 | AI10: 1.5 | AJ10: 0.90144 | AK10: 104.153 | AL10: 123.04105 | AM10: 0 | AN10: 0 | AO10: 70.25422 | AP10: 124.60907
A11: 0210 | B11: Мясо и пищевые мясные субпродукты, соленые, в рассоле, сушеные или копченые; пищевая мука тонкого и грубого помола из мяса или мясных субпродуктов | C11: 0 | D11: 0 | E11: 450.09513 | F11: 890.42408 | G11: 283.6059 | H11: 30.19201 | I11: 99.66796 | J11: 308.70541 | K11: 246.63 | L11: 85.05569 | M11: 139.31276 | N11: 341.3566 | O11: 19.801 | P11: 3.9 | Q11: 101.7 | R11: 351.7 | S11: 129.9 | T11: 19.39402 | U11: 230.57335 | V11: 734.5786 | W11: 166.12006 | X11: 17.9983 | Y11: 154.99172 | Z11: 450.45185 | AA11: 441.19 | AB11: 69.50569 | AC11: 322.08426 | AD11: 1248.1715 | AE11: 28.12 | AF11: 44.26302 | AG11: 428.62096 | AH11: 783.67128 | AI11: 27.6 | AJ11: 24.84 | AK11: 18.8404 | AL11: 114.09368 | AM11: 0 | AN11: 0 | AO11: 15.63024 | AP11: 124.54178
A12: 0304 | B12: Филе рыбное и прочее мясо рыбы (включая фарш), свежие, охлажденные или мороженые | C12: 6416.503 | D12: 42015.733 | E12: 3232.3345 | F12: 4287.9636 | G12: 7109.8022 | H12: 39963.345 | I12: 1539.805 | J12: 2570.2887 | K12: 7354.3747 | L12: 40233.485 | M12: 2711.0964 | N12: 4432.8733 | O12: 8054.7887 | P12: 43994.1 | Q12: 1812 | R12: 4663.5 | S12: 6808.5853 | T12: 36000.627 | U12: 2887.5562 | V12: 6907.0563 | W12: 6947.7464 | X12: 36297.06 | Y12: 1759.4005 | Z12: 4192.1427 | AA12: 6222.9939 | AB12: 29026.742 | AC12: 2143.3376 | AD12: 6407.9888 | AE12: 9851.6421 | AF12: 61172.63 | AG12: 2764.2512 | AH12: 11405.103 | AI12: 1924.76 | AJ12: 9637.8291 | AK12: 628.36982 | AL12: 2343.0423 | AM12: 2699.1775 | AN12: 19726.87 | AO12: 1128.9313 | AP12: 3722.5556
A13: 0305 | B13: Рыба сушеная, соленая или в рассоле; рыба горячего или холодного копчения; рыбная мука тонкого и грубого помола и гранулы из рыбы, пригодные для употребления в пищу | C13: 1372.0576 | D13: 1274.0756 | E13: 740.23483 | F13: 3867.8069 | G13: 1365.9285 | H13: 1377.2705 | I13: 860.6418 | J13: 3254.7234 | K13: 1307.3276 | L13: 1943.8732 | M13: 662.83946 | N13: 3286.7173 | O13: 1865.0013 | P13: 2374.3 | Q13: 947.1 | R13: 3837.2 | S13: 2697.0516 | T13: 3237.4332 | U13: 794.45222 | V13: 4231.9207 | W13: 2871.9534 | X13: 5373.1995 | Y13: 849.21536 | Z13: 4765.089 | AA13: 2503.0186 | AB13: 6162.4321 | AC13: 814.02582 | AD13: 5257.5537 | AE13: 1733.7626 | AF13: 9232.2518 | AG13: 461.56064 | AH13: 4466.1745 | AI13: 315.624 | AJ13: 839.77155 | AK13: 114.55869 | AL13: 829.81274 | AM13: 335.22691 | AN13: 1841.8772 | AO13: 222.75283 | AP13: 1092.6441
A14: 0401 | B14: Молоко и сливки, несгущенные и без добавления сахара или других подслащивающих веществ | C14: 7568.2716 | D14: 4002.7343 | E14: 46260.736 | F14: 33216.546 | G14: 11975.917 | H14: 5582.7026 | I14: 34833.187 | J14: 25722.298 | K14: 19217.882 | L14: 9431.7907 | M14: 34760.417 | N14: 27619.057 | O14: 27424.163 | P14: 11870.3 | Q14: 21255.9 | R14: 17289 | S14: 38853.633 | T14: 16702.07 | U14: 21853.178 | V14: 17478.059 | W14: 37662.115 | X14: 18454.643 | Y14: 28106.555 | Z14: 27517.501 | AA14: 32285.757 | AB14: 16976.375 | AC14: 23813.45 | AD14: 22365.282 | AE14: 13750.756 | AF14: 10538.135 | AG14: 26060.172 | AH14: 31062.391 | AI14: 4555.2506 | AJ14: 2903.6393 | AK14: 5999.3789 | AL14: 6355.3744 | AM14: 1599.8708 | AN14: 1506.1448 | AO14: 8711.8913 | AP14: 9674.8039
A15: 0402 | B15: Молоко и сливки, сгущенные или с добавлением сахара или других подслащивающих веществ | C15: 523.3992 | D15: 1025.8647 | E15: 41150.786 | F15: 75091.917 | G15: 368.20181 | H15: 670.13175 | I15: 43890.005 | J15: 75688.693 | K15: 886.37946 | L15: 1084.0201 | M15: 45327.946 | N15: 91883.649 | O15: 733.47966 | P15: 1095.1 | Q15: 44152.9 | R15: 79962.1 | S15: 912.41931 | T15: 1845.4748 | U15: 38789.73 | V15: 76632.499 | W15: 1476.0671 | X15: 7274.4827 | Y15: 47559.918 | Z15: 101048.48 | AA15: 1559.957 | AB15: 5320.6042 | AC15: 37689.341 | AD15: 83718.946 | AE15: 2834.1235 | AF15: 12824.768 | AG15: 41206.921 | AH15: 119564 | AI15: 377.12515 | AJ15: 1476.6269 | AK15: 10386.437 | AL15: 27861.693 | AM15: 648.75932 | AN15: 2935.8085 | AO15: 8640.0831 | AP15: 25085.236
A16: 0403 | B16: Пахта, свернувшиеся молоко и сливки, йогурт, кефир и прочие ферментированные или сквашенные молоко и сливки, сгущенные или несгущенные, с добавлением или без добавления сахара или других подслащивающих веществ, со вкусо-ароматическими добавками или без | C16: 4428.0827 | D16: 3133.3972 | E16: 32442.199 | F16: 35208.22 | G16: 3906.5814 | H16: 2814.0568 | I16: 34760.822 | J16: 30439.966 | K16: 6759.0847 | L16: 5903.2545 | M16: 32409.625 | N16: 36130.859 | O16: 9683.9826 | P16: 8456.6 | Q16: 32170.2 | R16: 37391.4 | S16: 11112.981 | T16: 10021.888 | U16: 36348.285 | V16: 43111.76 | W16: 12098.08 | X16: 12088.84 | Y16: 40056.658 | Z16: 44144.91 | AA16: 14786.291 | AB16: 16383.473 | AC16: 43000.054 | AD16: 45969.509 | AE16: 12685.017 | AF16: 18646.813 | AG16: 42089.063 | AH16: 55082.811 | AI16: 2983.1489 | AJ16: 3651.6978 | AK16: 11712.772 | AL16: 12992.84 | AM16: 3021.2543 | AN16: 4754.7633 | AO16: 10564.172 | AP16: 13772.505
A17: 0404 | B17: Молочная сыворотка, сгущенная или несгущенная, с добавлением или без добавления сахара или других подслащивающих веществ; продукты из натуральных компонентов молока, с добавлением или без добавления сахара или других подслащивающих веществ, в другом мес | C17: 15.099 | D17: 11.07708 | E17: 7063.7161 | F17: 5884.3995 | G17: 1321.1961 | H17: 741.63052 | I17: 8542.3409 | J17: 6594.6943 | K17: 89.7995 | L17: 180.32569 | M17: 8150.6509 | N17: 8314.0286 | O17: 272.67933 | P17: 125.3 | Q17: 9543.6 | R17: 8308.4 | S17: 695.39464 | T17: 377.3904 | U17: 11753.599 | V17: 12516.493 | W17: 880.33668 | X17: 513.71187 | Y17: 13816.121 | Z17: 15128.422 | AA17: 1076.8087 | AB17: 750.96064 | AC17: 15245.95 | AD17: 19670.109 | AE17: 1872.1832 | AF17: 1469.171 | AG17: 10915.518 | AH17: 16043.904 | AI17: 244.2519 | AJ17: 157.37664 | AK17: 2322.2055 | AL17: 3478.0511 | AM17: 554.5413 | AN17: 395.4884 | AO17: 2768.3824 | AP17: 3878.8216
A18: 0405 | B18: Сливочное масло и прочие жиры и масла, изготовленные из молока; молочные пасты | C18: 3119.7767 | D18: 19037.754 | E18: 7573.724 | F18: 22413 | G18: 374.37322 | H18: 1342.2709 | I18: 8868.805 | J18: 26891.304 | K18: 342.09585 | L18: 1440.0789 | M18: 7016.3445 | N18: 26710.602 | O18: 1793.992 | P18: 8884.8 | Q18: 6396.9 | R18: 27360.1 | S18: 2829.5721 | T18: 13727.63 | U18: 5008.803 | V18: 20669.588 | W18: 1622.2936 | X18: 6423.7814 | Y18: 7198.8991 | Z18: 28108.41 | AA18: 4587.5462 | AB18: 20628.069 | AC18: 5238.22 | AD18: 23541.158 | AE18: 3819.3675 | AF18: 25826.425 | AG18: 7815.6684 | AH18: 39813.843 | AI18: 355.59162 | AJ18: 2009.5608 | AK18: 2245.4421 | AL18: 9449.2127 | AM18: 310.6201 | AN18: 1661.1704 | AO18: 1920.2193 | AP18: 11022.383
A19: 0406 | B19: Сыры и творог | C19: 1750.1153 | D19: 4346.2917 | E19: 21202.671 | F19: 63513.011 | G19: 1669.8572 | H19: 4147.221 | I19: 20773.832 | J19: 60760.422 | K19: 2047.1907 | L19: 7975.2982 | M19: 22971.949 | N19: 80238.316 | O19: 2359.0189 | P19: 8941.3 | Q19: 22058 | R19: 76415 | S19: 3419.4444 | T19: 10813.268 | U19: 25434.914 | V19: 87204.422 | W19: 3221.2782 | X19: 10083.739 | Y19: 34590.696 | Z19: 102361.03 | AA19: 3689.3069 | AB19: 10645.395 | AC19: 33253.782 | AD19: 117026.2 | AE19: 2690.5338 | AF19: 10298.657 | AG19: 34932.127 | AH19: 155483.29 | AI19: 525.10021 | AJ19: 1589.2767 | AK19: 7990.2985 | AL19: 27863.548 | AM19: 415.08641 | AN19: 1804.3951 | AO19: 8093.0089 | AP19: 37532.658
... A21: 0712 | B21: Овощи сушеные, целые, нарезанные кусками, ломтиками, измельченные или в виде порошка, но не подвергнутые дальнейшей обработке | C21: 306.375 | D21: 596.49797 | E21: 2145.8054 | F21: 3938.51 | G21: 141.3 | H21: 646.19882 | I21: 1684.2036 | J21: 2260.2684 | K21: 106.7289 | L21: 417.16795 | M21: 1389.8553 | N21: 2286.791 | O21: 34.9522 | P21: 140.6 | Q21: 1704.4 | R21: 2526.9 | S21: 63.5122 | T21: 37.20067 | U21: 28352.497 | V21: 8895.8099 | W21: 208.7584 | X21: 129.06268 | Y21: 25910.199 | Z21: 10100.738 | AA21: 504.6467 | AB21: 329.03712 | AC21: 1867.6307 | AD21: 4217.5284 | AE21: 16.40955 | AF21: 183.67666 | AG21: 1575.115 | AH21: 4830.989 | AI21: 8.6504 | AJ21: 14.3942 | AK21: 461.75087 | AL21: 1344.0195 | AM21: 0.09615 | AN21: 1.10535 | AO21: 712.86543 | AP21: 1029.0962
A22: 0812 | B22: Фрукты и орехи, консервированные для кратковременного хранения (например, диоксидом серы, в рассоле, сернистой воде или в другом временно консервирующем растворе), но в таком виде непригодные для непосредственного употребления в пищу | C22: 0 | D22: 0 | E22: 5.23127 | F22: 7.36041 | G22: 0 | H22: 0 | I22: 185.57232 | J22: 135.59632 | K22: 0 | L22: 0 | M22: 293.59165 | N22: 97.66344 | O22: - | P22: - | Q22: 860.6 | R22: 121.8 | S22: - | T22: - | U22: 41.74002 | V22: 29.63367 | W22: - | X22: - | Y22: 97.22287 | Z22: 68.2548 | AA22: 700 | AB22: 651.92 | AC22: 24.8517 | AD22: 10.5805 | AE22: 0 | AF22: 0 | AG22: 2.26325 | AH22: 5.074 | AI22: 0 | AJ22: 0 | AK22: 0.11325 | AL22: 0.43 | AM22: 0 | AN22: 0 | AO22: 171.56 | AP22: 9.02545
A23: 0814 | B23: Кожура цитрусовых плодов или корки дынь (включая корки арбузов), свежие, морож.,сушеные или консервир. Для кратк. Хран. В рассоле, сернистой воде или в др.временно консервирующем растворе | C23: 0 | D23: 0 | E23: 0.33859 | F23: 0.50043 | G23: 0 | H23: 0 | I23: 0.04864 | J23: 0.498 | K23: 0 | L23: 0 | M23: 1.2875 | N23: 7.159 | O23: - | P23: - | Q23: 6.9 | R23: 31.5 | S23: - | T23: - | U23: 3.19328 | V23: 17.67419 | W23: - | X23: - | Y23: 4.41887 | Z23: 17.11571 | AA23: 20 | AB23: 11.633 | AC23: 7.73461 | AD23: 38.93626 | AE23: 0 | AF23: 0 | AG23: 1.56574 | AH23: 9.74862 | AI23: 0 | AJ23: 0 | AK23: 0.54858 | AL23: 2.80603 | AM23: 0.103 | AN23: 0.00442 | AO23: 0.7789 | AP23: 3.02902
A24: 0901 | B24: Кофе, жареный или нежареный, с кофеином или без кофеина; кофейная шелуха и оболочки зерен кофе; заменители кофе, содержащие кофе в любой пропорции | C24: 5.24296 | D24: 11.07811 | E24: 571.52807 | F24: 4100.4042 | G24: 5.45595 | H24: 4.82267 | I24: 1110.4345 | J24: 4829.0826 | K24: 0.93421 | L24: 9.91204 | M24: 1003.2418 | N24: 6676.0901 | O24: 3.72531 | P24: 27.2 | Q24: 1201.9 | R24: 8139.5 | S24: 41.67477 | T24: 392.35393 | U24: 1614.812 | V24: 10165.298 | W24: 16.04676 | X24: 53.58014 | Y24: 1570.4556 | Z24: 9173.6305 | AA24: 9.26246 | AB24: 66.34566 | AC24: 1901.7465 | AD24: 11877.867 | AE24: 132.80557 | AF24: 1520.7698 | AG24: 2928.794 | AH24: 23091.386 | AI24: 3.0804 | AJ24: 35.28394 | AK24: 479.90313 | AL24: 3534.4694 | AM24: 100.79593 | AN24: 559.98923 | AO24: 767.6145 | AP24: 5776.8375
A25: 0902 | B25: Чай со вкусо-ароматическими добавками или без них | C25: 1687.0302 | D25: 8512.8846 | E25: 28590.181 | F25: 110200.7 | G25: 1991.8324 | H25: 9682.6764 | I25: 30581.287 | J25: 112434.13 | K25: 1864.2452 | L25: 8886.1222 | M25: 33268.804 | N25: 122794.6 | O25: 2958.2544 | P25: 11782.2 | Q25: 30525.6 | R25: 112747.2 | S25: 2621.6373 | T25: 12230.456 | U25: 30663.814 | V25: 107844.27 | W25: 4170.7915 | X25: 18986.658 | Y25: 29271.445 | Z25: 101616.75 | AA25: 3900.1527 | AB25: 20291.117 | AC25: 32297.987 | AD25: 111608.11 | AE25: 4475.7916 | AF25: 26738.755 | AG25: 28386.345 | AH25: 92556.646 | AI25: 1200.2939 | AJ25: 5542.6656 | AK25: 6302.2557 | AL25: 20653.189 | AM25: 681.36804 | AN25: 4166.4711 | AO25: 9530.0951 | AP25: 29981.985
A26: 0903 | B26: Мате (парагвайский чай) | C26: 0 | D26: 0 | E26: 0.14356 | F26: 1.16401 | G26: 0 | H26: 0 | I26: 1.0498 | J26: 9.31384 | K26: 0 | L26: 0 | M26: 2.34318 | N26: 9.5054 | O26: - | P26: - | Q26: 0.4 | R26: 5.2 | S26: - | T26: - | U26: 1.35293 | V26: 3.11637 | W26: - | X26: - | Y26: 0.23383 | Z26: 2.94582 | AA26: 0.8 | AB26: 0.18573 | AC26: 0.35001 | AD26: 4.17693 | AE26: 0 | AF26: 0 | AG26: 0.67568 | AH26: 3.47848 | AI26: 0 | AJ26: 0 | AK26: 0.52813 | AL26: 1.37393 | AM26: 0 | AN26: 0 | AO26: 0.06938 | AP26: 1.1748
A27: 0905 | B27: Ваниль | C27: 0.0045 | D27: 0.04725 | E27: 8.05735 | F27: 33.21878 | G27: 0 | H27: 0 | I27: 4.13182 | J27: 37.98679 | K27: 0 | L27: 0 | M27: 5.31542 | N27: 33.36331 | O27: - | P27: - | Q27: 4.4 | R27: 49.5 | S27: - | T27: - | U27: 3.10766 | V27: 15.26703 | W27: 0.00059 | X27: 0.35914 | Y27: 0.22017 | Z27: 5.65182 | AA27: 8e-05 | AB27: 0.0019 | AC27: 2.9746 | AD27: 78.71569 | AE27: 0.0015 | AF27: 0.043 | AG27: 0.36453 | AH27: 14.24288 | AI27: 0.0015 | AJ27: 0.043 | AK27: 0.0742 | AL27: 2.59127 | AM27: 0 | AN27: 0 | AO27: 0.0014 | AP27: 1.28544
A28: 1101 | B28: Мука пшеничная или пшенично-ржаная | C28: 1822669.2 | D28: 493724.22 | E28: 5973.8701 | F28: 1873.3414 | G28: 2394276.9 | H28: 505110.94 | I28: 2339.4957 | J28: 776.66816 | K28: 2316871.6 | L28: 469402.22 | M28: 2740.3271 | N28: 978.39301 | O28: 2297686.9 | P28: 448385.5 | Q28: 3222.2 | R28: 1116 | S28: 1560146.4 | T28: 362086.9 | U28: 3875.9559 | V28: 1749.9354 | W28: 1743751.7 | X28: 489864.37 | Y28: 7874.0836 | Z28: 2859.4729 | AA28: 1468753 | AB28: 440904.33 | AC28: 9111.8438 | AD28: 3732.2994 | AE28: 1935566.7 | AF28: 753016.68 | AG28: 26137.533 | AH28: 8681.6428 | AI28: 466212.69 | AJ28: 172143.99 | AK28: 4412.3371 | AL28: 1272.7519 | AM28: 453651.95 | AN28: 155001.33 | AO28: 5567.288 | AP28: 1573.575
A29: 1102 | B29: Мука из зерна прочих злаков, кроме пшеничной или пшенично-ржаной | C29: 450.11 | D29: 90.27509 | E29: 3771.8587 | F29: 696.8429 | G29: 2596.967 | H29: 556.46845 | I29: 1255.1069 | J29: 353.02732 | K29: 505.135 | L29: 108.68935 | M29: 1803.5824 | N29: 531.44677 | O29: 286.268 | P29: 54.3 | Q29: 2528.2 | R29: 608.2 | S29: 734.195 | T29: 189.81878 | U29: 3375.517 | V29: 947.59206 | W29: 22.56 | X29: 3.69622 | Y29: 4733.9914 | Z29: 1387.4622 | AA29: 2.28 | AB29: 0.89776 | AC29: 4513.9233 | AD29: 1303.2917 | AE29: 525.84 | AF29: 161.29019 | AG29: 3247.3996 | AH29: 1280.1487 | AI29: 3.48 | AJ29: 7.14815 | AK29: 512.69118 | AL29: 187.16428 | AM29: 136.14 | AN29: 29.9269 | AO29: 779.56967 | AP29: 239.99481
A30: 1103 | B30: Крупа, мука грубого помола и гранулы из зерна злаков | C30: 6158.699 | D30: 2417.01 | E30: 10955.826 | F30: 5773.4591 | G30: 11010.101 | H30: 3840.8359 | I30: 6634.0224 | J30: 2820.0347 | K30: 17302.525 | L30: 7354.2489 | M30: 4819.3866 | N30: 2329.9974 | O30: 25271.23 | P30: 6621.5 | Q30: 6690.9 | R30: 2686.2 | S30: 19879.24 | T30: 5888.6578 | U30: 7402.9995 | V30: 3583.8925 | W30: 13478.447 | X30: 5078.0795 | Y30: 8709.9991 | Z30: 4101.1214 | AA30: 14362.672 | AB30: 7621.5435 | AC30: 7831.4951 | AD30: 4031.1297 | AE30: 10949.188 | AF30: 7683.1054 | AG30: 9014.4136 | AH30: 5147.7041 | AI30: 2450.8314 | AJ30: 1578.9138 | AK30: 1764.6328 | AL30: 788.79034 | AM30: 2652.308 | AN30: 1129.9343 | AO30: 2423.1819 | AP30: 871.18758
A31: 1104 | B31: Зерно злаков, обработанное другими способами (например, шелушеное, плюще?ное, переработанное в хлопья, обрушенное, в виде сечки или дробленое), кроме риса товарной позиции 1006; зародыши зерна злаков, целые, плющеные, в виде хлопьев или молотые | C31: 3939.4872 | D31: 1405.4184 | E31: 8091.4525 | F31: 6065.3141 | G31: 5633.3842 | H31: 2116.8494 | I31: 8724.1345 | J31: 5849.405 | K31: 9296.904 | L31: 4180.5492 | M31: 10258.97 | N31: 6647.2677 | O31: 21636.381 | P31: 5846.3 | Q31: 12834.5 | R31: 7332.8 | S31: 24721.145 | T31: 8241.4517 | U31: 13732.65 | V31: 7967.8217 | W31: 23261.169 | X31: 10813.604 | Y31: 23411.831 | Z31: 9018.239 | AA31: 26831.67 | AB31: 19297.089 | AC31: 17841.088 | AD31: 10286.189 | AE31: 29006.404 | AF31: 26780.655 | AG31: 13008.033 | AH31: 10465.987 | AI31: 5040.3211 | AJ31: 4246.9647 | AK31: 3763.8239 | AL31: 2348.0177 | AM31: 4280.008 | AN31: 2966.0814 | AO31: 3546.3627 | AP31: 1994.7105
A32: 1105 | B32: Мука тонкого и грубого помола, порошок, хлопья, гранулы картофельные | C32: 0 | D32: 0 | E32: 112.30629 | F32: 76.63314 | G32: 0.375 | H32: 0.743 | I32: 120.07096 | J32: 104.57217 | K32: 0.495 | L32: 1.024 | M32: 133.11356 | N32: 152.52953 | O32: - | P32: - | Q32: 155.1 | R32: 169.5 | S32: 20.04 | T32: 0.8584 | U32: 198.96508 | V32: 233.69493 | W32: - | X32: - | Y32: 223.19451 | Z32: 273.53006 | AA32: 0 | AB32: 0 | AC32: 227.35446 | AD32: 356.54147 | AE32: 0 | AF32: 0 | AG32: 314.97029 | AH32: 763.81805 | AI32: 0 | AJ32: 0 | AK32: 78.27751 | AL32: 158.86667 | AM32: 0 | AN32: 0 | AO32: 71.6012 | AP32: 94.81591
A33: 1106 | B33: Мука тонкого и грубого помола и порошок из сушеных бобовых овощей товарной позиции 0713, из сердцевины саговой пальмы, из корнеплодов или клубнеплодов товарной позиции 0714 или продуктов группы 08 | C33: 0 | D33: 0 | E33: 77.17811 | F33: 215.24103 | G33: 0 | H33: 0 | I33: 50.292 | J33: 135.55058 | K33: 0 | L33: 0 | M33: 123.69516 | N33: 155.10661 | O33: - | P33: - | Q33: 41.5 | R33: 147.5 | S33: - | T33: - | U33: 39.59199 | V33: 178.21624 | W33: - | X33: - | Y33: 39.43334 | Z33: 223.90832 | AA33: 0.8 | AB33: 0.67261 | AC33: 80.9911 | AD33: 315.47342 | AE33: 0.1028 | AF33: 3.23772 | AG33: 130.75129 | AH33: 269.4925 | AI33: 0.0496 | AJ33: 1.12353 | AK33: 45.99706 | AL33: 85.75523 | AM33: 0.03714 | AN33: 0.19376 | AO33: 22.64192 | AP33: 113.1959
A34: 1107 | B34: Солод, поджаренный или неподжаренный | C34: 2681.8238 | D34: 1277.4702 | E34: 20294.136 | F34: 7916.2415 | G34: 22181.17 | H34: 7044.6786 | I34: 17490.853 | J34: 6644.5586 | K34: 13529.6 | L34: 4975.4929 | M34: 18524.825 | N34: 8533.6554 | O34: 14961.233 | P34: 5712.4 | Q34: 21002.2 | R34: 8419.1 | S34: 19814.76 | T34: 8129.7217 | U34: 21822.665 | V34: 10053.505 | W34: 16479.95 | X34: 6302.7546 | Y34: 12397.788 | Z34: 4991.9359 | AA34: 17403.12 | AB34: 7527.1327 | AC34: 23220.287 | AD34: 9760.8181 | AE34: 15039.103 | AF34: 8215.8776 | AG34: 17002.046 | AH34: 11462.098 | AI34: 4630.85 | AJ34: 2400.532 | AK34: 3596.9709 | AL34: 1763.1812 | AM34: 3183 | AN34: 2151.8457 | AO34: 3472.667 | AP34: 2073.6662
A35: 1108 | B35: Крахмал; инулин | C35: 1862.206 | D35: 901.80477 | E35: 6605.0747 | F35: 3580.3486 | G35: 1943.66 | H35: 754.10525 | I35: 5533.9265 | J35: 3298.5431 | K35: 3901.599 | L35: 1489.1402 | M35: 6323.9345 | N35: 3918.4845 | O35: 5246.5505 | P35: 1853.8 | Q35: 8086.2 | R35: 4094.1 | S35: 6784.29 | T35: 2287.1418 | U35: 9342.2346 | V35: 5073.1229 | W35: 8977.7022 | X35: 3167.7808 | Y35: 8221.2863 | Z35: 4453.0328 | AA35: 21931.81 | AB35: 7739.6706 | AC35: 9025.4778 | AD35: 4429.2404 | AE35: 20036.237 | AF35: 9380.6687 | AG35: 9087.2543 | AH35: 7471.0275 | AI35: 8061 | AJ35: 3092.046 | AK35: 2225.3507 | AL35: 1478.9662 | AM35: 7762.875 | AN35: 4193.6676 | AO35: 2592.3815 | AP35: 3654.4128
A36: 1109 | B36: Клейковина пшеничная, сухая или сырая | C36: 10 | D36: 3.2 | E36: 115.5607 | F36: 137.24091 | G36: 0 | H36: 0 | I36: 169.7319 | J36: 290.0298 | K36: 0.05 | L36: 0.16731 | M36: 424.5333 | N36: 785.46846 | O36: 194.9346 | P36: 278.4 | Q36: 70.6 | R36: 139.1 | S36: 1093.1002 | T36: 1335.1097 | U36: 47.04125 | V36: 101.30372 | W36: 1656.722 | X36: 1815.8263 | Y36: 37.325 | Z36: 46.61447 | AA36: 6349.44 | AB36: 9481.1069 | AC36: 36.1516 | AD36: 63.20886 | AE36: 7727.7865 | AF36: 15534.064 | AG36: 124.4019 | AH36: 97.29603 | AI36: 2462.78 | AJ36: 4485.3229 | AK36: 3.8 | AL36: 8.82365 | AM36: 1832.482 | AN36: 3718.5641 | AO36: 2.9 | AP36: 6.53475
A37: 1208 | B37: Мука тонкого и грубого помола из семян или плодов масличных культур, кроме семян горчицы | C37: 0 | D37: 0 | E37: 427.0168 | F37: 260.38359 | G37: 0 | H37: 0 | I37: 434.17148 | J37: 121.95867 | K37: 0 | L37: 0 | M37: 989.01588 | N37: 285.94126 | O37: - | P37: - | Q37: 716.5 | R37: 179.1 | S37: - | T37: - | U37: 877.84667 | V37: 456.60565 | W37: 0.0033 | X37: 0.00376 | Y37: 63.18185 | Z37: 103.32613 | AA37: 0 | AB37: 0 | AC37: 88.37664 | AD37: 104.74489 | AE37: 0 | AF37: 0 | AG37: 70.55063 | AH37: 101.01403 | AI37: 0 | AJ37: 0 | AK37: 10.01111 | AL37: 14.30425 | AM37: 0.027 | AN37: 0.05612 | AO37: 24.39985 | AP37: 26.24309
A38: 1501 | B38: Жир свиной (включая лярд) и жир домашней птицы, кроме жира товарной позиции 0209 или 1503 | C38: 34.1 | D38: 38.47 | E38: 3.7219 | F38: 9.1276 | G38: 0 | H38: 0 | I38: 28.2 | J38: 21.76027 | K38: 0 | L38: 0 | M38: 59.4811 | N38: 54.68523 | O38: - | P38: - | Q38: 3 | R38: 0.8 | S38: 0.6 | T38: 0.5584 | U38: 79.64 | V38: 49.7542 | Y38: 96.03996 | Z38: 59.10577 | AA38: 0 | AB38: 0 | AC38: 3.54263 | AD38: 7.86001 | AE38: 0 | AF38: 0 | AG38: 14.20473 | AH38: 25.33565 | AI38: 0 | AJ38: 0 | AK38: 0.49033 | AL38: 7.93606 | AM38: 10.1 | AN38: 7.972 | AO38: 21.6 | AP38: 28.819
A39: 1502 | B39: Жир крупного рогатого скота, овец или коз, кроме жира товарной позиции 1503 | C39: 0 | D39: 0 | E39: 938.79017 | F39: 651.15252 | G39: 0 | H39: 0 | I39: 1070.4736 | J39: 732.97001 | K39: 80 | L39: 92.496 | M39: 733.53362 | N39: 531.40177 | O39: 76.0022 | P39: 101.6 | Q39: 368.6 | R39: 367.4 | S39: 61.5941 | T39: 72.91113 | U39: 739.45057 | V39: 713.48305 | W39: 883.112 | X39: 843.59908 | Y39: 896.74802 | Z39: 833.76541 | AA39: 1281.478 | AB39: 1069.6602 | AC39: 1032.9238 | AD39: 1129.3208 | AE39: 93.10014 | AF39: 72.16316 | AG39: 1316.1862 | AH39: 1344.3288 | AI39: 19.251 | AJ39: 4.04271 | AK39: 256.68366 | AL39: 249.41903 | AM39: 0 | AN39: 0 | AO39: 231.84743 | AP39: 130.30125
A40: 1503 | B40: Лярд-стеарин, лярд-ойль, олеостеарин (олеомаргарин) и животное масло (технический маргарин), неэмульгированные или несмешанные, или не приготовленные каким-либо иным способом | C40: 0 | D40: 0 | E40: 2.17062 | F40: 1.08717 | G40: 0 | H40: 0 | I40: 4.97 | J40: 5.81693 | K40: 0 | L40: 0 | M40: 0.0288 | N40: 0.18774 | O40: - | P40: - | Q40: 0.1 | R40: 0.6 | S40: - | T40: - | U40: 0.1456 | V40: 0.57177 | W40: - | X40: - | Y40: 0.2245 | Z40: 6.62921 | AA40: 0 | AB40: 0 | AC40: 0.006 | AD40: 0.093 | AE40: 0 | AF40: 0 | AG40: 0.51195 | AH40: 15.27917 | AI40: 0 | AJ40: 0 | AK40: 0.21782 | AL40: 1.21422 | AM40: 0 | AN40: 0 | AO40: 0.035 | AP40: 0.629
A41: 1504 | B41: Жиры, масла и их фракции, из рыбы или морских млекопитающих, нерафинированные или рафинированные, но без изменения химического состава | C41: 9.3 | D41: 10.856 | E41: 30.45907 | F41: 448.69683 | G41: 0 | H41: 0 | I41: 40.31001 | J41: 452.15975 | K41: 0 | L41: 0 | M41: 35.90459 | N41: 445.11721 | O41: 0.6907 | P41: 23.7 | Q41: 58.7 | R41: 491.7 | S41: 0.87475 | T41: 28.35847 | U41: 65.75761 | V41: 673.26479 | W41: 0.4417 | X41: 20.71623 | Y41: 157.3096 | Z41: 1314.5755 | AA41: 1.4955 | AB41: 178.9529 | AC41: 234.55893 | AD41: 1546.2875 | AE41: 2.74347 | AF41: 83.57083 | AG41: 113.90387 | AH41: 1175.2716 | AI41: 0.19036 | AJ41: 10.93191 | AK41: 21.75396 | AL41: 360.77452 | AM41: 3.01156 | AN41: 71.41836 | AO41: 20.0136 | AP41: 170.25311
A42: 1505 | B42: Жиропот и жировые вещества, получаемые из него ( включая ланолин) | C42: 0 | D42: 0 | E42: 20.0071 | F42: 169.59158 | G42: 0.335 | H42: 3.20229 | I42: 29.389 | J42: 87.84336 | K42: 0.795 | L42: 8.75618 | M42: 4.13885 | N42: 39.43853 | O42: - | P42: - | Q42: 3.9 | R42: 44 | S42: 0.1 | T42: 1.08151 | U42: 5.2 | V42: 47.86629 | W42: 0.1 | X42: 1.11204 | Y42: 4.34594 | Z42: 40.98857 | AA42: 0.2 | AB42: 2.81672 | AC42: 4.58544 | AD42: 42.06403 | AE42: 0.12012 | AF42: 3.61473 | AG42: 5.81152 | AH42: 86.97661 | AI42: 0 | AJ42: 0 | AK42: 0.9 | AL42: 15.07177 | AM42: 0.05 | AN42: 1.27229 | AO42: 5.833 | AP42: 65.8483
A43: 1506 | B43: Прочие жиры и масла животные и их фракции, в том числе нерафинированные или рафинированные, но без изменения их химического состава | C43: 20.006 | D43: 230.06218 | E43: 5.978 | F43: 14.37533 | G43: 16.994 | H43: 176.69567 | I43: 111.23538 | J43: 117.72311 | K43: 17 | L43: 198.2 | M43: 4.5348 | N43: 8.70906 | O43: 14.01 | P43: 200.3 | Q43: 52 | R43: 60.4 | S43: 15 | T43: 244.667 | U43: 31.16509 | V43: 29.88256 | W43: 15.2 | X43: 225.35 | Y43: 43.62848 | Z43: 45.40183 | AA43: 33.2 | AB43: 529.71833 | AC43: 2.81125 | AD43: 7.72456 | AE43: 5.7 | AF43: 98.02106 | AG43: 20.09368 | AH43: 16.35099 | AI43: 3 | AJ43: 54.82106 | AK43: 6.10336 | AL43: 6.79559 | AM43: 3.82 | AN43: 71.36909 | AO43: 1.89003 | AP43: 4.88384
A44: 1507 | B44: Масло соевое и его фракции, нерафинированные или рафинированные, но без изменения химического состава | C44: 6045.6264 | D44: 5750.7465 | E44: 5433.1694 | F44: 3700.3569 | G44: 5703.862 | H44: 5012.8559 | I44: 1344.7548 | J44: 1780.95 | K44: 17911.896 | L44: 14349.551 | M44: 6489.2351 | N44: 4884.2899 | O44: 16136.607 | P44: 11461.3 | Q44: 1141.5 | R44: 867.6 | S44: 9366.273 | T44: 6809.2034 | U44: 84.4494 | V44: 203.67764 | W44: 18491.155 | X44: 14188.586 | Y44: 55.19105 | Z44: 68.99795 | AA44: 7790.86 | AB44: 9901.2311 | AC44: 1715.1036 | AD44: 2269.5555 | AE44: 10619.9 | AF44: 11507.684 | AG44: 344.2656 | AH44: 687.22064 | AI44: 745.0552 | AJ44: 823.83181 | AK44: 60.184 | AL44: 113.25162 | AM44: 2048.75 | AN44: 2023.2515 | AO44: 45.2044 | AP44: 113.1476
A45: 1508 | B45: Масло арахисовое и его фракции, нерафинированные или рафинированные, но без изменения химического состава | C45: 0 | D45: 0 | E45: 0.1751 | F45: 1.97685 | G45: 0 | H45: 0 | I45: 0.77607 | J45: 5.1213 | K45: 0 | L45: 0 | M45: 1.97023 | N45: 1.84203 | O45: - | P45: - | Q45: 0.9 | R45: 1.6 | S45: - | T45: - | U45: 0.75579 | V45: 1.80234 | W45: - | X45: - | Y45: 0.6401 | Z45: 2.57259 | AA45: 0 | AB45: 0 | AC45: 2.3824 | AD45: 5.13854 | AE45: 0 | AF45: 0 | AG45: 0.44687 | AH45: 3.77006 | AI45: 0 | AJ45: 0 | AK45: 0.0588 | AL45: 0.42647 | AM45: 0 | AN45: 0 | AO45: 0.1033 | AP45: 1.01828
A46: 1509 | B46: Масло оливковое и его фракции, нерафинированные или рафинированные, но без изменения химического состава | C46: 4.61548 | D46: 10.61999 | E46: 754.84324 | F46: 2416.7661 | G46: 12.372 | H46: 11.59514 | I46: 1332.9229 | J46: 3052.1286 | K46: 4.65 | L46: 13.88386 | M46: 702.97737 | N46: 2622.0235 | O46: 6.54402 | P46: 20.8 | Q46: 957.6 | R46: 3270.4 | S46: 6.7406 | T46: 25.17589 | U46: 833.17921 | V46: 2954.8904 | W46: 6.66164 | X46: 32.47724 | Y46: 825.47775 | Z46: 2965.7677 | AA46: 6.22121 | AB46: 28.20067 | AC46: 947.90967 | AD46: 3417.2784 | AE46: 23.3176 | AF46: 35.01789 | AG46: 863.37121 | AH46: 3476.0541 | AI46: 0.00412 | AJ46: 0.07733 | AK46: 165.83904 | AL46: 598.00995 | AM46: 0.77206 | AN46: 2.75979 | AO46: 232.40024 | AP46: 1157.3757
A47: 1510 | B47: Прочие масла и их фракции, полученные только из маслин (оливок), нерафинированные или рафинированные, но без изменения их химического состава, включая смеси их с маслами из тов. Поз. N 1509 | C47: 0.1518 | D47: 0.14918 | E47: 117.26558 | F47: 288.00107 | G47: 0.001 | H47: 0.7178 | I47: 142.70545 | J47: 338.71326 | K47: 0.27375 | L47: 3.37254 | M47: 94.26562 | N47: 298.05381 | O47: 0.474 | P47: 2.1 | Q47: 357.8 | R47: 869 | S47: 2.201 | T47: 5.59443 | U47: 397.41827 | V47: 724.37504 | W47: 12.214 | X47: 36.7199 | Y47: 509.98358 | Z47: 877.14749 | AA47: 9.753 | AB47: 27.88216 | AC47: 750.28492 | AD47: 1333.3193 | AE47: 8.596 | AF47: 28.948 | AG47: 642.57391 | AH47: 1375.177 | AI47: 0.3 | AJ47: 1.188 | AK47: 72.36558 | AL47: 124.95572 | AM47: 3.041 | AN47: 7.175 | AO47: 117.6759 | AP47: 331.3529
A48: 1511 | B48: Масло пальмовое и его фракции, нерафинированные или рафинированные, но без изменения химического состава | C48: 0.067 | D48: 0.253 | E48: 25155.584 | F48: 18687.496 | G48: 5 | H48: 5.011 | I48: 43235.102 | J48: 38761.064 | K48: 1694.81 | L48: 1320.5099 | M48: 56188.157 | N48: 53025.589 | O48: 97.46 | P48: 91.5 | Q48: 56749.8 | R48: 52278.9 | S48: 137.732 | T48: 104.0571 | U48: 39779.735 | V48: 31094.781 | W48: 337.204 | X48: 327.4784 | Y48: 47178.977 | Z48: 39005.921 | AA48: 606.552 | AB48: 745.59689 | AC48: 53701.166 | AD48: 65222.182 | AE48: 453.54 | AF48: 908.97872 | AG48: 29314.657 | AH48: 53148.845 | AI48: 63.16 | AJ48: 125.09032 | AK48: 3932.148 | AL48: 5384.5622 | AM48: 290.72 | AN48: 436.00403 | AO48: 19442.177 | AP48: 24971.577
A49: 1512 | B49: Масло подсолнечное, сафлоровое или хлопковое и их фракции, нерафинированные или рафинированные, но без изменения химического состава | C49: 29363.638 | D49: 28885.341 | E49: 130340.65 | F49: 98908.078 | G49: 32379.151 | H49: 30249.25 | I49: 113225.65 | J49: 94725.584 | K49: 65600.275 | L49: 54767.837 | M49: 90783.543 | N49: 72645.562 | O49: 87690.917 | P49: 66151.2 | Q49: 98274.3 | R49: 76389.7 | S49: 105986.82 | T49: 81006.579 | U49: 117148.86 | V49: 81935.57 | W49: 127748.6 | X49: 103437.9 | Y49: 105248.04 | Z49: 90001.054 | AA49: 96895.416 | AB49: 116750.53 | AC49: 94066.96 | AD49: 120459.91 | AE49: 248982.21 | AF49: 349625.5 | AG49: 99687.349 | AH49: 130139.89 | AI49: 52171.348 | AJ49: 67238.635 | AK49: 26587.371 | AL49: 29670.862 | AM49: 72812.733 | AN49: 80649.539 | AO49: 23501.418 | AP49: 26720.628
A50: 1513 | B50: Масло кокосовое (копровое), пальмоядровое или масло бабассу и их фракции, нерафинированные или рафинированные, но без изменения химического состава | C50: 0 | D50: 0 | E50: 1937.9405 | F50: 2957.7239 | G50: 9 | H50: 16.43 | I50: 1507.11 | J50: 2411.0326 | K50: 379.9276 | L50: 786.52479 | M50: 2991.5492 | N50: 4735.5941 | O50: 55.619 | P50: 110 | Q50: 2284.1 | R50: 3722.2 | S50: 32.575 | T50: 61.20759 | U50: 1957.9004 | V50: 2496.7936 | W50: 215.921 | X50: 265.25386 | Y50: 2880.297 | Z50: 3519.6813 | AA50: 142.6525 | AB50: 198.20108 | AC50: 2233.2772 | AD50: 3776.5872 | AE50: 158.578 | AF50: 301.82993 | AG50: 1102.1532 | AH50: 2587.7567 | AI50: 0.33 | AJ50: 1.4607 | AK50: 503.12488 | AL50: 1052.4191 | AM50: 0 | AN50: 0 | AO50: 900.7636 | AP50: 1714.3358
A51: 1514 | B51: Масло рапсовое (из рапса, или кользы) или горчичное и их фракции, нерафинированные или рафинированные, но без изменения химического состава | C51: 6535.444 | D51: 6072.924 | E51: 1826.9847 | F51: 1106.3889 | G51: 6384.2348 | H51: 5066.0092 | I51: 193.91035 | J51: 150.94138 | K51: 8798.677 | L51: 6756.2958 | M51: 11.34205 | N51: 23.37627 | O51: 28285.186 | P51: 21260.2 | Q51: 8 | R51: 105.1 | S51: 62194.841 | T51: 45649.533 | U51: 1393.141 | V51: 668.87914 | W51: 45555.994 | X51: 39493.355 | Y51: 4331.0026 | Z51: 3723.0938 | AA51: 25884.718 | AB51: 29261.268 | AC51: 80.78441 | AD51: 105.27533 | AE51: 45786.94 | AF51: 59022.984 | AG51: 405.0442 | AH51: 415.27816 | AI51: 13477.3 | AJ51: 18483.738 | AK51: 2.20503 | AL51: 4.96451 | AM51: 7718.9 | AN51: 8030.2847 | AO51: 329.2945 | AP51: 352.3596
A52: 1515 | B52: Прочие нелетучие растительные жиры, масла (включая масло жожоба) и их фракции, нерафинированные или рафинированные, но без изменения химического состава | C52: 1719.1654 | D52: 1962.8979 | E52: 874.45746 | F52: 1775.4895 | G52: 10084.173 | H52: 8346.6575 | I52: 407.61157 | J52: 740.71914 | K52: 18542.275 | L52: 14124.881 | M52: 481.76636 | N52: 1044.4885 | O52: 22700.263 | P52: 16911.4 | Q52: 634.8 | R52: 1120.7 | S52: 29452.729 | T52: 23211.019 | U52: 1863.9562 | V52: 1770.1366 | W52: 26716.693 | X52: 24620.02 | Y52: 1057.4528 | Z52: 1662.7722 | AA52: 17723.462 | AB52: 23926.359 | AC52: 899.93178 | AD52: 2007.2361 | AE52: 14440.612 | AF52: 17957.278 | AG52: 644.09444 | AH52: 1909.2602 | AI52: 3041.262 | AJ52: 4626.25 | AK52: 244.21304 | AL52: 520.24158 | AM52: 5297.4538 | AN52: 5189.8926 | AO52: 1086.8603 | AP52: 2392.1986
A53: 1516 | B53: Жиры и масла животные или растительные и их фракции, полностью или частично гидрогенизированные, переэтерифицированные, реэтерифицированные или элаидинизированные, нерафинированные или рафинированные, но не подвергнутые дальнейшей обработке | C53: 2019.8761 | D53: 2496.1381 | E53: 12286.688 | F53: 16874.536 | G53: 3810.0245 | H53: 2865.0029 | I53: 8822.363 | J53: 11894.895 | K53: 5246.1772 | L53: 4886.3524 | M53: 6266.833 | N53: 9254.1601 | O53: 5036.008 | P53: 5161.2 | Q53: 9078.5 | R53: 14071.3 | S53: 805.18 | T53: 750.68204 | U53: 8290.4492 | V53: 10339.008 | W53: 878.9125 | X53: 280.94036 | Y53: 5446.767 | Z53: 7651.7152 | AA53: 150.235 | AB53: 260.93845 | AC53: 1623.9782 | AD53: 2924.0062 | AE53: 635.93 | AF53: 1351.2322 | AG53: 3231.0399 | AH53: 7236.7056 | AI53: 64.138 | AJ53: 106.24565 | AK53: 1245.5943 | AL53: 2013.6524 | AM53: 71.07 | AN53: 110.18127 | AO53: 1157.3537 | AP53: 2617.1777
A54: 1517 | B54: Маргарин; пригодные для употребления в пищу смеси или готовые продукты из животных или растительных жиров или масел или фракций различных жиров или масел данной группы, кроме пищевых жиров или масел или их фракций товарной позиции 1516 | C54: 6876.6343 | D54: 8450.9976 | E54: 29193.948 | F54: 34949.532 | G54: 13198.657 | H54: 12279.865 | I54: 26959.248 | J54: 29463.562 | K54: 18250.407 | L54: 20889.385 | M54: 34814.51 | N54: 39067.349 | O54: 18714.325 | P54: 18219.2 | Q54: 40888.9 | R54: 42835.7 | S54: 17095.908 | T54: 14848.864 | U54: 69764.935 | V54: 84265.743 | W54: 16291.795 | X54: 14707.145 | Y54: 77643.444 | Z54: 91244.865 | AA54: 28292.527 | AB54: 33148.403 | AC54: 61418.897 | AD54: 82558.008 | AE54: 75030.351 | AF54: 88802.091 | AG54: 64305.769 | AH54: 124227.49 | AI54: 22080.479 | AJ54: 26007.751 | AK54: 14632.245 | AL54: 19992.953 | AM54: 5209.6167 | AN54: 7747.3093 | AO54: 20662.836 | AP54: 37186.408
A55: 1518 | B55: Животные или растительные жиры и масла и их фракции, вареные, окисленные, дегидратированные, сульфурированные или полимеризованные, кроме товарной позиции n 1516, непищевые смеси | C55: 0 | D55: 0 | E55: 225.17881 | F55: 341.17859 | G55: 71.616 | H55: 6.708 | I55: 398.32098 | J55: 351.63667 | K55: 279.102 | L55: 38.28361 | M55: 171.19282 | N55: 196.15673 | O55: 480.664 | P55: 51.1 | Q55: 171.8 | R55: 129.4 | S55: 710.5706 | T55: 159.07662 | U55: 360.43238 | V55: 323.55728 | W55: 553.14102 | X55: 201.65835 | Y55: 455.87303 | Z55: 178.65658 | AA55: 714.5685 | AB55: 502.6139 | AC55: 1028.6216 | AD55: 705.61049 | AE55: 1323.8433 | AF55: 1299.9566 | AG55: 729.16626 | AH55: 788.76307 | AI55: 229.788 | AJ55: 213.45804 | AK55: 100.022 | AL55: 40.54501 | AM55: 293.26245 | AN55: 252.48181 | AO55: 159.3067 | AP55: 90.51613
A56: 1601 | B56: Колбасы и аналогичные продукты из мяса, мясных субпродуктов или крови, пищевые продукты, изготовленные на их основе | C56: 450.99525 | D56: 1341.4159 | E56: 32737.46 | F56: 60175.272 | G56: 610.8023 | H56: 1422.6138 | I56: 29656.607 | J56: 47953.101 | K56: 294.16981 | L56: 971.51038 | M56: 29733.1 | N56: 59818.679 | O56: 1098.6226 | P56: 1344.5 | Q56: 29862.9 | R56: 60935.6 | S56: 407.57627 | T56: 855.58957 | U56: 33313.743 | V56: 69095.501 | W56: 193.02874 | X56: 701.82728 | Y56: 38394.456 | Z56: 79121.566 | AA56: 121.36029 | AB56: 371.02018 | AC56: 47194.702 | AD56: 109395.52 | AE56: 170.65677 | AF56: 592.95159 | AG56: 42155.852 | AH56: 121993.47 | AI56: 27.3828 | AJ56: 114.12664 | AK56: 10128.542 | AL56: 23304.446 | AM56: 68.77828 | AN56: 199.94115 | AO56: 9352.7212 | AP56: 27689.138
A57: 1602 | B57: Готовые или консервированные продукты из мяса, мясных субпродуктов или крови прочие | C57: 882.09724 | D57: 2834.824 | E57: 4948.622 | F57: 9427.929 | G57: 1060.9593 | H57: 2791.3225 | I57: 6046.6815 | J57: 8475.2037 | K57: 1114.3588 | L57: 3535.9191 | M57: 5349.7171 | N57: 12403.12 | O57: 691.72328 | P57: 2071.9 | Q57: 6917.8 | R57: 15919.5 | S57: 776.23057 | T57: 2400.4888 | U57: 13208.357 | V57: 32972.275 | W57: 1036.3626 | X57: 3324.8093 | Y57: 14635.528 | Z57: 30050.086 | AA57: 516.44722 | AB57: 1971.1642 | AC57: 18585.727 | AD57: 39614.744 | AE57: 474.23091 | AF57: 2099.5416 | AG57: 21243.151 | AH57: 53500.588 | AI57: 125.50419 | AJ57: 490.76659 | AK57: 4684.471 | AL57: 9193.9544 | AM57: 178.18661 | AN57: 822.47434 | AO57: 3622.0894 | AP57: 8470.0865
A58: 1603 | B58: Экстракты и соки из мяса, рыбы, ракообразных, моллюсков или прочих водных беспозвоночных | C58: 0 | D58: 0 | E58: 0.10775 | F58: 0.39078 | G58: 0 | H58: 0 | I58: 69.7176 | J58: 50.22421 | K58: 0 | L58: 0 | M58: 3.22062 | N58: 9.21112 | O58: 0.48402 | P58: 0.8 | Q58: 0.4 | R58: 8.6 | S58: - | T58: - | U58: 66.9766 | V58: 22.63037 | W58: - | X58: - | Y58: 40.96193 | Z58: 23.34708 | AA58: 0 | AB58: 0 | AC58: 3.84704 | AD58: 11.09737 | AE58: 0 | AF58: 0 | AG58: 103.51478 | AH58: 3511.4773 | AI58: 0 | AJ58: 0 | AK58: 2.2205 | AL58: 5.83061 | AM58: 0 | AN58: 0 | AO58: 31.0735 | AP58: 911.96203
A59: 1604 | B59: Готовая или консервированная рыба; икра осетровых и ее заменители, изготовленные из икринок рыбы | C59: 841.71675 | D59: 2145.148 | E59: 12901.046 | F59: 17216.37 | G59: 1409.6201 | H59: 3660.2647 | I59: 12547.859 | J59: 14614.564 | K59: 892.2572 | L59: 2122.6319 | M59: 7480.9043 | N59: 16830.424 | O59: 3182.021 | P59: 9648 | Q59: 7670.6 | R59: 16639.2 | S59: 2958.9298 | T59: 10895.596 | U59: 8261.4558 | V59: 19647.529 | W59: 2201.6339 | X59: 18130.527 | Y59: 10584.48 | Z59: 28067.609 | AA59: 1308.6996 | AB59: 24390.04 | AC59: 11224.025 | AD59: 34035.975 | AE59: 836.23385 | AF59: 12111.566 | AG59: 8744.3527 | AH59: 37969.908 | AI59: 181.04896 | AJ59: 2812.6574 | AK59: 2014.5037 | AL59: 7479.2188 | AM59: 221.31272 | AN59: 2459.4246 | AO59: 2199.7047 | AP59: 7126.3233
A60: 1605 | B60: Готовые или консервированные ракообразные, моллюски и прочие водные беспозвоночные | C60: 0 | D60: 0 | E60: 390.64015 | F60: 2616.3729 | G60: 0.32 | H60: 4.25826 | I60: 317.84533 | J60: 1685.6083 | K60: 477.60917 | L60: 1575.466 | M60: 374.76981 | N60: 2002.7627 | O60: 161.2925 | P60: 477.1 | Q60: 426.8 | R60: 2579.9 | S60: 3.3978 | T60: 17.95807 | U60: 379.43126 | V60: 2002.9269 | W60: 6.7224 | X60: 73.89491 | Y60: 694.87305 | Z60: 2437.8185 | AA60: 16.7751 | AB60: 136.04245 | AC60: 552.89903 | AD60: 3043.9721 | AE60: 10 | AF60: 32.57254 | AG60: 627.04566 | AH60: 4224.9703 | AI60: 1 | AJ60: 2.945 | AK60: 168.04749 | AL60: 1059.3664 | AM60: 0 | AN60: 0 | AO60: 145.92599 | AP60: 909.0625
A61: 1701 | B61: Сахар тростниковый или свекловичный и химически чистая сахароза, в твердом состоянии | C61: 683.67912 | D61: 446.79139 | E61: 411472.51 | F61: 181721.51 | G61: 4845.7131 | H61: 3055.7954 | I61: 456397.91 | J61: 203380.98 | K61: 37939.139 | L61: 18562.766 | M61: 452432.7 | N61: 217465 | O61: 51134.2 | P61: 23858.5 | Q61: 416162.9 | R61: 180463.2 | S61: 8158.1221 | T61: 3654.3727 | U61: 390187.97 | V61: 156595.45 | W61: 28021.956 | X61: 12893.172 | Y61: 490879.25 | Z61: 181469.04 | AA61: 2726.3817 | AB61: 1672.287 | AC61: 507752.68 | AD61: 267854.8 | AE61: 63.90718 | AF61: 60.1175 | AG61: 548608.12 | AH61: 367847.46 | AI61: 22.33218 | AJ61: 19.21487 | AK61: 87522.122 | AL61: 50002.399 | AM61: 0.18325 | AN61: 0.49993 | AO61: 146303.75 | AP61: 94321.151
A62: 1702 | B62: Прочие сахара, включая химически чистые лактозу, мальтозу, глюкозу и фруктозу, в твердом состоянии; сиропы сахарные без добавления вкусо-ароматических или красящих веществ; искусственный мед, смешанный или не смешанный с натуральным медом; карамельный к | C62: 5699.573 | D62: 2290.5019 | E62: 8141.3034 | F62: 4671.4086 | G62: 11649.278 | H62: 3945.2161 | I62: 7052.7992 | J62: 4278.0041 | K62: 18273.889 | L62: 5803.6218 | M62: 7935.749 | N62: 4844.0072 | O62: 18514.133 | P62: 5652.2 | Q62: 13866.8 | R62: 6016.9 | S62: 11055.045 | T62: 3886.5442 | U62: 8379.8255 | V62: 4513.911 | W62: 11939.445 | X62: 4426.4077 | Y62: 22509.492 | Z62: 7401.7322 | AA62: 20620.405 | AB62: 7801.3888 | AC62: 8347.626 | AD62: 4930.1429 | AE62: 16647.836 | AF62: 8996.5723 | AG62: 5626.2927 | AH62: 6157.0823 | AI62: 5279.4931 | AJ62: 2125.9493 | AK62: 1059.4034 | AL62: 1003.3475 | AM62: 5576.8517 | AN62: 3639.764 | AO62: 2471.8734 | AP62: 1803.9062
A63: 1703 | B63: Меласса, полученная в результате извлечения или рафинирования сахара | C63: 0 | D63: 0 | E63: 5467.0774 | F63: 659.28816 | G63: 17.68 | H63: 81.861 | I63: 5390.7188 | J63: 490.36776 | K63: 0 | L63: 0 | M63: 5923.9168 | N63: 434.53462 | O63: 286 | P63: 14.3 | Q63: 10072 | R63: 613.1 | S63: 385.98 | T63: 25.7977 | U63: 1305.0742 | V63: 152.93596 | W63: 3290.6 | X63: 157.8842 | Y63: 912.94214 | Z63: 125.49558 | AA63: 1264.421 | AB63: 123.72359 | AC63: 840.6065 | AD63: 167.50022 | AE63: 917.275 | AF63: 142.0027 | AG63: 617.025 | AH63: 144.90396 | AI63: 240.335 | AJ63: 55.48834 | AK63: 398.768 | AL63: 63.81174 | AM63: 22 | AN63: 3.74 | AO63: 0 | AP63: 0
A64: 1704 | B64: Кондитерские изделия из сахара (включая белый шоколад), не содержащие какао | C64: 15362.556 | D64: 23113.184 | E64: 34254.993 | F64: 63132.357 | G64: 20687.18 | H64: 26562.035 | I64: 32552.813 | J64: 58119.028 | K64: 27089.567 | L64: 38207.115 | M64: 35639.636 | N64: 67351.555 | O64: 28029.585 | P64: 34185.6 | Q64: 38141.7 | R64: 69589.5 | S64: 25265.623 | T64: 31903.898 | U64: 35929.676 | V64: 71285.918 | W64: 25063.36 | X64: 28969.552 | Y64: 39373.69 | Z64: 71163.637 | AA64: 18823.823 | AB64: 22996.966 | AC64: 44033.3 | AD64: 85387.981 | AE64: 21880.208 | AF64: 40426.493 | AG64: 41190.803 | AH64: 106476.72 | AI64: 4050.7919 | AJ64: 5475.4397 | AK64: 9181.9428 | AL64: 19979.121 | AM64: 2690.1831 | AN64: 4879.5943 | AO64: 9630.4113 | AP64: 31496.308
A65: 1803 | B65: Какао-паста, обезжиренная или необезжиренная | C65: 0.21 | D65: 1.00108 | E65: 32.502 | F65: 20.84106 | G65: 0.21 | H65: 0.27018 | I65: 558.25712 | J65: 2372.2685 | K65: 0 | L65: 0 | M65: 87.8978 | N65: 58.18921 | O65: - | P65: - | Q65: 4.3 | R65: 13.8 | S65: - | T65: - | U65: 3.33348 | V65: 16.87183 | W65: - | X65: - | Y65: 0.78846 | Z65: 8.94831 | AA65: 0 | AB65: 0 | AC65: 1.9879 | AD65: 13.07299 | AE65: 0.008 | AF65: 0.07256 | AG65: 1.3323 | AH65: 40.04591 | AI65: 0 | AJ65: 0 | AK65: 0.2549 | AL65: 2.32197 | AM65: 0 | AN65: 0 | AO65: 0.18995 | AP65: 1.26681
A66: 1804 | B66: Какао-масло, какао-жир | C66: 0 | D66: 0 | E66: 569.93574 | F66: 3812.4256 | G66: 0 | H66: 0 | I66: 19.69079 | J66: 161.57001 | K66: 0 | L66: 0 | M66: 25.7945 | N66: 187.39946 | O66: - | P66: - | Q66: 212.7 | R66: 1723.3 | S66: - | T66: - | U66: 954.60446 | V66: 6151.3337 | W66: 0.015 | X66: 0.189 | Y66: 159.5508 | Z66: 1026.5471 | AA66: 0 | AB66: 0 | AC66: 122.07937 | AD66: 778.41306 | AE66: 0.0024 | AF66: 0.04474 | AG66: 24.65829 | AH66: 223.99197 | AI66: 0 | AJ66: 0 | AK66: 9.2516 | AL66: 87.5582 | AM66: 0 | AN66: 0 | AO66: 9.2166 | AP66: 66.75403
A67: 1805 | B67: Какао-порошок без добавок сахара или других подслащивающих веществ | C67: 1129.4052 | D67: 1881.3364 | E67: 491.3336 | F67: 937.93538 | G67: 101.2454 | H67: 401.26729 | I67: 1200.111 | J67: 2764.0175 | K67: 84.77804 | L67: 182.25341 | M67: 1305.674 | N67: 2937.5445 | O67: 149.4836 | P67: 299.5 | Q67: 1316.5 | R67: 2701 | S67: 261.80339 | T67: 616.05306 | U67: 1188.572 | V67: 2469.6164 | W67: 138.7934 | X67: 328.41608 | Y67: 1507.0897 | Z67: 3374.1225 | AA67: 286.58125 | AB67: 598.31614 | AC67: 1469.8005 | AD67: 3800.4322 | AE67: 340.5737 | AF67: 938.68862 | AG67: 1278.7666 | AH67: 3525.2989 | AI67: 88.635 | AJ67: 180.47062 | AK67: 292.10405 | AL67: 711.12627 | AM67: 68.54 | AN67: 239.32406 | AO67: 465.78614 | AP67: 1257.4389
A68: 1806 | B68: Шоколад и прочие готовые пищевые продукты, содержащие какао | C68: 10438.873 | D68: 25625.61 | E68: 56210.403 | F68: 171462.03 | G68: 12462.849 | H68: 27053.781 | I68: 50636.294 | J68: 150782.73 | K68: 15457.985 | L68: 40336.733 | M68: 56567.851 | N68: 169522.87 | O68: 16157.277 | P68: 40061.6 | Q68: 63239 | R68: 178001.5 | S68: 13593.04 | T68: 33504.518 | U68: 67849.839 | V68: 183841.34 | W68: 14200.427 | X68: 33036.742 | Y68: 63216.344 | Z68: 174180.78 | AA68: 12157.704 | AB68: 30413.448 | AC68: 64545.896 | AD68: 193031.16 | AE68: 13124.828 | AF68: 47278.734 | AG68: 65227.818 | AH68: 237845.5 | AI68: 2735.6289 | AJ68: 7297.5426 | AK68: 15688.584 | AL68: 50096.995 | AM68: 3697.6307 | AN68: 16554.657 | AO68: 17317.613 | AP68: 73293.387
A69: 1901 | B69: Экстракт солодовый; готовые пищевые продукты из муки тонкого или грубого помола, крупы, крахмала или солодового экстракта, не содержащие какао или содержащие менее 40 мас.% какао в пересчете на полностью обезжиренную основу, в другом месте не поименован | C69: 8402.1292 | D69: 38020.022 | E69: 38898.603 | F69: 100223.63 | G69: 2116.247 | H69: 13689.566 | I69: 28432.672 | J69: 70670.495 | K69: 2371.4012 | L69: 14766.314 | M69: 31253.724 | N69: 88292.395 | O69: 2489.8792 | P69: 12190.3 | Q69: 33327.2 | R69: 89222.4 | S69: 4877.6843 | T69: 4870.7167 | U69: 22466.539 | V69: 66397.448 | W69: 1144.4192 | X69: 2993.6108 | Y69: 26745.336 | Z69: 65184.335 | AA69: 419.56902 | AB69: 1865.9741 | AC69: 34028.92 | AD69: 98997.568 | AE69: 684.2225 | AF69: 2627.8521 | AG69: 26246 | AH69: 99406.784 | AI69: 131.16783 | AJ69: 285.15671 | AK69: 5807.2067 | AL69: 17750.868 | AM69: 78.6003 | AN69: 233.4342 | AO69: 5832.8912 | AP69: 23608.915
A70: 1902 | B70: Макаронные изделия, подвергнутые или не подвергнутые тепловой обработке, с начинкой (из мяса или прочих продуктов) или без начинки, или приготовленные другим способом, такие как спагетти, макароны, лапша, рожки, клецки, равиоли, каннеллони; кускус, гото | C70: 15466.904 | D70: 10635.975 | E70: 31187.159 | F70: 39486.961 | G70: 16496.806 | H70: 8797.5545 | I70: 29707.082 | J70: 39789.842 | K70: 24936.911 | L70: 13994.192 | M70: 35475.887 | N70: 46295.682 | O70: 32416.102 | P70: 17993.6 | Q70: 28649.1 | R70: 31030.2 | S70: 43629.271 | T70: 29079.508 | U70: 31069.47 | V70: 36966.02 | W70: 56047.667 | X70: 44206.569 | Y70: 30330.494 | Z70: 35311.472 | AA70: 65382.055 | AB70: 65940.954 | AC70: 34301.413 | AD70: 45999.423 | AE70: 63644.379 | AF70: 83345.982 | AG70: 33003.015 | AH70: 54709.232 | AI70: 18374.556 | AJ70: 18577.075 | AK70: 8256.9547 | AL70: 11325.408 | AM70: 13072.66 | AN70: 19636.307 | AO70: 6781.2394 | AP70: 12186.404
A71: 1903 | B71: Тапиока и ее заменители, приготовленные из крахмала, в форме хлопьев, гранул, шариков, крупинок или в других аналогичных формах | C71: 0 | D71: 0 | E71: 5.7895 | F71: 11.74194 | G71: 0 | H71: 0 | I71: 2.65425 | J71: 4.68736 | K71: 2.112 | L71: 6.75582 | M71: 0.7473 | N71: 3.82359 | O71: - | P71: - | Q71: 1.3 | R71: 6.6 | S71: - | T71: - | U71: 9.2762 | V71: 8.19496 | W71: - | X71: - | Y71: 0.46719 | Z71: 1.70128 | AA71: 0 | AB71: 0 | AC71: 1.4018 | AD71: 2.86744 | AE71: 0 | AF71: 0 | AG71: 12.13452 | AH71: 26.72213 | AI71: 0 | AJ71: 0 | AK71: 0.985 | AL71: 1.35965 | AM71: 0 | AN71: 0 | AO71: 10.4454 | AP71: 23.64341
A72: 1904 | B72: Готовые пищевые продукты, полученные путем вздувания или обжаривания зерна злаков или зерновых продуктов (например, кукурузные хлопья); злаки (кроме зерна кукурузы) в виде зерна или в виде хлопьев или зерна, обработанного иным способом (за исключением м | C72: 255.77017 | D72: 468.52192 | E72: 4636.4878 | F72: 8027.2905 | G72: 337.61835 | H72: 441.05372 | I72: 4869.4505 | J72: 7557.8346 | K72: 375.99028 | L72: 807.96457 | M72: 5914.091 | N72: 8084.2618 | O72: 527.85682 | P72: 1220.9 | Q72: 6088.5 | R72: 10482.9 | S72: 648.56669 | T72: 1354.7016 | U72: 6491.0888 | V72: 11517.438 | W72: 824.10726 | X72: 1523.3071 | Y72: 9601.9705 | Z72: 13031.027 | AA72: 550.21003 | AB72: 1211.3538 | AC72: 10319.039 | AD72: 14167.535 | AE72: 552.84263 | AF72: 1331.0027 | AG72: 8478.5407 | AH72: 15886.274 | AI72: 127.93196 | AJ72: 268.34731 | AK72: 2299.7387 | AL72: 3260.8864 | AM72: 192.13714 | AN72: 633.80421 | AO72: 2777.7364 | AP72: 4379.2233
A73: 1905 | B73: Хлеб, мучные кондитерские изделия, пирожные, печенье и прочие хлебобулочные и мучные кондитерские изделия, содержащие или не содержащие какао; вафельные пластины, пустые капсулы, пригодные для использования в фармацевтических целях, вафельные облатки дл | C73: 6746.7156 | D73: 14568.891 | E73: 85602.911 | F73: 144689.11 | G73: 9610.188 | H73: 17511.889 | I73: 74628.523 | J73: 121240.54 | K73: 10028.175 | L73: 18936.426 | M73: 75337.925 | N73: 136116.31 | O73: 11766.83 | P73: 21748.3 | Q73: 88719 | R73: 150069.1 | S73: 14737.962 | T73: 28145.975 | U73: 87772.426 | V73: 170544.79 | W73: 18676.648 | X73: 33609.439 | Y73: 97994.308 | Z73: 172086.96 | AA73: 19895.548 | AB73: 35920.521 | AC73: 106736.57 | AD73: 202846.38 | AE73: 20019.217 | AF73: 47700.191 | AG73: 102729.08 | AH73: 247201.74 | AI73: 4221.3779 | AJ73: 8148.5946 | AK73: 25688.055 | AL73: 49844.801 | AM73: 4778.6172 | AN73: 13399.681 | AO73: 24936.105 | AP73: 68094.478
A74: 2001 | B74: Овощи, фрукты, орехи и другие съедобные части растений, приготовленные или консервированные с добавлением уксуса или уксусной кислоты | C74: 137.83569 | D74: 94.892 | E74: 10416.893 | F74: 8939.8584 | G74: 88.66688 | H74: 105.58981 | I74: 7668.3074 | J74: 4860.7085 | K74: 338.64384 | L74: 327.90503 | M74: 7195.8507 | N74: 5973.0385 | O74: 637.3087 | P74: 605.7 | Q74: 9626.5 | R74: 8063.7 | S74: 650.5815 | T74: 603.85461 | U74: 6520.2781 | V74: 6115.7386 | W74: 449.35266 | X74: 473.24049 | Y74: 9285.7057 | Z74: 7987.2909 | AA74: 635.09465 | AB74: 728.60146 | AC74: 8878.9747 | AD74: 8764.6247 | AE74: 601.11068 | AF74: 725.29836 | AG74: 11041.287 | AH74: 12437.48 | AI74: 59.86912 | AJ74: 79.04074 | AK74: 2426.3915 | AL74: 2130.3488 | AM74: 172.44389 | AN74: 185.67311 | AO74: 1768.4997 | AP74: 1954.8891
A75: 2002 | B75: Томаты, приготовленные или консервированные без добавления уксуса или уксусной кислоты | C75: 502.29065 | D75: 408.95377 | E75: 22817.866 | F75: 21895.89 | G75: 566.46296 | H75: 457.68423 | I75: 19611.423 | J75: 15899.354 | K75: 1119.3857 | L75: 851.35727 | M75: 23223.669 | N75: 18160.595 | O75: 2971.6617 | P75: 1990.3 | Q75: 23458.4 | R75: 18770.1 | S75: 4955.3084 | T75: 3702.8843 | U75: 20688.342 | V75: 17103.314 | W75: 4151.0549 | X75: 3740.5281 | Y75: 28388.797 | Z75: 23526.754 | AA75: 4634.8478 | AB75: 4263.8 | AC75: 23943.82 | AD75: 22084.84 | AE75: 4772.0804 | AF75: 5610.6111 | AG75: 26649.134 | AH75: 29687.719 | AI75: 1817.7174 | AJ75: 1826.3354 | AK75: 6349.7665 | AL75: 6897.7005 | AM75: 280.53065 | AN75: 423.93861 | AO75: 7983.2565 | AP75: 10207.643
A76: 2003 | B76: Грибы и трюфели, приготовленные или консервированные без добавления уксуса или уксусной кислоты | C76: 1.25764 | D76: 2.23508 | E76: 2824.9444 | F76: 2363.477 | G76: 8.17408 | H76: 7.5694 | I76: 3005.9297 | J76: 2352.2627 | K76: 0.9545 | L76: 2.74534 | M76: 2996.4956 | N76: 2450.639 | O76: 4.97438 | P76: 5.2 | Q76: 3177.4 | R76: 2593.3 | S76: 35.6814 | T76: 33.58742 | U76: 2472.2794 | V76: 1996.4618 | W76: 30.5094 | X76: 99.75526 | Y76: 2140.5101 | Z76: 1775.1823 | AA76: 60.8194 | AB76: 68.62235 | AC76: 2296.2761 | AD76: 1987.3125 | AE76: 81.0861 | AF76: 84.91039 | AG76: 2739.8863 | AH76: 2657.7265 | AI76: 5.5852 | AJ76: 12.50541 | AK76: 924.64761 | AL76: 835.93057 | AM76: 19.363 | AN76: 14.36101 | AO76: 430.84963 | AP76: 394.05581
A77: 2004 | B77: Овощи прочие, приготовленные или консервированные без добавления уксуса или уксусной кислоты, замороженные, кроме продуктов товарной позиции 2006 | C77: 2.5353 | D77: 8.16467 | E77: 6119.384 | F77: 5362.0835 | G77: 0.9355 | H77: 1.02794 | I77: 6980.2563 | J77: 6104.4134 | K77: 104.04793 | L77: 25.90361 | M77: 9029.3875 | N77: 8394.6165 | O77: 62.9175 | P77: 55.5 | Q77: 10083.2 | R77: 9896 | S77: 22.7815 | T77: 26.82602 | U77: 13121.729 | V77: 13592.445 | W77: 15.2229 | X77: 21.28694 | Y77: 11451.425 | Z77: 10783.344 | AA77: 25.4684 | AB77: 35.43524 | AC77: 18691.881 | AD77: 18083.269 | AE77: 531.8021 | AF77: 1155.0218 | AG77: 26093.656 | AH77: 30549.538 | AI77: 3.4591 | AJ77: 6.98554 | AK77: 5476.5901 | AL77: 5358.8569 | AM77: 57.244 | AN77: 194.44207 | AO77: 4671.5055 | AP77: 6471.7471
A78: 2005 | B78: Овощи прочие, приготовленные или консервированные, без добавления уксуса или уксусной кислоты, незамороженные, кроме продуктов товарной позиции 2006 | C78: 189.76196 | D78: 464.87756 | E78: 25519.8 | F78: 43756.715 | G78: 230.56968 | H78: 752.59221 | I78: 27058.422 | J78: 38760.73 | K78: 689.99172 | L78: 1432.9676 | M78: 28992.242 | N78: 42678.694 | O78: 1369.6433 | P78: 1578.1 | Q78: 43746 | R78: 51776.1 | S78: 835.66049 | T78: 1682.4971 | U78: 36093.09 | V78: 58408.506 | W78: 1628.2175 | X78: 2688.3206 | Y78: 47694.972 | Z78: 64313.493 | AA78: 2710.3577 | AB78: 3971.3092 | AC78: 48624.534 | AD78: 77341.216 | AE78: 2224.4031 | AF78: 4891.9934 | AG78: 43911.064 | AH78: 104269.4 | AI78: 470.08947 | AJ78: 905.38752 | AK78: 7590.7786 | AL78: 12189.281 | AM78: 260.10722 | AN78: 971.33428 | AO78: 7496.998 | AP78: 20608.068
A79: 2006 | B79: Овощи, плоды, орехи, кожура плодов и прочие части растений, консервированные в сахаре (пропитанные сахарным сиропом, засахаренные или глазированные) | C79: 0.645 | D79: 0.33495 | E79: 520.26939 | F79: 572.77008 | G79: 2.883 | H79: 2.47439 | I79: 351.51435 | J79: 423.10661 | K79: 23.5048 | L79: 7.09314 | M79: 398.70066 | N79: 519.81201 | O79: 97.0756 | P79: 38.6 | Q79: 488.5 | R79: 408 | S79: 107.407 | T79: 35.58273 | U79: 333.14842 | V79: 408.96691 | W79: 278.7716 | X79: 93.70554 | Y79: 1254.0639 | Z79: 659.67561 | AA79: 238.16 | AB79: 103.71438 | AC79: 5311.4341 | AD79: 2066.1119 | AE79: 424.6374 | AF79: 213.88744 | AG79: 8301.8048 | AH79: 5383.2816 | AI79: 254.0474 | AJ79: 112.61403 | AK79: 2367.6622 | AL79: 1175.4843 | AM79: 35.05 | AN79: 18.40399 | AO79: 1025.2225 | AP79: 712.06974
A80: 2007 | B80: Джемы, желе фруктовое, мармелады, пюре фруктовое или ореховое, паста фруктовая или ореховая, полученные путем тепловой обработки, в том числе с добавлением сахара или других подслащивающих веществ | C80: 271.80126 | D80: 311.22033 | E80: 12143.417 | F80: 14658.074 | G80: 661.38352 | H80: 745.09895 | I80: 10077.456 | J80: 13058.745 | K80: 612.67394 | L80: 773.60947 | M80: 10715.716 | N80: 14754.261 | O80: 220.32807 | P80: 496 | Q80: 10190 | R80: 15371.2 | S80: 163.6033 | T80: 320.60228 | U80: 11294.893 | V80: 17730.843 | W80: 613.46746 | X80: 546.63226 | Y80: 14107.209 | Z80: 21383.272 | AA80: 662.87193 | AB80: 825.42274 | AC80: 17057.854 | AD80: 28183.148 | AE80: 758.32766 | AF80: 1241.811 | AG80: 16871.326 | AH80: 33129.456 | AI80: 112.74828 | AJ80: 134.32126 | AK80: 3723.7479 | AL80: 4919.8558 | AM80: 158.77596 | AN80: 230.90668 | AO80: 5044.662 | AP80: 8619.1046
A81: 2008 | B81: Фрукты, орехи и прочие съедобные части растений, приготовленные или консервированные иным способом, содержащие или не содержащие добавок сахара или других подслащивающих веществ или спирта, в другом месте не поименованные или не включенные | C81: 308.49131 | D81: 774.00121 | E81: 21567.379 | F81: 66267.204 | G81: 1194.1049 | H81: 2981.8942 | I81: 22197.217 | J81: 49231.872 | K81: 1152.9073 | L81: 2944.3132 | M81: 29976.213 | N81: 63782.886 | O81: 1303.618 | P81: 2367.5 | Q81: 26515.6 | R81: 62767.5 | S81: 1362.2274 | T81: 1274.4373 | U81: 46413.264 | V81: 63728.725 | W81: 1160.5698 | X81: 2136.1571 | Y81: 34442.866 | Z81: 78889.183 | AA81: 1994.0295 | AB81: 1845.1908 | AC81: 40279.683 | AD81: 88755.979 | AE81: 2638.4592 | AF81: 2244.5483 | AG81: 41062.084 | AH81: 112216.93 | AI81: 770.2955 | AJ81: 575.88782 | AK81: 10660.186 | AL81: 26286.3 | AM81: 937.78988 | AN81: 863.88836 | AO81: 10456.565 | AP81: 27258.58
A82: 2009 | B82: Соки фруктовые (включая виноградное сусло) и соки овощные, несброженные и не содержащие добавок спирта, с добавлением или без добавления сахара или других подслащивающих веществ | C82: 1547.4862 | D82: 1333.9266 | E82: 34146.773 | F82: 33555.783 | G82: 1512.6924 | H82: 911.44708 | I82: 32211.299 | J82: 28786.658 | K82: 960.9621 | L82: 633.07923 | M82: 36053.188 | N82: 33900.74 | O82: 1652.0347 | P82: 933.6 | Q82: 40159 | R82: 36548.3 | S82: 1752.7492 | T82: 881.26297 | U82: 47974.984 | V82: 42383.105 | W82: 976.20103 | X82: 541.04431 | Y82: 56513.614 | Z82: 44579.257 | AA82: 1403.9213 | AB82: 837.74739 | AC82: 68381.355 | AD82: 55406.661 | AE82: 3962.1856 | AF82: 2971.8005 | AG82: 47747.73 | AH82: 59447.768 | AI82: 636.66526 | AJ82: 477.71255 | AK82: 13090.828 | AL82: 12930.254 | AM82: 402.96481 | AN82: 379.83672 | AO82: 11957.568 | AP82: 18548.322
A83: 2101 | B83: Экстракты, эссенции и концентраты кофе, чая или мате, или парагвайского чая, и готовые продукты на их основе или на основе кофе, чая или мате, или парагвайского чая; обжаренный цикорий и прочие обжаренные заменители кофе и экстракты, эссенции и концентр | C83: 991.11698 | D83: 6932.5493 | E83: 6908.71 | F83: 31706.305 | G83: 1483.8922 | H83: 6335.1404 | I83: 7854.4734 | J83: 34246.951 | K83: 1645.5825 | L83: 8553.7355 | M83: 8979.0092 | N83: 44424.289 | O83: 1579.5703 | P83: 8166.8 | Q83: 11139.6 | R83: 51069 | S83: 1252.5668 | T83: 5335.104 | U83: 10961.118 | V83: 48203.886 | W83: 1559.1391 | X83: 5564.2654 | Y83: 9832.5436 | Z83: 42317.818 | AA83: 2818.4562 | AB83: 10356.893 | AC83: 9181.5475 | AD83: 47149.118 | AE83: 1732.339 | AF83: 9621.9982 | AG83: 12277.501 | AH83: 65892.26 | AI83: 285.417 | AJ83: 1079.7273 | AK83: 2972.4771 | AL83: 11728.242 | AM83: 638.53936 | AN83: 4729.9409 | AO83: 3549.5229 | AP83: 17765.017
... A92: 2204 | B92: Вина виноградные натуральные, включая крепленые; сусло виноградное, кроме указанного в товарной позиции 2009 | C92: 1131.3975 | D92: 3934.7557 | E92: 18141.855 | F92: 40288.44 | G92: 745.22265 | H92: 2346.7794 | I92: 15250.439 | J92: 30259.253 | K92: 238.98451 | L92: 562.65609 | M92: 19520.506 | N92: 50315.947 | O92: 116.57931 | P92: 372.5 | Q92: 24003.6 | R92: 41699.9 | S92: 90.90286 | T92: 150.41699 | U92: 18041.187 | V92: 36229.132 | W92: 22.26845 | X92: 44.00787 | Y92: 20424.495 | Z92: 35896.77 | AA92: 28.67941 | AB92: 69.68026 | AC92: 23720.059 | AD92: 46986.392 | AE92: 229.08825 | AF92: 413.35359 | AG92: 22525.212 | AH92: 48853.218 | AI92: 150.6303 | AJ92: 219.76534 | AK92: 4201.1843 | AL92: 9378.0532 | AM92: 39.5915 | AN92: 90.20639 | AO92: 4877.2104 | AP92: 12654.328
A93: 2205 | B93: Вермуты и виноградные натуральные вина прочие с добавлением растительных или ароматических веществ | C93: 9.88 | D93: 26.09394 | E93: 936.76056 | F93: 1844.6298 | G93: 0.08 | H93: 0.1992 | I93: 818.90171 | J93: 1061.6861 | K93: 0.0025 | L93: 0.00761 | M93: 1701.4211 | N93: 2318.8206 | O93: - | P93: - | Q93: 2143.6 | R93: 3089.7 | S93: 0.01025 | T93: 0.022 | U93: 1833.947 | V93: 2500.6146 | W93: - | X93: - | Y93: 2670.5319 | Z93: 3483.2388 | AA93: 0.62685 | AB93: 1.7766 | AC93: 2567.9959 | AD93: 3396.8215 | AE93: 26.1792 | AF93: 82.74298 | AG93: 1954.0728 | AH93: 2897.9599 | AI93: 6.34746 | AJ93: 19.428 | AK93: 383.95109 | AL93: 535.88106 | AM93: 8.3128 | AN93: 27.78375 | AO93: 288.90234 | AP93: 609.20879
A94: 2206 | B94: Прочие напитки сброженные (сидр яблочный, перри [сидр грушевый], напиток медовый); смеси из сброженных напитков и смеси сброженных напитков и безалкогольных напитков, в другом месте не поименованные | C94: 0 | D94: 0 | E94: 2323.7264 | F94: 2101.256 | G94: 11.508 | H94: 5.92738 | I94: 887.0242 | J94: 737.8376 | K94: 624.199 | L94: 270.85967 | M94: 1295.3801 | N94: 1515.8778 | O94: 6.15 | P94: 2 | Q94: 2318.2 | R94: 2408.3 | S94: 0.04507 | T94: 0.06783 | U94: 2730.5982 | V94: 3161.2005 | W94: 2.4698 | X94: 4.418 | Y94: 3954.916 | Z94: 4369.5593 | AA94: 0.125 | AB94: 0.894 | AC94: 4355.7488 | AD94: 5219.9133 | AE94: 23.603 | AF94: 45.10648 | AG94: 3779.5994 | AH94: 5015.3253 | AI94: 0 | AJ94: 0 | AK94: 762.40163 | AL94: 834.44407 | AM94: 0 | AN94: 0 | AO94: 1141.8061 | AP94: 1580.2821
A95: 2207 | B95: Спирт этиловый неденатурированный с концентрацией спирта 80 об.% или более; этиловый спирт и прочие спиртовые настойки, денатурированные, любой концентрации | C95: 31.021 | D95: 21.747 | E95: 119.90228 | F95: 166.91165 | G95: 1196.1721 | H95: 1040.3929 | I95: 65.2655 | J95: 61.33659 | K95: 33.065 | L95: 45.386 | M95: 297.22964 | N95: 284.595 | O95: 43.345 | P95: 57.2 | Q95: 612.8 | R95: 516.7 | S95: 29.008 | T95: 42.202 | U95: 379.88986 | V95: 448.75223 | W95: 29.328 | X95: 44.198 | Y95: 341.53805 | Z95: 449.56779 | AA95: 16.775 | AB95: 32.111 | AC95: 2998.4892 | AD95: 3320.6287 | AE95: 7440.92 | AF95: 10115.592 | AG95: 2567.0588 | AH95: 3866.5011 | AI95: 0 | AJ95: 0 | AK95: 616.3944 | AL95: 621.44695 | AM95: 4508.99 | AN95: 6146.0325 | AO95: 676.55328 | AP95: 791.16599
A96: 2208 | B96: Спирт этиловый неденатурированный с концентрацией спирта менее 80 об.%; спиртовые настойки, ликеры и прочие спиртные напитки | C96: 254.61892 | D96: 544.55361 | E96: 14879.543 | F96: 53145.383 | G96: 1266.2496 | H96: 1637.0922 | I96: 21785.048 | J96: 57983.183 | K96: 140.84124 | L96: 339.74118 | M96: 23889.706 | N96: 62438.68 | O96: 192.70554 | P96: 1354.2 | Q96: 40118.2 | R96: 88239.6 | S96: 408.11303 | T96: 1677.3024 | U96: 31393.403 | V96: 82931.287 | W96: 5815.0323 | X96: 18106.42 | Y96: 35047.149 | Z96: 83779.811 | AA96: 10267.873 | AB96: 23204.82 | AC96: 41698.573 | AD96: 110829.54 | AE96: 13560.14 | AF96: 33878.837 | AG96: 52782.57 | AH96: 149326.44 | AI96: 2154.7807 | AJ96: 3977.848 | AK96: 9862.2003 | AL96: 24946.988 | AM96: 3783.754 | AN96: 11817.266 | AO96: 14423.924 | AP96: 42688.079
A97: 2209 | B97: Уксус и его заменители, полученные из уксусной кислоты | C97: 0.0279 | D97: 0.11492 | E97: 631.89723 | F97: 576.35085 | G97: 0 | H97: 0 | I97: 572.12865 | J97: 458.01786 | K97: 0.812 | L97: 3.58277 | M97: 986.62131 | N97: 797.19782 | O97: 0.79147 | P97: 3 | Q97: 1042.2 | R97: 813.2 | S97: 1.11104 | T97: 2.44546 | U97: 1120.5653 | V97: 799.69292 | W97: 1.956 | X97: 6.21055 | Y97: 1414.2785 | Z97: 975.74232 | AA97: 0.043 | AB97: 0.1604 | AC97: 1011.4434 | AD97: 886.52765 | AE97: 1.8694 | AF97: 2.14367 | AG97: 1099.464 | AH97: 1130.617 | AI97: 0 | AJ97: 0 | AK97: 147.11535 | AL97: 165.0014 | AM97: 0.5088 | AN97: 0.3444 | AO97: 323.75644 | AP97: 303.52025
A98: 2301 | B98: Мука тонкого и грубого помола и гранулы из мяса или мясных субпродуктов, рыбы или ракообразных, моллюсков или прочих водных беспозвоночных, непригодные для употребления в пищу; шкварки | C98: 0 | D98: 0 | E98: 553.1182 | F98: 736.58158 | G98: 216 | H98: 71.433 | I98: 516.025 | J98: 527.88925 | K98: 410.92 | L98: 255.6988 | M98: 644.3138 | N98: 889.44903 | O98: 607.253 | P98: 208.4 | Q98: 2368.4 | R98: 1391.3 | S98: 399 | T98: 241.576 | U98: 4261.1493 | V98: 2077.0262 | W98: 427.5 | X98: 174.168 | Y98: 3299.0337 | Z98: 1942.8438 | AA98: 1240 | AB98: 349.85229 | AC98: 2442.629 | AD98: 1684.8025 | AE98: 701 | AF98: 375.5635 | AG98: 2940.1469 | AH98: 1727.1884 | AI98: 140 | AJ98: 79.3305 | AK98: 394.69036 | AL98: 153.04395 | AM98: 198.055 | AN98: 80.91 | AO98: 659.92 | AP98: 416.72538
A99: 2302 | B99: Отруби, высевки, месятки и прочие остатки от просеивания, помола или других способов переработки зерна злаков или бобовых культур, негранулированные или гранулированные | C99: 137279.36 | D99: 9629.935 | E99: 2420.3204 | F99: 762.25968 | G99: 296693.9 | H99: 19783.815 | I99: 2055.4126 | J99: 811.79946 | K99: 242831.74 | L99: 17023.624 | M99: 243.25973 | N99: 189.84483 | O99: 348688.61 | P99: 25438.5 | Q99: 2289 | R99: 244.4 | S99: 243504.33 | T99: 24259.797 | U99: 20569.966 | V99: 1019.582 | W99: 239619.6 | X99: 32534.543 | Y99: 18119.91 | Z99: 1101.2389 | AA99: 112217.39 | AB99: 15495.678 | AC99: 16625.28 | AD99: 2247.3699 | AE99: 431208.45 | AF99: 75016.009 | AG99: 50486.904 | AH99: 7121.1536 | AI99: 75775.442 | AJ99: 12127.933 | AK99: 9676.7506 | AL99: 1070.0233 | AM99: 157121.52 | AN99: 33257.089 | AO99: 29240.121 | AP99: 3613.2685
A100: 2303 | B100: Остатки от производства крахмала и аналогичные остатки, свекловичный жом, багасса, или жом сахарного тростника, и прочие отходы производства сахара, барда и прочие отходы пивоварения или винокурения, негранулированные или гранулированные | C100: 9350.9226 | D100: 1791.0899 | E100: 30.19936 | F100: 26.31451 | G100: 11837.642 | H100: 2395.1553 | I100: 744.79956 | J100: 129.83438 | K100: 8238.129 | L100: 1741.2656 | M100: 983.94388 | N100: 252.69915 | O100: 6623.646 | P100: 1289.7 | Q100: 1015 | R100: 243.3 | S100: 3942.976 | T100: 551.00319 | U100: 1096.235 | V100: 302.43997 | W100: 5440.307 | X100: 959.43712 | Y100: 1497.702 | Z100: 362.45896 | AA100: 6388.108 | AB100: 1303.2966 | AC100: 1507.84 | AD100: 384.37545 | AE100: 15451.214 | AF100: 3175.1547 | AG100: 1376.775 | AH100: 500.74835 | AI100: 4344.44 | AJ100: 586.56069 | AK100: 4.972 | AL100: 0.2943 | AM100: 2529.223 | AN100: 445.87565 | AO100: 332.95 | AP100: 54.26453
A101: 2304 | B101: Жмыхи и другие твердые отходы, получаемые при извлечении соевого масла, немолотые или молотые,негранулированные или гранулированные | C101: 14517.94 | D101: 8673.069 | E101: 22858.493 | F101: 11854.159 | G101: 18592.8 | H101: 8832.2208 | I101: 23960.778 | J101: 10639.284 | K101: 22113.75 | L101: 11371.086 | M101: 42664.19 | N101: 20575.692 | O101: 28499.211 | P101: 12885.5 | Q101: 48744.4 | R101: 24547.6 | S101: 14921.905 | T101: 6849.3038 | U101: 60214.051 | V101: 27289.255 | W101: 50612.155 | X101: 26529.425 | Y101: 65110.752 | Z101: 29911.071 | AA101: 23452.572 | AB101: 15126.083 | AC101: 88104.688 | AD101: 52624.025 | AE101: 23723.911 | AF101: 19247.426 | AG101: 67652.852 | AH101: 44412.492 | AI101: 2840 | AJ101: 2651.6 | AK101: 23591.942 | AL101: 14671.26 | AM101: 7179.016 | AN101: 4666.4339 | AO101: 12564.843 | AP101: 8396.6714
A102: 2306 | B102: Жмыхи и другие твердые отходы, получаемые при извлечении растительных жиров или масел, кроме отходов товарной позиции 2304 или 2305, немолотые или молотые, негранулированные или гранулированные | C102: 81283.547 | D102: 21240.871 | E102: 1714.6111 | F102: 547.58227 | G102: 102801.94 | H102: 23397.137 | I102: 1370.1184 | J102: 385.08413 | K102: 138492.37 | L102: 27363.809 | M102: 2108.5731 | N102: 409.94201 | O102: 168981.2 | P102: 31422.7 | Q102: 1583.8 | R102: 551.1 | S102: 200098.55 | T102: 45219.517 | U102: 10689.343 | V102: 1348.1436 | W102: 231059.24 | X102: 49647.8 | Y102: 4075.3749 | Z102: 701.8309 | AA102: 166623.56 | AB102: 45471.376 | AC102: 7718.1372 | AD102: 1491.2372 | AE102: 243454.59 | AF102: 59141.063 | AG102: 12986.548 | AH102: 2570.7702 | AI102: 42503.478 | AJ102: 11028.811 | AK102: 1959.6346 | AL102: 185.80038 | AM102: 95074.818 | AN102: 20447.389 | AO102: 979.3706 | AP102: 138.83665
A103: 2308 | B103: Виноградные выжимки | C103: 0 | D103: 0 | E103: 1275.558 | F103: 617.94099 | G103: 1.05 | H103: 0.28793 | I103: 2486.1449 | J103: 1330.6564 | K103: 0 | L103: 0 | M103: 1059.121 | N103: 615.52973 | O103: 67 | P103: 10.4 | Q103: 2 | R103: 2.1 | S103: - | T103: - | U103: 293.09 | V103: 67.46696 | W103: 276.6 | X103: 78.0424 | Y103: 212.952 | Z103: 52.16228 | AA103: 0 | AB103: 0 | AC103: 104.8836 | AD103: 105.7903 | AE103: 9.8 | AF103: 10.78 | AG103: 116.98092 | AH103: 98.58029 | AI103: 0 | AJ103: 0 | AK103: 43.015 | AL103: 23.43408 | AM103: 0 | AN103: 0 | AO103: 20.65254 | AP103: 27.21435
A104: 2309 | B104: Продукты, используемые для кормления животных | C104: 11701.818 | D104: 2844.7699 | E104: 40218.562 | F104: 48936.086 | G104: 12732.089 | H104: 2923.9071 | I104: 39886.952 | J104: 48982.394 | K104: 14582.036 | L104: 5368.2227 | M104: 44473.28 | N104: 61494.33 | O104: 13046.929 | P104: 7182.1 | Q104: 48841.2 | R104: 68299.8 | S104: 17725.958 | T104: 6548.0228 | U104: 53217.467 | V104: 69459.362 | W104: 22501.138 | X104: 6757.2696 | Y104: 63637.682 | Z104: 77338.868 | AA104: 32098.209 | AB104: 13172.452 | AC104: 59462.056 | AD104: 85844.771 | AE104: 74329.941 | AF104: 31302.181 | AG104: 80459.878 | AH104: 122567.91 | AI104: 13383 | AJ104: 5834.4579 | AK104: 16572.441 | AL104: 24542.698 | AM104: 36156.964 | AN104: 11018.171 | AO104: 17469.977 | AP104: 30280.162
A105: 3301 | B105: Масла эфирные (содержащие или не содержащие терпены), включая конкреты и абсолюты; резиноиды; экстрагированные эфирные масла; концентраты эфирных масел в жирах, нелетучих маслах, восках или аналогичных продуктах, получаемые методом анфлеража или мацерац | C105: 0 | D105: 0 | E105: 54.11241 | F105: 841.23084 | G105: 1.9054 | H105: 30.6277 | I105: 102.31544 | J105: 1113.3728 | K105: 0 | L105: 0 | M105: 94.20141 | N105: 1344.691 | O105: 0.332 | P105: 2 | Q105: 121.8 | R105: 1327.5 | S105: 0.19425 | T105: 2.03242 | U105: 212.82441 | V105: 1514.1008 | W105: 0.03325 | X105: 10.37905 | Y105: 356.96069 | Z105: 2220.4326 | AA105: 0.257 | AB105: 2.99942 | AC105: 71.87906 | AD105: 1301.8381 | AE105: 36.03836 | AF105: 1492.2591 | AG105: 93.37039 | AH105: 2011.2222 | AI105: 0.025 | AJ105: 3.20855 | AK105: 12.11168 | AL105: 216.74008 | AM105: 9.6962 | AN105: 407.2404 | AO105: 31.11331 | AP105: 523.59195
A106: 3501 | B106: Казеин, казеинаты и прочие производные казеина; клеи казеиновые | C106: 0.269 | D106: 1.571 | E106: 194.46797 | F106: 819.00236 | G106: 35.118 | H106: 9.87945 | I106: 206.36085 | J106: 770.94203 | K106: 0 | L106: 0 | M106: 328.45215 | N106: 652.24141 | O106: 0.004 | P106: 0.1 | Q106: 390.9 | R106: 571.3 | S106: - | T106: - | U106: 246.34001 | V106: 274.69131 | W106: 0.132 | X106: 0.273 | Y106: 312.996 | Z106: 396.42428 | AA106: 0 | AB106: 0 | AC106: 38.3053 | AD106: 136.59984 | AE106: 0 | AF106: 0 | AG106: 166.10163 | AH106: 322.06421 | AI106: 0 | AJ106: 0 | AK106: 53.57556 | AL106: 29.06913 | AM106: 0 | AN106: 0 | AO106: 40.94987 | AP106: 42.74432
A107: 3502 | B107: Альбумины (включая концентраты двух или более сывороточных белков, содержащих более 80 мас.% сывороточных белков в пересчете на сухое вещество), альбуминаты и прочие производные альбумина | C107: 0 | D107: 0 | E107: 37.10538 | F107: 476.70259 | G107: 0.097 | H107: 3.47859 | I107: 84.82421 | J107: 614.42123 | K107: 0.0426 | L107: 4.41631 | M107: 121.42468 | N107: 560.31246 | O107: 88.63 | P107: 1.3 | Q107: 93.8 | R107: 554.1 | S107: 2 | T107: 25.283 | U107: 73.30422 | V107: 238.42157 | W107: 9.925 | X107: 68.5921 | Y107: 165.35649 | Z107: 619.53579 | AA107: 29.22 | AB107: 61.40034 | AC107: 54.01481 | AD107: 242.87879 | AE107: 89.522 | AF107: 1265.7481 | AG107: 175.06462 | AH107: 2239.8336 | AI107: 0 | AJ107: 0 | AK107: 19.04011 | AL107: 163.74814 | AM107: 0 | AN107: 0 | AO107: 25.99005 | AP107: 247.46133
A108: 3503 | B108: Желатин (с поверхностной обработкой или без обработки) и его производные;клей рыбий; прочие клеи животного происхождения, кроме казеиновых, указанных в товарной позиции 3501 | C108: 0.0059 | D108: 0.05178 | E108: 171.27649 | F108: 819.78927 | G108: 0.8 | H108: 0.364 | I108: 256.38591 | J108: 1341.0145 | K108: 0.433 | L108: 2.94245 | M108: 191.79492 | N108: 1071.6759 | O108: 0.887 | P108: 4.6 | Q108: 229.1 | R108: 1222.6 | S108: 1.701 | T108: 10.58547 | U108: 333.99391 | V108: 1840.2581 | W108: 0.0864 | X108: 0.48171 | Y108: 374.4828 | Z108: 2248.485 | AA108: 0.32375 | AB108: 1.39233 | AC108: 253.19024 | AD108: 1133.1445 | AE108: 20.09 | AF108: 350.83121 | AG108: 350.36244 | AH108: 2950.3759 | AI108: 0.021 | AJ108: 0.23671 | AK108: 90.84018 | AL108: 425.74962 | AM108: 20.018 | AN108: 371.60294 | AO108: 134.27378 | AP108: 1542.806
A109: 3504 | B109: Пептоны и их производные; белковые вещества прочие и их производные; порошок из кожи, хромированной, голья, хромированный или нехромированный | C109: 20 | D109: 32 | E109: 3064.104 | F109: 7497.9231 | G109: 15.012 | H109: 60.048 | I109: 3842.4034 | J109: 7113.6276 | K109: 27.61 | L109: 66.61414 | M109: 4480.5902 | N109: 8280.7636 | O109: 35.64 | P109: 75.6 | Q109: 2605.3 | R109: 5344 | S109: 54.72033 | T109: 342.6357 | U109: 2704.1218 | V109: 5763.3186 | W109: 30.06851 | X109: 42.26792 | Y109: 3090.4971 | Z109: 7358.9063 | AA109: 181.20923 | AB109: 417.06701 | AC109: 2225.7339 | AD109: 6883.5854 | AE109: 90.2002 | AF109: 382.46069 | AG109: 1722.8282 | AH109: 6668.651 | AI109: 20.0002 | AJ109: 80.00269 | AK109: 595.22766 | AL109: 2269.5553 | AM109: 5 | AN109: 15 | AO109: 436.75955 | AP109: 1479.984
A110: 3505 | B110: Декстрины и прочие модифицированные крахмалы (например, крахмалы, предварительно желатинизированные или превращенные в сложный эфир); клеи на основе крахмалов или декстринов, или прочих модифицированных крахмалов | C110: 80.075 | D110: 42.40725 | E110: 2554.0988 | F110: 3997.0689 | G110: 95.43724 | H110: 86.0819 | I110: 2717.3795 | J110: 3424.8313 | K110: 51.49936 | L110: 108.85268 | M110: 3738.0139 | N110: 4188.6 | O110: 25.1922 | P110: 91.3 | Q110: 3687 | R110: 4843.6 | S110: 94.91563 | T110: 256.82484 | U110: 5174.1443 | V110: 7257.5521 | W110: 41.44233 | X110: 95.59342 | Y110: 3810.0824 | Z110: 4953.0172 | AA110: 19.2206 | AB110: 40.30696 | AC110: 4220.4615 | AD110: 5627.1148 | AE110: 258.30025 | AF110: 725.72046 | AG110: 4831.0277 | AH110: 9029.0905 | AI110: 1.60025 | AJ110: 3.67416 | AK110: 730.22389 | AL110: 1096.9025 | AM110: 14.12 | AN110: 31.92123 | AO110: 1444.4591 | AP110: 3063.5646
...

Sheet По регионам
A1: Экспорт и импорт сельскохозяйственной переработанной продукции
A3: Наименование области | B3: 2015 | F3: 2016 | J3: 2017 | N3: 2018 | R3: 2019 | V3: 2020 | Z3: 2021 | AD3: 2022* | AH3: январь-март 2022 года* | AL3: январь-март 2023 года*
B4: экспорт | D4: импорт | F4: экспорт | H4: импорт | J4: экспорт | L4: импорт | N4: экспорт | P4: импорт | R4: экспорт | T4: импорт | V4: экспорт | X4: импорт | Z4: экспорт | AB4: импорт | AD4: экспорт | AF4: импорт | AH4: экспорт | AJ4: импорт | AL4: экспорт | AN4: импорт
B5: тонн | C5: тыс. долларов США | D5: тонн | E5: тыс. долларов США | F5: тонн | G5: тыс. долларов США | H5: тонн | I5: тыс. долларов США | J5: тонн | K5: тыс. долларов США | L5: тонн | M5: тыс. долларов США | N5: тонн | O5: тыс. долларов США | P5: тонн | Q5: тыс. долларов США | R5: тонн | S5: тыс. долларов США | T5: тонн | U5: тыс. долларов США | V5: тонн | W5: тыс. долларов США | X5: тонн | Y5: тыс. долларов США | Z5: тонн | AA5: тыс. долларов США | AB5: тонн | AC5: тыс. долларов США | AD5: тонн | AE5: тыс. долларов США | AF5: тонн | AG5: тыс. долларов США | AH5: тонн | AI5: тыс. долларов США | AJ5: тонн | AK5: тыс. долларов США | AL5: тонн | AM5: тыс. долларов США | AN5: тонн | AO5: тыс. долларов США
A6: Қазақстан Республикасы | B6: 2387083.5 | C6: 945072.07 | D6: 5532790.8 | E6: 2235116.9 | F6: 3254185.5 | G6: 978157.35 | H6: 6453889.4 | I6: 2055189.5 | J6: 3296552.8 | K6: 1087154 | L6: 6386275.5 | M6: 2383478.3 | N6: 3535517.9 | O6: 1133506.5 | P6: 6308697.2 | Q6: 2424534.9 | R6: 2792553.6 | S6: 1114967.2 | T6: 6549581.2 | U6: 2602361 | V6: 3086369.8 | W6: 1348724.9 | X6: 5736979.4 | Y6: 2752170.6 | Z6: 2621436 | AA6: 1428413 | AB6: 6287915.3 | AC6: 3286411.9 | AD6: =AD8+AD7+AD9+AD10+AD11+AD12+AD13+AD14+AD15+AD16+AD17+AD18+AD19+AD20+AD21+AD22+AD23+AD24+AD25+AD26 -> #REF! | AE6: =AE8+AE7+AE9+AE10+AE11+AE12+AE13+AE14+AE15+AE16+AE17+AE18+AE19+AE20+AE21+AE22+AE23+AE24+AE25+AE26 -> #REF! | AF6: =AF8+AF7+AF9+AF10+AF11+AF12+AF13+AF14+AF15+AF16+AF17+AF18+AF19+AF20+AF21+AF22+AF23+AF24+AF25+AF26 -> #REF! | AG6: =AG8+AG7+AG9+AG10+AG11+AG12+AG13+AG14+AG15+AG16+AG17+AG18+AG19+AG20+AG21+AG22+AG23+AG24+AG25+AG26 -> #REF! | AH6: =AH8+AH7+AH9+AH10+AH11+AH12+AH13+AH14+AH15+AH16+AH17+AH18+AH19+AH20+AH21+AH22+AH23+AH24+AH25+AH26 -> #REF! | AI6: =AI8+AI7+AI9+AI10+AI11+AI12+AI13+AI14+AI15+AI16+AI17+AI18+AI19+AI20+AI21+AI22+AI23+AI24+AI25+AI26 -> #REF! | AJ6: =AJ8+AJ7+AJ9+AJ10+AJ11+AJ12+AJ13+AJ14+AJ15+AJ16+AJ17+AJ18+AJ19+AJ20+AJ21+AJ22+AJ23+AJ24+AJ25+AJ26 -> #REF! | AK6: =AK8+AK7+AK9+AK10+AK11+AK12+AK13+AK14+AK15+AK16+AK17+AK18+AK19+AK20+AK21+AK22+AK23+AK24+AK25+AK26 -> #REF! | ... AO6: =AO8+AO7+AO9+AO10+AO11+AO12+AO13+AO14+AO15+AO16+AO17+AO18+AO19+AO20+AO21+AO22+AO23+AO24+AO25+AO26 -> #REF!
A7: Абай | AD7: =Абай!C7 -> 119577.9 | AE7: =Абай!D7 -> 91606.852 | AF7: =Абай!E7 -> 18812.809 | AG7: =Абай!F7 -> 20436.766 | AH7: =Абай!G7 -> 28529.516 | AI7: =Абай!H7 -> 20178.225 | AJ7: =Абай!I7 -> 4399.1467 | AK7: =Абай!J7 -> 4093.7538 | ... AO7: =Абай!N7 -> 4697.4839
A8: Ақмола | B8: 147604.69 | C8: 40089.345 | D8: 29969.36 | E8: 42832.31 | F8: 213384.73 | G8: 46332.759 | H8: 31718.788 | I8: 37350.424 | J8: 219157.99 | K8: 42659.467 | L8: 28096.016 | M8: 39997.876 | N8: 226083.76 | O8: 46608.978 | P8: 27883.866 | Q8: 39338.037 | R8: 168080.06 | S8: 38575.075 | T8: 29878.553 | U8: 41420.866 | V8: 168846.73 | W8: 48265.91 | X8: 31889.992 | Y8: 42492.549 | Z8: 79278.282 | AA8: 46243.608 | AB8: 49542.87 | AC8: 61271.79 | AD8: =Ақмола!AE7 -> 132619.57 | AE8: =Ақмола!AF7 -> 55172.952 | AF8: =Ақмола!AG7 -> 32792.945 | AG8: =Ақмола!AH7 -> 61094.868 | AH8: =Ақмола!AI7 -> 27854.131 | AI8: =Ақмола!AJ7 -> 10885.15 | AJ8: =Ақмола!AK7 -> 6033.3482 | AK8: =Ақмола!AL7 -> 9866.8495 | ... AO8: =Ақмола!AP7 -> 13025.895
A9: Ақтөбе | B9: 27680.359 | C9: 30756.896 | D9: 139187.74 | E9: 157236.79 | F9: 33021.197 | G9: 11721.433 | H9: 117212.19 | I9: 128945.28 | J9: 25759.224 | K9: 10586.192 | L9: 125605.41 | M9: 148040.57 | N9: 10332.701 | O9: 3861.1015 | P9: 110880.6 | Q9: 131217.15 | R9: 19473.496 | S9: 9285.3088 | T9: 116435.67 | U9: 116131.48 | V9: 33546.927 | W9: 14182.532 | X9: 193073.84 | Y9: 145495.24 | Z9: 20833.642 | AA9: 14143.119 | AB9: 148713.4 | AC9: 125233.89 | AD9: =Ақтөбе!AE7 -> 65338.272 | AE9: =Ақтөбе!AF7 -> 47721.466 | AF9: =Ақтөбе!AG7 -> 141004.76 | AG9: =Ақтөбе!AH7 -> 157768.86 | AH9: =Ақтөбе!AI7 -> 14030.868 | AI9: =Ақтөбе!AJ7 -> 9994.1925 | AJ9: =Ақтөбе!AK7 -> 34372.905 | AK9: =Ақтөбе!AL7 -> 29500.552 | ... AO9: =Ақтөбе!AP7 -> 43744.798
A10: Алматы | B10: 92519.017 | C10: 64528.236 | D10: 105984.21 | E10: 152443.78 | F10: 138074.49 | G10: 68789.025 | H10: 106870.52 | I10: 142909.72 | J10: 137333.58 | K10: 65082.462 | L10: 129571.82 | M10: 174190.7 | N10: 170883.31 | O10: 82869.19 | P10: 149683.53 | Q10: 189954.95 | R10: 168308.7 | S10: 109739.67 | T10: 188283.09 | U10: 212826.8 | V10: 164235.73 | W10: 132886.76 | X10: 218705.02 | Y10: 242635.06 | Z10: 155691.95 | AA10: 161190.85 | AB10: 333002.48 | AC10: 360495.63 | AD10: =Алматы!AE7 -> 139908.38 | AE10: =Алматы!AF7 -> 204307.91 | AF10: =Алматы!AG7 -> 302431.03 | AG10: =Алматы!AH7 -> 407623.49 | AH10: =Алматы!AI7 -> 31619.308 | AI10: =Алматы!AJ7 -> 37401.724 | AJ10: =Алматы!AK7 -> 63237.187 | AK10: =Алматы!AL7 -> 86617.15 | ... AO10: =Алматы!AP7 -> 87282.385
A11: Атырау | B11: 1189.4786 | C11: 1457.0714 | D11: 20795.951 | E11: 24878.027 | F11: 978.8345 | G11: 967.91856 | H11: 19461.087 | I11: 22636.238 | J11: 627.92314 | K11: 907.69393 | L11: 16924.062 | M11: 24325.457 | N11: 1371.4894 | O11: 2965.9504 | P11: 16182.261 | Q11: 22437.527 | R11: 1302.946 | S11: 3177.9317 | T11: 19804.73 | U11: 25985.118 | V11: 1864.6664 | W11: 2323.3396 | X11: 18889.855 | Y11: 24369.2 | Z11: 3682.6731 | AA11: 2346.1598 | AB11: 24389.848 | AC11: 28360.395 | AD11: =#REF! -> #REF! | AE11: =#REF! -> #REF! | AF11: =#REF! -> #REF! | AG11: =#REF! -> #REF! | AH11: =#REF! -> #REF! | AI11: =#REF! -> #REF! | AJ11: =#REF! -> #REF! | AK11: =#REF! -> #REF! | ... AO11: =#REF! -> #REF!
A12: Батыс Қазақстан | B12: 23907.04 | C12: 12122.707 | D12: 66838.137 | E12: 69356.607 | F12: 39414.793 | G12: 13477.049 | H12: 69552.494 | I12: 65483.789 | J12: 45847.181 | K12: 15830.061 | L12: 63357.794 | M12: 62667.611 | N12: 66784.682 | O12: 26756.003 | P12: 49683.245 | Q12: 50215.955 | R12: 55915.756 | S12: 28484.142 | T12: 61559.147 | U12: 63677.991 | V12: 68284.028 | W12: 46582.406 | X12: 88187.425 | Y12: 76252.087 | Z12: 56578.94 | AA12: 50153.471 | AB12: 100301.82 | AC12: 124236.9 | AD12: =#REF! -> #REF! | AE12: =#REF! -> #REF! | AF12: =#REF! -> #REF! | AG12: =#REF! -> #REF! | AH12: =#REF! -> #REF! | AI12: =#REF! -> #REF! | AJ12: =#REF! -> #REF! | AK12: =#REF! -> #REF! | ... AO12: =#REF! -> #REF!
A13: Жамбыл | B13: 4759.3297 | C13: 4266.5129 | D13: 36193.921 | E13: 31467.156 | F13: 11349.521 | G13: 4687.5963 | H13: 123860.7 | I13: 70662.071 | J13: 42978.156 | K13: 20805.321 | L13: 308688.96 | M13: 152638.21 | N13: 53136.708 | O13: 26482.436 | P13: 193182.14 | Q13: 86265.007 | R13: 9640.7589 | S13: 7795.1226 | T13: 193501.22 | U13: 86248.014 | V13: 29240.969 | W13: 15535.231 | X13: 139349.26 | Y13: 75973.795 | Z13: 19582.886 | AA13: 12253.78 | AB13: 226100.05 | AC13: 122561.49 | AD13: =#REF! -> #REF! | AE13: =#REF! -> #REF! | AF13: =#REF! -> #REF! | AG13: =#REF! -> #REF! | AH13: =#REF! -> #REF! | AI13: =#REF! -> #REF! | AJ13: =#REF! -> #REF! | AK13: =#REF! -> #REF! | ... AO13: =#REF! -> #REF!
A14: Жетісу | AD14: =#REF! -> #REF! | AE14: =#REF! -> #REF! | AF14: =#REF! -> #REF! | AG14: =#REF! -> #REF! | AH14: =#REF! -> #REF! | AI14: =#REF! -> #REF! | AJ14: =#REF! -> #REF! | AK14: =#REF! -> #REF! | ... AO14: =#REF! -> #REF!
A15: Қарағанды | B15: 179172.03 | C15: 52345.369 | D15: 129201.37 | E15: 153165.85 | F15: 221011.45 | G15: 47618.669 | H15: 112795.59 | I15: 141317.33 | J15: 127098.82 | K15: 32554.754 | L15: 124106.41 | M15: 168148.25 | N15: 148204.16 | O15: 36107.533 | P15: 129347.67 | Q15: 177802.54 | R15: 126154.62 | S15: 37145.283 | T15: 130681.89 | U15: 161012.35 | V15: 127453.88 | W15: 45031.943 | X15: 124550.62 | Y15: 169748.87 | Z15: 110294.51 | AA15: 47611.402 | AB15: 133985.91 | AC15: 207746.47 | AD15: =#REF! -> #REF! | AE15: =#REF! -> #REF! | AF15: =#REF! -> #REF! | AG15: =#REF! -> #REF! | AH15: =#REF! -> #REF! | AI15: =#REF! -> #REF! | AJ15: =#REF! -> #REF! | AK15: =#REF! -> #REF! | ... AO15: =#REF! -> #REF!
A16: Қостанай | B16: 685976.22 | C16: 205277.26 | D16: 91053.207 | E16: 128967.62 | F16: 1067530.5 | G16: 246088.93 | H16: 98947.768 | I16: 117168.39 | J16: 1104150.6 | K16: 261859.02 | L16: 108137.96 | M16: 130618.72 | N16: 1207500.1 | O16: 269488.78 | P16: 110001.47 | Q16: 124459.85 | R16: 766757.7 | S16: 210634.62 | T16: 114779.22 | U16: 127575.71 | V16: 1011895 | W16: 304774.34 | X16: 133981.94 | Y16: 150085.8 | Z16: 821593.03 | AA16: 259856.94 | AB16: 120263.72 | AC16: 165451.97 | AD16: ='2015-2026'!AE7 -> 38590.892 | AE16: ='2015-2026'!AF7 -> 27254.953 | AF16: ='2015-2026'!AG7 -> 108671.93 | AG16: ='2015-2026'!AH7 -> 190225.64 | AH16: ='2015-2026'!AI7 -> 53584.198 | AI16: ='2015-2026'!AJ7 -> 29768.605 | AJ16: ='2015-2026'!AK7 -> 170566.3 | AK16: ='2015-2026'!AL7 -> 194208.4 | AL16: ='2015-2026'!AU7 -> 52564.417 | AM16: ='2015-2026'!AV7 -> 24666.482 | AN16: ='2015-2026'!AW7 -> 94600.176 | AO16: ='2015-2026'!AX7 -> 122728.18
A17: Қызылорда | B17: 2935.121 | C17: 5115.7948 | D17: 2920.2163 | E17: 5077.2337 | F17: 1883.81 | G17: 5814.9001 | H17: 3221.9639 | I17: 4307.0308 | J17: 2815.958 | K17: 6703.2826 | L17: 3181.0195 | M17: 4267.9761 | N17: 4451.732 | O17: 7908.196 | P17: 3799.2548 | Q17: 5077.656 | R17: 2780.877 | S17: 7352.0317 | T17: 5286.0144 | U17: 7008.0344 | V17: 3177.592 | W17: 5871.1009 | X17: 5508.535 | Y17: 8096.1153 | Z17: 1121.491 | AA17: 4201.931 | AB17: 6103.848 | AC17: 9373.9763 | AD17: =#REF! -> #REF! | AE17: =#REF! -> #REF! | AF17: =#REF! -> #REF! | AG17: =#REF! -> #REF! | AH17: =#REF! -> #REF! | AI17: =#REF! -> #REF! | AJ17: =#REF! -> #REF! | AK17: =#REF! -> #REF! | ... AO17: =#REF! -> #REF!
A18: Маңғыстау | B18: 557 | C18: 196.83 | D18: 15763.131 | E18: 17766.648 | F18: 2057.5052 | G18: 455.44658 | H18: 12509.79 | I18: 14919.891 | J18: 4023.2208 | K18: 940.5824 | L18: 14163.528 | M18: 19853.254 | N18: 2556.1 | O18: 459.41154 | P18: 15914.736 | Q18: 23738.03 | R18: 1016.9162 | S18: 274.52468 | T18: 18128.555 | U18: 25213.917 | V18: 2014.0089 | W18: 1435.8106 | X18: 20651.721 | Y18: 29046.888 | Z18: 722.68126 | AA18: 321.27969 | AB18: 25816.705 | AC18: 35580.942 | AD18: =#REF! -> #REF! | AE18: =#REF! -> #REF! | AF18: =#REF! -> #REF! | AG18: =#REF! -> #REF! | AH18: =#REF! -> #REF! | AI18: =#REF! -> #REF! | AJ18: =#REF! -> #REF! | AK18: =#REF! -> #REF! | ... AO18: =#REF! -> #REF!
A19: Павлодар | B19: 10974.719 | C19: 6230.7288 | D19: 52209.31 | E19: 52688.698 | F19: 24268.809 | G19: 8249.4759 | H19: 45633.251 | I19: 42444.003 | J19: 29720.595 | K19: 13123.208 | L19: 53880.11 | M19: 55148.716 | N19: 39184.079 | O19: 12842.018 | P19: 49353.236 | Q19: 52145.316 | R19: 50229.698 | S19: 19475.468 | T19: 67158.848 | U19: 65142.613 | V19: 51155.512 | W19: 23651.592 | X19: 65112.765 | Y19: 67790.767 | Z19: 49582.174 | AA19: 30010.781 | AB19: 57186.527 | AC19: 67146.409 | AD19: =#REF! -> #REF! | AE19: =#REF! -> #REF! | AF19: =#REF! -> #REF! | AG19: =#REF! -> #REF! | AH19: =#REF! -> #REF! | AI19: =#REF! -> #REF! | AJ19: =#REF! -> #REF! | AK19: =#REF! -> #REF! | ... AO19: =#REF! -> #REF!
A20: Солтүстік Қазақстан | B20: 143383.27 | C20: 34744.118 | D20: 27123.633 | E20: 29276.63 | F20: 274452.34 | G20: 53435.214 | H20: 21213.833 | I20: 23287.521 | J20: 279553.83 | K20: 56961.543 | L20: 27425.194 | M20: 33596.167 | N20: 296197.33 | O20: 60795.313 | P20: 70813.178 | Q20: 33691.86 | R20: 265539.18 | S20: 77322.85 | T20: 39192.156 | U20: 43152.982 | V20: 208457.46 | W20: 65332.986 | X20: 53718.457 | Y20: 58605.928 | Z20: 198527.9 | AA20: 68917.7 | AB20: 53284.434 | AC20: 70033.682 | AD20: =#REF! -> #REF! | AE20: =#REF! -> #REF! | AF20: =#REF! -> #REF! | AG20: =#REF! -> #REF! | AH20: =#REF! -> #REF! | AI20: =#REF! -> #REF! | AJ20: =#REF! -> #REF! | AK20: =#REF! -> #REF! | ... AO20: =#REF! -> #REF!
A21: Түркістан | B21: 141922.62 | C21: 64179.329 | D21: 9221.7131 | E21: 11722.927 | F21: 148888.53 | G21: 66542.593 | H21: 10306.949 | I21: 14644.774 | J21: 180008.25 | K21: 82522.056 | L21: 15760.523 | M21: 20662.262 | N21: 172131.34 | O21: 84338.475 | P21: 12978.056 | Q21: 16831.114 | R21: 145566.37 | S21: 77832.833 | T21: 47127.889 | U21: 31121.281 | V21: 145218.39 | W21: 104253.11 | X21: 59712.939 | Y21: 41223.858 | Z21: 99374.791 | AA21: 117277.88 | AB21: 37852.712 | AC21: 35832.467 | AD21: =#REF! -> #REF! | AE21: =#REF! -> #REF! | AF21: =#REF! -> #REF! | AG21: =#REF! -> #REF! | AH21: =#REF! -> #REF! | AI21: =#REF! -> #REF! | AJ21: =#REF! -> #REF! | AK21: =#REF! -> #REF! | ... AO21: =#REF! -> #REF!
A22: Ұлытау | AD22: =#REF! -> #REF! | AE22: =#REF! -> #REF! | AF22: =#REF! -> #REF! | AG22: =#REF! -> #REF! | AH22: =#REF! -> #REF! | AI22: =#REF! -> #REF! | AJ22: =#REF! -> #REF! | AK22: =#REF! -> #REF! | ... AO22: =#REF! -> #REF!
A23: Шығыс Қазақстан | B23: 65672.425 | C23: 28015.82 | D23: 3737089.9 | E23: 47718.008 | F23: 83151.646 | G23: 26391.483 | H23: 4657550.6 | I23: 42762.057 | J23: 93950.643 | K23: 37673.763 | L23: 4467438.8 | M23: 44687.633 | N23: 133513.19 | O23: 50613.203 | P23: 4252190.1 | Q23: 43386.039 | R23: 120614.4 | S23: 54897.998 | T23: 4402746.7 | U23: 44202.659 | V23: 126901.06 | W23: 64207.991 | X23: 3331498.3 | Y23: 43934.136 | Z23: 113473.82 | AA23: 83778.541 | AB23: 3746086.2 | AC23: 62449.069 | AD23: =#REF! -> #REF! | AE23: =#REF! -> #REF! | AF23: =#REF! -> #REF! | AG23: =#REF! -> #REF! | AH23: =#REF! -> #REF! | AI23: =#REF! -> #REF! | AJ23: =#REF! -> #REF! | AK23: =#REF! -> #REF! | ... AO23: =#REF! -> #REF!
A24: Астана қ. | B24: 91113.253 | C24: 26899.975 | D24: 47416.5 | E24: 72906.388 | F24: 137015.53 | G24: 31454.774 | H24: 55015.661 | I24: 68567.229 | J24: 142740.12 | K24: 38554.721 | L24: 61913.934 | M24: 84140.876 | N24: 186041.62 | O24: 50793.77 | P24: 85990.794 | Q24: 112028.66 | R24: 154838.05 | S24: 54288.999 | T24: 110441.77 | U24: 128086.86 | V24: 185062.61 | W24: 61095.314 | X24: 134545.31 | Y24: 147296.76 | Z24: 140108.87 | AA24: 59000.552 | AB24: 184393.06 | AC24: 206258.4 | AD24: =#REF! -> #REF! | AE24: =#REF! -> #REF! | AF24: =#REF! -> #REF! | AG24: =#REF! -> #REF! | AH24: =#REF! -> #REF! | AI24: =#REF! -> #REF! | AJ24: =#REF! -> #REF! | AK24: =#REF! -> #REF! | ... AO24: =#REF! -> #REF!
A25: Алматы қ. | B25: 132458.66 | C25: 158193.7 | D25: 964535.13 | E25: 1171593.9 | F25: 191948.25 | G25: 153013.69 | H25: 929808.07 | I25: 1069992.5 | J25: 232710.16 | K25: 203208.66 | L25: 777491.06 | M25: 1151105.6 | N25: 253083.36 | O25: 205787.97 | P25: 960435.72 | Q25: 1226461 | R25: 283368.66 | S25: 205515.96 | T25: 916062 | U25: 1330511.3 | V25: 357030.55 | W25: 246072.06 | X25: 1033315.2 | Y25: 1335487.8 | Z25: 436411.72 | AA25: 291443.32 | AB25: 945106.21 | AC25: 1488828.4 | AD25: =#REF! -> #REF! | AE25: =#REF! -> #REF! | AF25: =#REF! -> #REF! | AG25: =#REF! -> #REF! | AH25: =#REF! -> #REF! | AI25: =#REF! -> #REF! | AJ25: =#REF! -> #REF! | AK25: =#REF! -> #REF! | ... AO25: =#REF! -> #REF!
A26: Шымкент қ. | B26: 635258.23 | C26: 210652.37 | D26: 57287.315 | E26: 66018.406 | F26: 665753.53 | G26: 193116.4 | H26: 38210.096 | I26: 47791.232 | J26: 628076.55 | K26: 197181.21 | L26: 60532.992 | M26: 69388.494 | N26: 564062.25 | O26: 164828.18 | P26: 70377.316 | Q26: 89484.215 | R26: 452965.37 | S26: 173169.42 | T26: 88513.761 | U26: 93043.034 | V26: 401984.64 | W26: 167222.52 | X26: 84288.147 | Y26: 93635.737 | Z26: 314576.6 | AA26: 179661.64 | AB26: 95785.545 | AC26: 115550.03 | AD26: =#REF! -> #REF! | AE26: =#REF! -> #REF! | AF26: =#REF! -> #REF! | AG26: =#REF! -> #REF! | AH26: =#REF! -> #REF! | AI26: =#REF! -> #REF! | AJ26: =#REF! -> #REF! | AK26: =#REF! -> #REF! | ... AO26: =#REF! -> #REF!
A28: *Предварительные данные.

Sheet Абай
A1: Экспорт и импорт сельскохозяйственной переработанной продукции
A2: Абайская
A4: ТНВЭД ЕАЭС | B4: Наименование товара | C4: 2022* | G4: январь-март 2022 года* | K4: январь-март 2023 года*
C5: экспорт | E5: импорт | G5: экспорт | I5: импорт | K5: экспорт | M5: импорт
C6: тонн | D6: тыс. долларов США | E6: тонн | F6: тыс. долларов США | G6: тонн | H6: тыс. долларов США | I6: тонн | J6: тыс. долларов США | K6: тонн | L6: тыс. долларов США | M6: тонн | N6: тыс. долларов США
B7: Всего | C7: =SUM(C8:C120) -> 119577.9 | D7: =SUM(D8:D120) -> 91606.852 | E7: =SUM(E8:E120) -> 18812.809 | F7: =SUM(F8:F120) -> 20436.766 | G7: =SUM(G8:G120) -> 28529.516 | H7: =SUM(H8:H120) -> 20178.225 | I7: =SUM(I8:I120) -> 4399.1467 | J7: =SUM(J8:J120) -> 4093.7538 | ... N7: =SUM(N8:N120) -> 4697.4839
A8: 0206 | B8: Пищевые субпродукты крупного рогатого скота, свиней, овец, коз, лошадей, ослов, мулов или лошаков, свежие, охлажденные или замороженные | C8: 0 | D8: 0 | E8: 8.821 | F8: 12.60283 | G8: 0 | H8: 0 | I8: 5.769 | J8: 6.59041 | K8: - | L8: - | M8: - | N8: -
A9: 0207 | B9: Мясо и пищевые субпродукты домашней птицы, указанной в товарной позиции 0105, свежие, охлажденные или замороженные | C9: 89.98483 | D9: 179.6661 | E9: 71.6198 | F9: 143.34792 | G9: 0 | H9: 0 | I9: 24.15019 | J9: 37.05596 | K9: - | L9: - | M9: - | N9: -
A10: 0209 | B10: Свиной жир, отделенный от тощего мяса, и жир домашней птицы, не вытопленные или не извлеченные другим способом, свежие, охлажденные, мороженые, соленые, в рассоле, сушеные или копченые | C10: - | D10: - | E10: - | F10: - | G10: - | H10: - | I10: - | J10: - | K10: - | L10: - | M10: - | N10: -
A11: 0210 | B11: Мясо и пищевые мясные субпродукты, соленые, в рассоле, сушеные или копченые; пищевая мука тонкого и грубого помола из мяса или мясных субпродуктов | C11: - | D11: - | E11: - | F11: - | G11: - | H11: - | I11: - | J11: - | K11: - | L11: - | M11: - | N11: -
A12: 0304 | B12: Филе рыбное и прочее мясо рыбы (включая фарш), свежие, охлажденные или мороженые | C12: - | D12: - | E12: - | F12: - | G12: - | H12: - | I12: - | J12: - | K12: 0 | L12: 0 | M12: 0.67102 | N12: 1.77391
A13: 0305 | B13: Рыба сушеная, соленая или в рассоле; рыба горячего или холодного копчения; рыбная мука тонкого и грубого помола и гранулы из рыбы, пригодные для употребления в пищу | C13: 0 | D13: 0 | E13: 4.1658 | F13: 42.95433 | G13: 0 | H13: 0 | I13: 0.9572 | J13: 8.30723 | K13: 0 | L13: 0 | M13: 1.4354 | N13: 13.3161
A14: 0401 | B14: Молоко и сливки, несгущенные и без добавления сахара или других подслащивающих веществ | C14: - | D14: - | E14: - | F14: - | G14: - | H14: - | I14: - | J14: - | K14: 0 | L14: 0 | M14: 1.339 | N14: 2.839
A15: 0402 | B15: Молоко и сливки, сгущенные или с добавлением сахара или других подслащивающих веществ | C15: 0 | D15: 0 | E15: 25.16642 | F15: 39.76762 | G15: 0 | H15: 0 | I15: 7.745 | J15: 7.99732 | K15: 0 | L15: 0 | M15: 5.00469 | N15: 7.36044
A16: 0403 | B16: Пахта, свернувшиеся молоко и сливки, йогурт, кефир и прочие ферментированные или сквашенные молоко и сливки, сгущенные или несгущенные, с добавлением или без добавления сахара или других подслащивающих веществ, со вкусо-ароматическими добавками или без | C16: 0 | D16: 0 | E16: 169.95057 | F16: 475.87273 | G16: 0 | H16: 0 | I16: 57.28602 | J16: 94.82391 | K16: 0 | L16: 0 | M16: 26.6162 | N16: 77.72962
A17: 0404 | B17: Молочная сыворотка, сгущенная или несгущенная, с добавлением или без добавления сахара или других подслащивающих веществ; продукты из натуральных компонентов молока, с добавлением или без добавления сахара или других подслащивающих веществ, в другом мес | C17: 0 | D17: 0 | E17: 20.7828 | F17: 94.5974 | G17: - | H17: - | I17: - | J17: - | K17: 0 | L17: 0 | M17: 5.958 | N17: 23.87352
A18: 0405 | B18: Сливочное масло и прочие жиры и масла, изготовленные из молока; молочные пасты | C18: - | D18: - | E18: - | F18: - | G18: - | H18: - | I18: - | J18: - | K18: - | L18: - | M18: - | N18: -
A19: 0406 | B19: Сыры и творог | C19: 20 | D19: 147.95945 | E19: 20.97268 | F19: 157.90649 | G19: 20 | H19: 147.95945 | I19: 1.575 | J19: 6.514 | K19: 0 | L19: 0 | M19: 4.99539 | N19: 35.25503
A20: 0711 | B20: Овощи консервированные для кратковременного хранения (например, диоксидом серы, в рассоле, сернистой воде или в другом временно консервирующем растворе), но в таком виде непригодные для непосредственного употребления в пищу | C20: - | D20: - | E20: - | F20: - | G20: - | H20: - | I20: - | J20: - | K20: - | L20: - | M20: - | N20: -
A21: 0712 | B21: Овощи сушеные, целые, нарезанные кусками, ломтиками, измельченные или в виде порошка, но не подвергнутые дальнейшей обработке | C21: 0 | D21: 0 | E21: 2.36638 | F21: 15.3025 | G21: 0 | H21: 0 | I21: 0.45895 | J21: 2.52517 | K21: 0 | L21: 0 | M21: 0.53624 | N21: 3.2689
A22: 0812 | B22: Фрукты и орехи, консервированные для кратковременного хранения (например, диоксидом серы, в рассоле, сернистой воде или в другом временно консервирующем растворе), но в таком виде непригодные для непосредственного употребления в пищу | C22: - | D22: - | E22: - | F22: - | G22: - | H22: - | I22: - | J22: - | K22: - | L22: - | M22: - | N22: -
A23: 0814 | B23: Кожура цитрусовых плодов или корки дынь (включая корки арбузов), свежие, морож.,сушеные или консервир. Для кратк. Хран. В рассоле, сернистой воде или в др.временно консервирующем растворе | C23: - | D23: - | E23: - | F23: - | G23: - | H23: - | I23: - | J23: - | K23: - | L23: - | M23: - | N23: -
A24: 0901 | B24: Кофе, жареный или нежареный, с кофеином или без кофеина; кофейная шелуха и оболочки зерен кофе; заменители кофе, содержащие кофе в любой пропорции | C24: 0 | D24: 0 | E24: 0.21 | F24: 1.90902 | G24: 0 | H24: 0 | I24: 0.025 | J24: 0.1018 | K24: 0 | L24: 0 | M24: 0.05 | N24: 0.3431
A25: 0902 | B25: Чай со вкусо-ароматическими добавками или без них | C25: 1.55861 | D25: 6.36859 | E25: 8.84339 | F25: 32.4859 | G25: 0.0577 | H25: 0.24967 | I25: 0.6802 | J25: 3.28799 | K25: 0.2721 | L25: 0.94898 | M25: 0.54636 | N25: 4.01132
A26: 0903 | B26: Мате (парагвайский чай) | C26: - | D26: - | E26: - | F26: - | G26: - | H26: - | I26: - | J26: - | K26: - | L26: - | M26: - | N26: -
A27: 0905 | B27: Ваниль | C27: - | D27: - | E27: - | F27: - | G27: - | H27: - | I27: - | J27: - | K27: - | L27: - | M27: - | N27: -
A28: 1101 | B28: Мука пшеничная или пшенично-ржаная | C28: 5899.023 | D28: 2199.7006 | E28: 12.451 | F28: 5.57711 | G28: 1081.048 | H28: 340.59 | I28: 3.065 | J28: 1.02838 | K28: 2921 | L28: 957.755 | M28: 2.292 | N28: 1.247
A29: 1102 | B29: Мука из зерна прочих злаков, кроме пшеничной или пшенично-ржаной | C29: 0 | D29: 0 | E29: 0.511 | F29: 0.962 | G29: 0 | H29: 0 | I29: 0.246 | J29: 0.32 | K29: - | L29: - | M29: - | N29: -
A30: 1103 | B30: Крупа, мука грубого помола и гранулы из зерна злаков | C30: 0 | D30: 0 | E30: 161.51515 | F30: 111.19292 | G30: 0 | H30: 0 | I30: 50.894 | J30: 32.82473 | K30: 0 | L30: 0 | M30: 38.195 | N30: 20.4807
A31: 1104 | B31: Зерно злаков, обработанное другими способами (например, шелушеное, плюще?ное, переработанное в хлопья, обрушенное, в виде сечки или дробленое), кроме риса товарной позиции 1006; зародыши зерна злаков, целые, плющеные, в виде хлопьев или молотые | C31: 0 | D31: 0 | E31: 307.72686 | F31: 234.93235 | G31: 0 | H31: 0 | I31: 78.91628 | J31: 52.38928 | K31: 0 | L31: 0 | M31: 20.5704 | N31: 10.3599
A32: 1105 | B32: Мука тонкого и грубого помола, порошок, хлопья, гранулы картофельные | C32: - | D32: - | E32: - | F32: - | G32: - | H32: - | I32: - | J32: - | K32: - | L32: - | M32: - | N32: -
A33: 1106 | B33: Мука тонкого и грубого помола и порошок из сушеных бобовых овощей товарной позиции 0713, из сердцевины саговой пальмы, из корнеплодов или клубнеплодов товарной позиции 0714 или продуктов группы 08 | C33: 0 | D33: 0 | E33: 0.048 | F33: 0.125 | G33: 0 | H33: 0 | I33: 0.018 | J33: 0.036 | K33: - | L33: - | M33: - | N33: -
A34: 1107 | B34: Солод, поджаренный или неподжаренный | C34: 0 | D34: 0 | E34: 143.5 | F34: 90.03459 | G34: 0 | H34: 0 | I34: 65.5 | J34: 42.22374 | K34: 0 | L34: 0 | M34: 66 | N34: 48.97105
A35: 1108 | B35: Крахмал; инулин | C35: 0 | D35: 0 | E35: 194.23068 | F35: 106.913 | G35: 0 | H35: 0 | I35: 64.6312 | J35: 23.84365 | K35: 0 | L35: 0 | M35: 0.50292 | N35: 1.1021
A36: 1109 | B36: Клейковина пшеничная, сухая или сырая | C36: - | D36: - | E36: - | F36: - | G36: - | H36: - | I36: - | J36: - | K36: - | L36: - | M36: - | N36: -
A37: 1208 | B37: Мука тонкого и грубого помола из семян или плодов масличных культур, кроме семян горчицы | C37: 0 | D37: 0 | E37: 0.301 | F37: 0.617 | G37: 0 | H37: 0 | I37: 0.122 | J37: 0.2 | K37: 0 | L37: 0 | M37: 0.022 | N37: 0.045
A38: 1501 | B38: Жир свиной (включая лярд) и жир домашней птицы, кроме жира товарной позиции 0209 или 1503 | C38: - | D38: - | E38: - | F38: - | G38: - | H38: - | I38: - | J38: - | K38: - | L38: - | M38: - | N38: -
A39: 1502 | B39: Жир крупного рогатого скота, овец или коз, кроме жира товарной позиции 1503 | C39: - | D39: - | E39: - | F39: - | G39: - | H39: - | I39: - | J39: - | K39: - | L39: - | M39: - | N39: -
A40: 1503 | B40: Лярд-стеарин, лярд-ойль, олеостеарин (олеомаргарин) и животное масло (технический маргарин), неэмульгированные или несмешанные, или не приготовленные каким-либо иным способом | C40: - | D40: - | E40: - | F40: - | G40: - | H40: - | I40: - | J40: - | K40: - | L40: - | M40: - | N40: -
A41: 1504 | B41: Жиры, масла и их фракции, из рыбы или морских млекопитающих, нерафинированные или рафинированные, но без изменения химического состава | C41: - | D41: - | E41: - | F41: - | G41: - | H41: - | I41: - | J41: - | K41: - | L41: - | M41: - | N41: -
A42: 1505 | B42: Жиропот и жировые вещества, получаемые из него ( включая ланолин) | C42: - | D42: - | E42: - | F42: - | G42: - | H42: - | I42: - | J42: - | K42: - | L42: - | M42: - | N42: -
A43: 1506 | B43: Прочие жиры и масла животные и их фракции, в том числе нерафинированные или рафинированные, но без изменения их химического состава | C43: - | D43: - | E43: - | F43: - | G43: - | H43: - | I43: - | J43: - | K43: - | L43: - | M43: - | N43: -
A44: 1507 | B44: Масло соевое и его фракции, нерафинированные или рафинированные, но без изменения химического состава | C44: - | D44: - | E44: - | F44: - | G44: - | H44: - | I44: - | J44: - | K44: - | L44: - | M44: - | N44: -
A45: 1508 | B45: Масло арахисовое и его фракции, нерафинированные или рафинированные, но без изменения химического состава | C45: - | D45: - | E45: - | F45: - | G45: - | H45: - | I45: - | J45: - | K45: - | L45: - | M45: - | N45: -
A46: 1509 | B46: Масло оливковое и его фракции, нерафинированные или рафинированные, но без изменения химического состава | C46: 0 | D46: 0 | E46: 1.62548 | F46: 8.1995 | G46: 0 | H46: 0 | I46: 0.40713 | J46: 1.261 | K46: 0 | L46: 0 | M46: 0.1369 | N46: 0.7186
A47: 1510 | B47: Прочие масла и их фракции, полученные только из маслин (оливок), нерафинированные или рафинированные, но без изменения их химического состава, включая смеси их с маслами из тов. Поз. N 1509 | C47: - | D47: - | E47: - | F47: - | G47: - | H47: - | I47: - | J47: - | K47: - | L47: - | M47: - | N47: -
A48: 1511 | B48: Масло пальмовое и его фракции, нерафинированные или рафинированные, но без изменения химического состава | C48: - | D48: - | E48: - | F48: - | G48: - | H48: - | I48: - | J48: - | K48: - | L48: - | M48: - | N48: -
A49: 1512 | B49: Масло подсолнечное, сафлоровое или хлопковое и их фракции, нерафинированные или рафинированные, но без изменения химического состава | C49: 50657.423 | D49: 73112.486 | E49: 372.68 | F49: 485.11186 | G49: 11164.743 | H49: 15318.335 | I49: 43.01 | J49: 1.429 | K49: 14532.4 | L49: 15191.307 | M49: 20.135 | N49: 22.14151
A50: 1513 | B50: Масло кокосовое (копровое), пальмоядровое или масло бабассу и их фракции, нерафинированные или рафинированные, но без изменения химического состава | C50: 0.192 | D50: 0.42347 | E50: 0.192 | F50: 0.40128 | G50: - | H50: - | I50: - | J50: - | K50: - | L50: - | M50: - | N50: -
A51: 1514 | B51: Масло рапсовое (из рапса, или кользы) или горчичное и их фракции, нерафинированные или рафинированные, но без изменения химического состава | C51: 0 | D51: 0 | E51: 0.601 | F51: 2.25541 | G51: 0 | H51: 0 | I51: 0.09 | J51: 0.203 | K51: 0 | L51: 0 | M51: 0.006 | N51: 0.031
A52: 1515 | B52: Прочие нелетучие растительные жиры, масла (включая масло жожоба) и их фракции, нерафинированные или рафинированные, но без изменения химического состава | C52: 0 | D52: 0 | E52: 1.145 | F52: 4.68511 | G52: 0 | H52: 0 | I52: 0.231 | J52: 0.5199 | K52: 0 | L52: 0 | M52: 0.18 | N52: 0.6
A53: 1516 | B53: Жиры и масла животные или растительные и их фракции, полностью или частично гидрогенизированные, переэтерифицированные, реэтерифицированные или элаидинизированные, нерафинированные или рафинированные, но не подвергнутые дальнейшей обработке | C53: - | D53: - | E53: - | F53: - | G53: - | H53: - | I53: - | J53: - | K53: - | L53: - | M53: - | N53: -
A54: 1517 | B54: Маргарин; пригодные для употребления в пищу смеси или готовые продукты из животных или растительных жиров или масел или фракций различных жиров или масел данной группы, кроме пищевых жиров или масел или их фракций товарной позиции 1516 | C54: 0 | D54: 0 | E54: 378.03596 | F54: 897.31934 | G54: 0 | H54: 0 | I54: 90.87722 | J54: 119.03092 | K54: 0 | L54: 0 | M54: 218.642 | N54: 420.49822
A55: 1518 | B55: Животные или растительные жиры и масла и их фракции, вареные, окисленные, дегидратированные, сульфурированные или полимеризованные, кроме товарной позиции n 1516, непищевые смеси | C55: 0 | D55: 0 | E55: 43.32 | F55: 57.19217 | G55: - | H55: - | I55: - | J55: - | K55: - | L55: - | M55: - | N55: -
A56: 1601 | B56: Колбасы и аналогичные продукты из мяса, мясных субпродуктов или крови, пищевые продукты, изготовленные на их основе | C56: 0.4 | D56: 1.65239 | E56: 300.75688 | F56: 914.27776 | G56: 0.4 | H56: 1.65239 | I56: 122.88838 | J56: 279.05931 | K56: 0 | L56: 0 | M56: 65.34554 | N56: 226.84276
A57: 1602 | B57: Готовые или консервированные продукты из мяса, мясных субпродуктов или крови прочие | C57: 0 | D57: 0 | E57: 16.30889 | F57: 62.17814 | G57: 0 | H57: 0 | I57: 2.886 | J57: 6.01363 | K57: 0 | L57: 0 | M57: 2.0522 | N57: 7.40783
A58: 1603 | B58: Экстракты и соки из мяса, рыбы, ракообразных, моллюсков или прочих водных беспозвоночных | C58: - | D58: - | E58: - | F58: - | G58: - | H58: - | I58: - | J58: - | K58: - | L58: - | M58: - | N58: -
A59: 1604 | B59: Готовая или консервированная рыба; икра осетровых и ее заменители, изготовленные из икринок рыбы | C59: 0 | D59: 0 | E59: 49.40776 | F59: 154.42636 | G59: 0 | H59: 0 | I59: 13.8321 | J59: 38.33488 | K59: 0 | L59: 0 | M59: 10.32248 | N59: 46.49688
A60: 1605 | B60: Готовые или консервированные ракообразные, моллюски и прочие водные беспозвоночные | C60: 0 | D60: 0 | E60: 0.3212 | F60: 1.68566 | G60: 0 | H60: 0 | I60: 0.05 | J60: 0.39449 | K60: 0 | L60: 0 | M60: 0.1356 | N60: 0.67701
A61: 1701 | B61: Сахар тростниковый или свекловичный и химически чистая сахароза, в твердом состоянии | C61: 0 | D61: 0 | E61: 369.36016 | F61: 320.54052 | G61: 0 | H61: 0 | I61: 1.20116 | J61: 1.95679 | K61: 0 | L61: 0 | M61: 40.45455 | N61: 36.34635
A62: 1702 | B62: Прочие сахара, включая химически чистые лактозу, мальтозу, глюкозу и фруктозу, в твердом состоянии; сиропы сахарные без добавления вкусо-ароматических или красящих веществ; искусственный мед, смешанный или не смешанный с натуральным медом; карамельный к | C62: 0 | D62: 0 | E62: 33.462 | F62: 57.292 | G62: 0 | H62: 0 | I62: 0.081 | J62: 1.198 | K62: 0 | L62: 0 | M62: 0.259 | N62: 1.72441
A63: 1703 | B63: Меласса, полученная в результате извлечения или рафинирования сахара | C63: 0 | D63: 0 | E63: 5 | F63: 5.65203 | G63: - | H63: - | I63: - | J63: - | K63: - | L63: - | M63: - | N63: -
A64: 1704 | B64: Кондитерские изделия из сахара (включая белый шоколад), не содержащие какао | C64: 0.7955 | D64: 1.27149 | E64: 246.11084 | F64: 604.66885 | G64: 0 | H64: 0 | I64: 49.91271 | J64: 95.29885 | K64: 0 | L64: 0 | M64: 43.83543 | N64: 112.19645
A65: 1803 | B65: Какао-паста, обезжиренная или необезжиренная | C65: - | D65: - | E65: - | F65: - | G65: - | H65: - | I65: - | J65: - | K65: - | L65: - | M65: - | N65: -
A66: 1804 | B66: Какао-масло, какао-жир | C66: - | D66: - | E66: - | F66: - | G66: - | H66: - | I66: - | J66: - | K66: - | L66: - | M66: - | N66: -
A67: 1805 | B67: Какао-порошок без добавок сахара или других подслащивающих веществ | C67: 0 | D67: 0 | E67: 0.7072 | F67: 2.97722 | G67: 0 | H67: 0 | I67: 0.2753 | J67: 0.9164 | K67: 0 | L67: 0 | M67: 0.2199 | N67: 0.9552
A68: 1806 | B68: Шоколад и прочие готовые пищевые продукты, содержащие какао | C68: 0 | D68: 0 | E68: 700.29115 | F68: 2308.9178 | G68: 0 | H68: 0 | I68: 183.04306 | J68: 473.10584 | K68: 0 | L68: 0 | M68: 155.41391 | N68: 567.92409
A69: 1901 | B69: Экстракт солодовый; готовые пищевые продукты из муки тонкого или грубого помола, крупы, крахмала или солодового экстракта, не содержащие какао или содержащие менее 40 мас.% какао в пересчете на полностью обезжиренную основу, в другом месте не поименован | C69: 0 | D69: 0 | E69: 281.3598 | F69: 633.56932 | G69: 0 | H69: 0 | I69: 84.335 | J69: 153.43694 | K69: 0 | L69: 0 | M69: 41.85634 | N69: 79.34199
A70: 1902 | B70: Макаронные изделия, подвергнутые или не подвергнутые тепловой обработке, с начинкой (из мяса или прочих продуктов) или без начинки, или приготовленные другим способом, такие как спагетти, макароны, лапша, рожки, клецки, равиоли, каннеллони; кускус, гото | C70: 302.089 | D70: 192.41982 | E70: 188.59698 | F70: 138.17215 | G70: 19.5 | H70: 17.402 | I70: 32.57268 | J70: 17.97378 | K70: 53.5 | L70: 32.6356 | M70: 8.7 | N70: 13.4755
A71: 1903 | B71: Тапиока и ее заменители, приготовленные из крахмала, в форме хлопьев, гранул, шариков, крупинок или в других аналогичных формах | C71: - | D71: - | E71: - | F71: - | G71: - | H71: - | I71: - | J71: - | K71: - | L71: - | M71: - | N71: -
A72: 1904 | B72: Готовые пищевые продукты, полученные путем вздувания или обжаривания зерна злаков или зерновых продуктов (например, кукурузные хлопья); злаки (кроме зерна кукурузы) в виде зерна или в виде хлопьев или зерна, обработанного иным способом (за исключением м | C72: 0 | D72: 0 | E72: 92.25977 | F72: 146.12221 | G72: 0 | H72: 0 | I72: 17.07974 | J72: 21.7087 | K72: 0 | L72: 0 | M72: 3.2561 | N72: 8.10279
A73: 1905 | B73: Хлеб, мучные кондитерские изделия, пирожные, печенье и прочие хлебобулочные и мучные кондитерские изделия, содержащие или не содержащие какао; вафельные пластины, пустые капсулы, пригодные для использования в фармацевтических целях, вафельные облатки дл | C73: 204.444 | D73: 265.15782 | E73: 2122.2533 | F73: 4471.0952 | G73: 53.237 | H73: 57.84366 | I73: 510.51472 | J73: 848.88587 | K73: 30.0859 | L73: 33.91624 | M73: 504.45652 | N73: 1109.3408
A74: 2001 | B74: Овощи, фрукты, орехи и другие съедобные части растений, приготовленные или консервированные с добавлением уксуса или уксусной кислоты | C74: 0 | D74: 0 | E74: 80.13204 | F74: 116.24938 | G74: 0 | H74: 0 | I74: 6.994 | J74: 11.2814 | K74: 0 | L74: 0 | M74: 11.9938 | N74: 20.51984
A75: 2002 | B75: Томаты, приготовленные или консервированные без добавления уксуса или уксусной кислоты | C75: 0 | D75: 0 | E75: 6.49398 | F75: 13.00415 | G75: 0 | H75: 0 | I75: 1.98924 | J75: 3.34417 | K75: 0 | L75: 0 | M75: 1.3282 | N75: 2.41604
A76: 2003 | B76: Грибы и трюфели, приготовленные или консервированные без добавления уксуса или уксусной кислоты | C76: 0 | D76: 0 | E76: 1.204 | F76: 2.27739 | G76: 0 | H76: 0 | I76: 0.16 | J76: 0.207 | K76: 0 | L76: 0 | M76: 0.6126 | N76: 1.38031
A77: 2004 | B77: Овощи прочие, приготовленные или консервированные без добавления уксуса или уксусной кислоты, замороженные, кроме продуктов товарной позиции 2006 | C77: 0 | D77: 0 | E77: 2.5805 | F77: 6.62166 | G77: 0 | H77: 0 | I77: 0.565 | J77: 0.8911 | K77: 0 | L77: 0 | M77: 0.063 | N77: 0.189
A78: 2005 | B78: Овощи прочие, приготовленные или консервированные, без добавления уксуса или уксусной кислоты, незамороженные, кроме продуктов товарной позиции 2006 | C78: 0 | D78: 0 | E78: 215.92659 | F78: 829.1779 | G78: 0 | H78: 0 | I78: 57.53494 | J78: 159.14922 | K78: 0 | L78: 0 | M78: 61.00426 | N78: 217.84381
A79: 2006 | B79: Овощи, плоды, орехи, кожура плодов и прочие части растений, консервированные в сахаре (пропитанные сахарным сиропом, засахаренные или глазированные) | C79: 0 | D79: 0 | E79: 0.09 | F79: 0.231 | G79: - | H79: - | I79: - | J79: - | K79: 0 | L79: 0 | M79: 0.0668 | N79: 0.421
A80: 2007 | B80: Джемы, желе фруктовое, мармелады, пюре фруктовое или ореховое, паста фруктовая или ореховая, полученные путем тепловой обработки, в том числе с добавлением сахара или других подслащивающих веществ | C80: 0 | D80: 0 | E80: 43.0093 | F80: 95.07703 | G80: 0 | H80: 0 | I80: 15.38552 | J80: 24.4772 | K80: 0 | L80: 0 | M80: 10.8614 | N80: 22.32969
A81: 2008 | B81: Фрукты, орехи и прочие съедобные части растений, приготовленные или консервированные иным способом, содержащие или не содержащие добавок сахара или других подслащивающих веществ или спирта, в другом месте не поименованные или не включенные | C81: 0.045 | D81: 0.72 | E81: 210.79272 | F81: 327.75868 | G81: 0 | H81: 0 | I81: 122.99481 | J81: 148.45033 | K81: 0 | L81: 0 | M81: 17.45402 | N81: 47.7123
A82: 2009 | B82: Соки фруктовые (включая виноградное сусло) и соки овощные, несброженные и не содержащие добавок спирта, с добавлением или без добавления сахара или других подслащивающих веществ | C82: 0 | D82: 0 | E82: 120.5077 | F82: 85.4713 | G82: 0 | H82: 0 | I82: 30.7728 | J82: 15.77588 | K82: 0 | L82: 0 | M82: 26.788 | N82: 15.09365
A83: 2101 | B83: Экстракты, эссенции и концентраты кофе, чая или мате, или парагвайского чая, и готовые продукты на их основе или на основе кофе, чая или мате, или парагвайского чая; обжаренный цикорий и прочие обжаренные заменители кофе и экстракты, эссенции и концентр | C83: 0.144 | D83: 1.35877 | E83: 12.39019 | F83: 75.07416 | G83: 0 | H83: 0 | I83: 3.45621 | J83: 29.21299 | K83: 0 | L83: 0 | M83: 3.14084 | N83: 23.65857
A84: 2102 | B84: Дрожжи (активные или неактивные); прочие мертвые одноклеточные микроорганизмы (кроме вакцин товарной позиции 3002); готовые пекарные порошки | C84: 0 | D84: 0 | E84: 2.07457 | F84: 14.01795 | G84: 0 | H84: 0 | I84: 0.5574 | J84: 4.81187 | K84: 0 | L84: 0 | M84: 0.87877 | N84: 3.26422
A85: 2103 | B85: Продукты для приготовления соусов и готовые соусы; вкусовые добавки и приправы смешанные; горчичный порошок и готовая горчица | C85: 0 | D85: 0 | E85: 1004.0138 | F85: 1671.2519 | G85: 0 | H85: 0 | I85: 267.76178 | J85: 335.02638 | K85: 0 | L85: 0 | M85: 214.32537 | N85: 414.62741
A86: 2104 | B86: Супы и бульоны готовые и заготовки для их приготовления; гомогенизированные составные готовые пищевые продукты | C86: 0 | D86: 0 | E86: 9.7985 | F86: 26.07645 | G86: 0 | H86: 0 | I86: 4.442 | J86: 7.7255 | K86: 0 | L86: 0 | M86: 1.228 | N86: 3.5462
A87: 2105 | B87: Мороженое и прочие виды пищевого льда, не содержащие или содержащие какао | C87: 0 | D87: 0 | E87: 4.8434 | F87: 21.715 | G87: 0 | H87: 0 | I87: 3.1024 | J87: 12.708 | K87: - | L87: - | M87: - | N87: -
A88: 2106 | B88: Пищевые продукты, в другом месте не поименованные или не включенные | C88: 0 | D88: 0 | E88: 116.51833 | F88: 282.49608 | G88: 0 | H88: 0 | I88: 8.87406 | J88: 20.92758 | K88: 0 | L88: 0 | M88: 40.90584 | N88: 87.89623
A89: 2201 | B89: Воды, включая природные или искусственные минеральные, газированные, без добавления сахара или других подслащивающих или вкусо-ароматических веществ; лед и снег | C89: 0 | D89: 0 | E89: 45.36 | F89: 13.39511 | G89: 0 | H89: 0 | I89: 12.6 | J89: 2.41968 | K89: 0 | L89: 0 | M89: 11.088 | N89: 3.28632
A90: 2202 | B90: Воды, включая минеральные и газированные, содержащие добавки сахара или других подслащивающих или вкусо-ароматических веществ, и прочие безалкогольные напитки, за исключением фруктовых или овощных соков товарной позиции 2009 | C90: 0 | D90: 0 | E90: 1985.499 | F90: 662.68037 | G90: 0 | H90: 0 | I90: 498.5211 | J90: 126.18495 | K90: 0 | L90: 0 | M90: 472.99664 | N90: 141.67809
A91: 2203 | B91: Пиво солодовое | C91: 0 | D91: 0 | E91: 249.7232 | F91: 153.36659 | G91: 0 | H91: 0 | I91: 72.7408 | J91: 31.69764 | K91: 0 | L91: 0 | M91: 21.9 | N91: 12.69801
A92: 2204 | B92: Вина виноградные натуральные, включая крепленые; сусло виноградное, кроме указанного в товарной позиции 2009 | C92: - | D92: - | E92: - | F92: - | G92: - | H92: - | I92: - | J92: - | K92: - | L92: - | M92: - | N92: -
A93: 2205 | B93: Вермуты и виноградные натуральные вина прочие с добавлением растительных или ароматических веществ | C93: - | D93: - | E93: - | F93: - | G93: - | H93: - | I93: - | J93: - | K93: - | L93: - | M93: - | N93: -
A94: 2206 | B94: Прочие напитки сброженные (сидр яблочный, перри [сидр грушевый], напиток медовый); смеси из сброженных напитков и смеси сброженных напитков и безалкогольных напитков, в другом месте не поименованные | C94: - | D94: - | E94: - | F94: - | G94: - | H94: - | I94: - | J94: - | K94: - | L94: - | M94: - | N94: -
A95: 2207 | B95: Спирт этиловый неденатурированный с концентрацией спирта 80 об.% или более; этиловый спирт и прочие спиртовые настойки, денатурированные, любой концентрации | C95: - | D95: - | E95: - | F95: - | G95: - | H95: - | I95: - | J95: - | K95: - | L95: - | M95: - | N95: -
A96: 2208 | B96: Спирт этиловый неденатурированный с концентрацией спирта менее 80 об.%; спиртовые настойки, ликеры и прочие спиртные напитки | C96: - | D96: - | E96: - | F96: - | G96: - | H96: - | I96: - | J96: - | K96: - | L96: - | M96: - | N96: -
A97: 2209 | B97: Уксус и его заменители, полученные из уксусной кислоты | C97: 0 | D97: 0 | E97: 59.00345 | F97: 56.76048 | G97: 0 | H97: 0 | I97: 3.86345 | J97: 2.71683 | K97: 0 | L97: 0 | M97: 9.826 | N97: 8.82136
A98: 2301 | B98: Мука тонкого и грубого помола и гранулы из мяса или мясных субпродуктов, рыбы или ракообразных, моллюсков или прочих водных беспозвоночных, непригодные для употребления в пищу; шкварки | C98: 0 | D98: 0 | E98: 40.02 | F98: 80.181 | G98: - | H98: - | I98: - | J98: - | K98: - | L98: - | M98: - | N98: -
A99: 2302 | B99: Отруби, высевки, месятки и прочие остатки от просеивания, помола или других способов переработки зерна злаков или бобовых культур, негранулированные или гранулированные | C99: 3359.62 | D99: 237.133 | E99: 7535.222 | F99: 2245.7969 | G99: 476 | H99: 33.32 | I99: 1533.719 | J99: 473.14392 | K99: 245 | L99: 53.41 | M99: 2562.318 | N99: 560.656
A100: 2303 | B100: Остатки от производства крахмала и аналогичные остатки, свекловичный жом, багасса, или жом сахарного тростника, и прочие отходы производства сахара, барда и прочие отходы пивоварения или винокурения, негранулированные или гранулированные | C100: - | D100: - | E100: - | F100: - | G100: - | H100: - | I100: - | J100: - | K100: - | L100: - | M100: - | N100: -
A101: 2304 | B101: Жмыхи и другие твердые отходы, получаемые при извлечении соевого масла, немолотые или молотые,негранулированные или гранулированные | C101: - | D101: - | E101: - | F101: - | G101: - | H101: - | I101: - | J101: - | K101: 0 | L101: 0 | M101: 336.55 | N101: 177.32
...

Sheet Ақмола
A1: Экспорт и импорт сельскохозяйственной переработанной продукции
A2: Акмолинская
A4: ТНВЭД ЕАЭС | B4: Наименование товара | C4: 2015 | G4: 2016 | K4: 2017 | O4: 2018 | S4: 2019 | W4: 2020 | AA4: 2021 | AE4: 2022* | AI4: январь-март 2022 года* | AM4: январь-март 2023 года*
C5: экспорт | E5: импорт | G5: экспорт | I5: импорт | K5: экспорт | M5: импорт | O5: экспорт | Q5: импорт | S5: экспорт | U5: импорт | W5: экспорт | Y5: импорт | AA5: экспорт | AC5: импорт | AE5: экспорт | AG5: импорт | AI5: экспорт | AK5: импорт | AM5: экспорт | AO5: импорт
C6: тонн | D6: тыс. долларов США | E6: тонн | F6: тыс. долларов США | G6: тонн | H6: тыс. долларов США | I6: тонн | J6: тыс. долларов США | K6: тонн | L6: тыс. долларов США | M6: тонн | N6: тыс. долларов США | O6: тонн | P6: тыс. долларов США | Q6: тонн | R6: тыс. долларов США | S6: тонн | T6: тыс. долларов США | U6: тонн | V6: тыс. долларов США | W6: тонн | X6: тыс. долларов США | Y6: тонн | Z6: тыс. долларов США | AA6: тонн | AB6: тыс. долларов США | AC6: тонн | AD6: тыс. долларов США | AE6: тонн | AF6: тыс. долларов США | AG6: тонн | AH6: тыс. долларов США | AI6: тонн | AJ6: тыс. долларов США | AK6: тонн | AL6: тыс. долларов США | AM6: тонн | AN6: тыс. долларов США | AO6: тонн | AP6: тыс. долларов США
B7: Всего | C7: 147604.69 | D7: 40089.345 | E7: 29969.36 | F7: 42832.31 | G7: 213384.73 | H7: 46332.759 | I7: 31718.788 | J7: 37350.424 | K7: 219157.99 | L7: 42659.467 | M7: 28096.016 | N7: 39997.876 | O7: 226083.76 | P7: 46608.978 | Q7: 27883.866 | R7: 39338.037 | S7: 168080.06 | T7: 38575.075 | U7: 29878.553 | V7: 41420.866 | W7: 168846.73 | X7: 48265.91 | Y7: 31889.992 | Z7: 42492.549 | AA7: 79278.282 | AB7: 46243.608 | AC7: 49542.87 | AD7: 61271.79 | AE7: =SUM(AE8:AE120) -> 132619.57 | AF7: =SUM(AF8:AF120) -> 55172.952 | AG7: =SUM(AG8:AG120) -> 32792.945 | AH7: =SUM(AH8:AH120) -> 61094.868 | AI7: =SUM(AI8:AI120) -> 27854.131 | AJ7: =SUM(AJ8:AJ120) -> 10885.15 | AK7: =SUM(AK8:AK120) -> 6033.3482 | AL7: =SUM(AL8:AL120) -> 9866.8495 | ... AP7: =SUM(AP8:AP120) -> 13025.895
A8: 0206 | B8: Пищевые субпродукты крупного рогатого скота, свиней, овец, коз, лошадей, ослов, мулов или лошаков, свежие, охлажденные или замороженные | C8: 5.88048 | D8: 19.62714 | E8: 1.99907 | F8: 1.587 | G8: 9.99789 | H8: 27.57129 | I8: 0 | J8: 0 | K8: 8.48461 | L8: 26.819 | M8: 12.531 | N8: 7.64747 | O8: 8.3 | P8: 1.15237 | Q8: 92.95047 | R8: 103.69832 | S8: 1.4957 | T8: 7.12314 | U8: 18.316 | V8: 14.11345 | W8: 0 | X8: 0 | Y8: 19.718 | Z8: 5.1936 | AA8: 0.60455 | AB8: 2.62016 | AE8: 2.8899 | AF8: 35.86142 | AG8: 3.77274 | AH8: 5.88453 | AI8: 0.12348 | AJ8: 1.06056 | AK8: 3.355 | AL8: 1.6556 | AM8: 2.44659 | AN8: 20.87902 | AO8: 0 | AP8: 0
A9: 0207 | B9: Мясо и пищевые субпродукты домашней птицы, указанной в товарной позиции 0105, свежие, охлажденные или замороженные | C9: 958.41202 | D9: 864.2464 | E9: 3199.7628 | F9: 2870.1691 | G9: 1208.9304 | H9: 891.99284 | I9: 2210.9624 | J9: 1978.859 | K9: 266.76201 | L9: 206.77091 | M9: 1987.0028 | N9: 1908.116 | O9: 708.82975 | P9: 1262.1234 | Q9: 1754.7523 | R9: 1930.4249 | S9: 438.01412 | T9: 310.99107 | U9: 3131.0518 | V9: 2724.5636 | W9: 1709.2053 | X9: 2003.305 | Y9: 1780.4736 | Z9: 1630.3083 | AA9: 11366.982 | AB9: 18212.141 | AC9: 2618.2953 | AD9: 2336.7471 | AE9: 309.00702 | AF9: 226.29768 | AG9: 485.65483 | AH9: 810.51848 | AI9: 20 | AJ9: 14.393 | AK9: 189.66361 | AL9: 235.58452 | AM9: 137.00223 | AN9: 93.43774 | AO9: 106.36835 | AP9: 205.07586
A10: 0209 | B10: Свиной жир, отделенный от тощего мяса, и жир домашней птицы, не вытопленные или не извлеченные другим способом, свежие, охлажденные, мороженые, соленые, в рассоле, сушеные или копченые | C10: 189.11255 | D10: 209.25151 | E10: 0 | F10: 0 | G10: 232.08 | H10: 264.707 | I10: 0 | J10: 0 | K10: 235.305 | L10: 358.575 | M10: 0 | N10: 0 | O10: 397.841 | P10: 371.56776 | Q10: 0 | R10: 0 | S10: 357.412 | T10: 270.85785 | U10: 0 | V10: 0 | W10: 196.16 | X10: 143.98286 | Y10: 12.77758 | Z10: 16.026 | AA10: 92.489 | AB10: 114.06985 | AE10: - | AF10: - | AG10: - | AH10: - | AI10: - | AJ10: - | AK10: - | AL10: - | AM10: - | AN10: - | AO10: - | AP10: -
A11: 0210 | B11: Мясо и пищевые мясные субпродукты, соленые, в рассоле, сушеные или копченые; пищевая мука тонкого и грубого помола из мяса или мясных субпродуктов | C11: - | D11: - | E11: - | F11: - | G11: - | H11: - | I11: - | J11: - | K11: 0 | L11: 0 | M11: 4.00439 | N11: 5.957 | O11: - | P11: - | Q11: - | R11: - | S11: 0.48 | T11: 0.25263 | U11: 0 | V11: 0 | W11: - | X11: - | Y11: - | Z11: - | AE11: 0 | AF11: 0 | AG11: 3.60765 | AH11: 43.00324 | AI11: - | AJ11: - | AK11: - | AL11: - | AM11: - | AN11: - | AO11: - | AP11: -
A12: 0304 | B12: Филе рыбное и прочее мясо рыбы (включая фарш), свежие, охлажденные или мороженые | C12: 0 | D12: 0 | E12: 0.03 | F12: 0.055 | G12: 0 | H12: 0 | I12: 1.66 | J12: 3.249 | K12: 0 | L12: 0 | M12: 1.26034 | N12: 3.35314 | O12: 16.74 | P12: 117.74173 | Q12: 5.0019 | R12: 13.81322 | S12: 0 | T12: 0 | U12: 52.6835 | V12: 129.57191 | W12: 14.04 | X12: 95.07696 | Y12: 0.28 | Z12: 0.3604 | AC12: 0.6171 | AD12: 1.74075 | AE12: 0 | AF12: 0 | AG12: 0.25 | AH12: 1.45981 | AI12: 0 | AJ12: 0 | AK12: 0.05 | AL12: 0.234 | AM12: 0 | AN12: 0 | AO12: 0.129 | AP12: 0.39367
A13: 0305 | B13: Рыба сушеная, соленая или в рассоле; рыба горячего или холодного копчения; рыбная мука тонкого и грубого помола и гранулы из рыбы, пригодные для употребления в пищу | C13: 0 | D13: 0 | E13: 6.0928 | F13: 79.311 | G13: 0 | H13: 0 | I13: 13.3483 | J13: 74.89973 | K13: 0 | L13: 0 | M13: 7.8891 | N13: 79.026 | O13: 0 | P13: 0 | Q13: 34.9163 | R13: 103.64948 | S13: 0.5 | T13: 1.651 | U13: 98.43902 | V13: 195.2165 | W13: 0 | X13: 0 | Y13: 14.39084 | Z13: 77.57878 | AC13: 10.33971 | AD13: 95.93926 | AE13: 0 | AF13: 0 | AG13: 10.51934 | AH13: 100.48697 | AI13: 0 | AJ13: 0 | AK13: 2.5614 | AL13: 16.372 | AM13: 0 | AN13: 0 | AO13: 3.36348 | AP13: 29.41386
A14: 0401 | B14: Молоко и сливки, несгущенные и без добавления сахара или других подслащивающих веществ | C14: 2085.646 | D14: 829.68364 | E14: 239.22928 | F14: 153.34836 | G14: 4458.4997 | H14: 1778.3195 | I14: 186.55713 | J14: 64.76867 | K14: 2758.5394 | L14: 1359.8058 | M14: 6.54713 | N14: 7.98689 | O14: 5087.9434 | P14: 1790.0976 | Q14: 4.18833 | R14: 5.997 | S14: 6006.9416 | T14: 2049.8923 | U14: 2.90007 | V14: 2.77949 | W14: 3813.831 | X14: 1858.2404 | Y14: 35.23181 | Z14: 87.44385 | AA14: 4340.4584 | AB14: 1974.2472 | AC14: 38.7001 | AD14: 31.70865 | AE14: 1506.4912 | AF14: 598.69343 | AG14: 34.67211 | AH14: 36.23309 | AI14: 62.4912 | AJ14: 24.74268 | AK14: 8.98991 | AL14: 6.07746 | AM14: 168 | AN14: 75.9615 | AO14: 17.20088 | AP14: 23.14353
A15: 0402 | B15: Молоко и сливки, сгущенные или с добавлением сахара или других подслащивающих веществ | C15: 0 | D15: 0 | E15: 1367.5892 | F15: 2356.3507 | G15: 49.625 | H15: 123.881 | I15: 692.928 | J15: 1461.1961 | K15: 0 | L15: 0 | M15: 83.57892 | N15: 145.96395 | O15: 0 | P15: 0 | Q15: 26.57334 | R15: 35.09354 | S15: 0 | T15: 0 | U15: 28.45626 | V15: 44.29715 | W15: 95.374 | X15: 171.30207 | Y15: 271.30596 | Z15: 745.09864 | AC15: 305.53716 | AD15: 847.36117 | AE15: 0 | AF15: 0 | AG15: 217.71022 | AH15: 737.42039 | AI15: 0 | AJ15: 0 | AK15: 36.47702 | AL15: 84.15561 | AM15: 0 | AN15: 0 | AO15: 61.41636 | AP15: 182.81333
A16: 0403 | B16: Пахта, свернувшиеся молоко и сливки, йогурт, кефир и прочие ферментированные или сквашенные молоко и сливки, сгущенные или несгущенные, с добавлением или без добавления сахара или других подслащивающих веществ, со вкусо-ароматическими добавками или без | C16: 0 | D16: 0 | E16: 29.6053 | F16: 24.27569 | G16: 0 | H16: 0 | I16: 3.563 | J16: 2.549 | K16: 0 | L16: 0 | M16: 4.326 | N16: 3.642 | O16: 0 | P16: 0 | Q16: 2.3258 | R16: 1.925 | S16: 0 | T16: 0 | U16: 0.101 | V16: 0.15826 | W16: 0 | X16: 0 | Y16: 8.2298 | Z16: 9.54616 | AC16: 50.02733 | AD16: 38.54221 | AE16: 0 | AF16: 0 | AG16: 18.40315 | AH16: 27.49279 | AI16: 0 | AJ16: 0 | AK16: 4.698 | AL16: 7.51315 | AM16: 0 | AN16: 0 | AO16: 3.0612 | AP16: 3.30896
A17: 0404 | B17: Молочная сыворотка, сгущенная или несгущенная, с добавлением или без добавления сахара или других подслащивающих веществ; продукты из натуральных компонентов молока, с добавлением или без добавления сахара или других подслащивающих веществ, в другом мес | C17: 0 | D17: 0 | E17: 620.072 | F17: 557.79281 | G17: 0 | H17: 0 | I17: 920 | J17: 357.70334 | K17: 0 | L17: 0 | M17: 0.2536 | N17: 0.289 | O17: 0 | P17: 0 | Q17: 20.4828 | R17: 19.76343 | S17: 0 | T17: 0 | U17: 113.79907 | V17: 128.65076 | W17: 0 | X17: 0 | Y17: 96.275 | Z17: 94.787 | AC17: 291.718 | AD17: 299.99766 | AE17: 0 | AF17: 0 | AG17: 202.405 | AH17: 253.41444 | AI17: 0 | AJ17: 0 | AK17: 41.555 | AL17: 45.88905 | AM17: 0 | AN17: 0 | AO17: 49.7 | AP17: 32.31558
A18: 0405 | B18: Сливочное масло и прочие жиры и масла, изготовленные из молока; молочные пасты | C18: 0 | D18: 0 | E18: 305.1506 | F18: 615.0904 | G18: 0 | H18: 0 | I18: 94.1885 | J18: 189.3096 | K18: 24.5 | L18: 92.24729 | M18: 19.26165 | N18: 45.09159 | O18: 36.832 | P18: 114.83489 | Q18: 19.8293 | R18: 37.38545 | S18: 61.8 | T18: 238.53285 | U18: 153.863 | V18: 334.28466 | W18: 0.95 | X18: 2.581 | Y18: 243.9279 | Z18: 498.66641 | AA18: 115.352 | AB18: 358.39418 | AC18: 311.01224 | AD18: 877.02083 | AE18: 78.295 | AF18: 231.47648 | AG18: 185.80688 | AH18: 626.6306 | AI18: 33.045 | AJ18: 82.45042 | AK18: 54.2795 | AL18: 129.03401 | AM18: 15.32 | AN18: 43.62954 | AO18: 5.61238 | AP18: 17.54237
A19: 0406 | B19: Сыры и творог | C19: 120 | D19: 178.648 | E19: 206.95084 | F19: 398.23249 | G19: 324.175 | H19: 538.1417 | I19: 182.96749 | J19: 236.75325 | K19: 342.7 | L19: 603.636 | M19: 109.2837 | N19: 211.05986 | O19: 521.19644 | P19: 811.4303 | Q19: 119.43877 | R19: 255.27895 | S19: 549.33195 | T19: 734.68366 | U19: 446.14717 | V19: 1777.2071 | W19: 612.19 | X19: 810.23078 | Y19: 321.63842 | Z19: 1313.9192 | AA19: 635.859 | AB19: 961.85261 | AC19: 549.03565 | AD19: 2089.2936 | AE19: 340 | AF19: 793.45726 | AG19: 585.43965 | AH19: 3092.2763 | AI19: 40 | AJ19: 67.14154 | AK19: 129.06518 | AL19: 597.46659 | AM19: 44.141 | AN19: 112.66887 | AO19: 123.46619 | AP19: 573.57722
A20: 0711 | B20: Овощи консервированные для кратковременного хранения (например, диоксидом серы, в рассоле, сернистой воде или в другом временно консервирующем растворе), но в таком виде непригодные для непосредственного употребления в пищу | C20: - | D20: - | E20: - | F20: - | G20: - | H20: - | I20: - | J20: - | K20: 0 | L20: 0 | M20: 0.051 | N20: 0.05861 | O20: - | P20: - | Q20: - | R20: - | S20: - | T20: - | U20: - | V20: - | W20: 43 | X20: 7.36336 | Y20: 5.4 | Z20: 0.9042 | AE20: 0.245 | AF20: 1.61754 | AG20: 0 | AH20: 0 | AI20: 0.095 | AJ20: 0.11722 | AK20: 0 | AL20: 0 | AM20: - | AN20: - | AO20: - | AP20: -
A21: 0712 | B21: Овощи сушеные, целые, нарезанные кусками, ломтиками, измельченные или в виде порошка, но не подвергнутые дальнейшей обработке | C21: 0 | D21: 0 | E21: 1.293 | F21: 1.54033 | G21: - | H21: - | I21: - | J21: - | K21: 0 | L21: 0 | M21: 0.18529 | N21: 1.376 | O21: 0 | P21: 0 | Q21: 0.61498 | R21: 0.24 | S21: 0 | T21: 0 | U21: 0.97953 | V21: 6.04134 | W21: 0 | X21: 0 | Y21: 0.98187 | Z21: 5.34664 | AC21: 1.13926 | AD21: 6.65875 | AE21: 0 | AF21: 0 | AG21: 1.37518 | AH21: 11.44969 | AI21: 0 | AJ21: 0 | AK21: 0.36573 | AL21: 2.5423 | AM21: 0 | AN21: 0 | AO21: 0.24959 | AP21: 2.35639
A22: 0812 | B22: Фрукты и орехи, консервированные для кратковременного хранения (например, диоксидом серы, в рассоле, сернистой воде или в другом временно консервирующем растворе), но в таком виде непригодные для непосредственного употребления в пищу | C22: - | D22: - | E22: - | F22: - | G22: - | H22: - | I22: - | J22: - | K22: - | L22: - | M22: - | N22: - | O22: - | P22: - | Q22: - | R22: - | S22: - | T22: - | U22: - | V22: - | W22: - | X22: - | Y22: - | Z22: - | AE22: 0 | AF22: 0 | AG22: 0.8 | AH22: 1.586 | AI22: - | AJ22: - | AK22: - | AL22: - | AM22: 0 | AN22: 0 | AO22: 0.95 | AP22: 1.975
A23: 0814 | B23: Кожура цитрусовых плодов или корки дынь (включая корки арбузов), свежие, морож.,сушеные или консервир. Для кратк. Хран. В рассоле, сернистой воде или в др.временно консервирующем растворе | C23: 0 | D23: 0 | E23: 0.327 | F23: 0.131 | G23: - | H23: - | I23: - | J23: - | K23: - | L23: - | M23: - | N23: - | O23: - | P23: - | Q23: - | R23: - | S23: - | T23: - | U23: - | V23: - | W23: - | X23: - | Y23: - | Z23: - | AE23: - | AF23: - | AG23: - | AH23: - | AI23: - | AJ23: - | AK23: - | AL23: - | AM23: - | AN23: - | AO23: - | AP23: -
A24: 0901 | B24: Кофе, жареный или нежареный, с кофеином или без кофеина; кофейная шелуха и оболочки зерен кофе; заменители кофе, содержащие кофе в любой пропорции | C24: - | D24: - | E24: - | F24: - | G24: 0 | H24: 0 | I24: 0.006 | J24: 0.08494 | K24: 0 | L24: 0 | M24: 0.1656 | N24: 1.7005 | O24: 0 | P24: 0 | Q24: 0.62714 | R24: 6.02143 | S24: 0 | T24: 0 | U24: 1.28821 | V24: 10.04769 | W24: 0 | X24: 0 | Y24: 1.77941 | Z24: 9.80482 | AC24: 1.0542 | AD24: 6.88952 | AE24: 0 | AF24: 0 | AG24: 0.61939 | AH24: 5.76251 | AI24: 0 | AJ24: 0 | AK24: 0.134 | AL24: 0.90558 | AM24: 0 | AN24: 0 | AO24: 0.105 | AP24: 0.80721
A25: 0902 | B25: Чай со вкусо-ароматическими добавками или без них | C25: 0 | D25: 0 | E25: 0.676 | F25: 12.103 | G25: 0 | H25: 0 | I25: 30.10506 | J25: 72.6338 | K25: 0 | L25: 0 | M25: 115.43503 | N25: 45.327 | O25: 0 | P25: 0 | Q25: 7.0094 | R25: 57.01381 | S25: 0 | T25: 0 | U25: 14.43045 | V25: 84.76791 | W25: 0 | X25: 0 | Y25: 11.27124 | Z25: 60.50455 | AC25: 14.74293 | AD25: 85.32049 | AE25: 0 | AF25: 0 | AG25: 24.28722 | AH25: 125.53366 | AI25: 0 | AJ25: 0 | AK25: 8.28362 | AL25: 33.22908 | AM25: 0 | AN25: 0 | AO25: 15.28209 | AP25: 84.29002
A26: 0903 | B26: Мате (парагвайский чай) | C26: - | D26: - | E26: - | F26: - | G26: - | H26: - | I26: - | J26: - | K26: - | L26: - | M26: - | N26: - | O26: - | P26: - | Q26: - | R26: - | S26: - | T26: - | U26: - | V26: - | W26: - | X26: - | Y26: - | Z26: - | AE26: - | AF26: - | AG26: - | AH26: - | AI26: - | AJ26: - | AK26: - | AL26: - | AM26: - | AN26: - | AO26: - | AP26: -
A27: 0905 | B27: Ваниль | C27: - | D27: - | E27: - | F27: - | G27: - | H27: - | I27: - | J27: - | K27: - | L27: - | M27: - | N27: - | O27: - | P27: - | Q27: - | R27: - | S27: - | T27: - | U27: - | V27: - | W27: - | X27: - | Y27: - | Z27: - | AE27: - | AF27: - | AG27: - | AH27: - | AI27: - | AJ27: - | AK27: - | AL27: - | AM27: - | AN27: - | AO27: - | AP27: -
A28: 1101 | B28: Мука пшеничная или пшенично-ржаная | C28: 131128.04 | D28: 36595.372 | E28: 75.062 | F28: 28.613 | G28: 175369.43 | H28: 39807.357 | I28: 36.072 | J28: 11.41774 | K28: 192176.65 | L28: 36156.901 | M28: 25.7553 | N28: 10.5329 | O28: 193768.25 | P28: 36342.972 | Q28: 15.84 | R28: 3.20279 | S28: 119936.38 | T28: 27941.943 | U28: 31.61 | V28: 9.54397 | W28: 122793.5 | X28: 34927.694 | Y28: 73.204 | Z28: 26.51631 | AA28: 46373.3 | AB28: 14089.194 | AC28: 96.01326 | AD28: 36.45472 | AE28: 94323.906 | AF28: 37627.063 | AG28: 601.13832 | AH28: 278.29992 | AI28: 20917.052 | AJ28: 8064.7459 | AK28: 33.42332 | AL28: 13.37478 | AM28: 16480.6 | AN28: 5347.591 | AO28: 29.324 | AP28: 14.92488
A29: 1102 | B29: Мука из зерна прочих злаков, кроме пшеничной или пшенично-ржаной | C29: - | D29: - | E29: - | F29: - | G29: 0 | H29: 0 | I29: 1.552 | J29: 1.886 | K29: 0 | L29: 0 | M29: 39.7 | N29: 22.718 | O29: 0 | P29: 0 | Q29: 65.025 | R29: 28.804 | S29: 0 | T29: 0 | U29: 19.98 | V29: 4.996 | W29: 20 | X29: 2.62884 | Y29: 200.075 | Z29: 31.82311 | AC29: 100.025 | AD29: 15.23161 | AE29: 0 | AF29: 0 | AG29: 60.325 | AH29: 23.28885 | AI29: 0 | AJ29: 0 | AK29: 20 | AL29: 2.677 | AM29: - | AN29: - | AO29: - | AP29: -
A30: 1103 | B30: Крупа, мука грубого помола и гранулы из зерна злаков | C30: 791 | D30: 181.506 | E30: 25.08472 | F30: 16.96071 | G30: 1835.6 | H30: 292.01248 | I30: 15.7273 | J30: 8.31627 | K30: 1353 | L30: 263.021 | M30: 8.6087 | N30: 5.45417 | O30: 4082.9 | P30: 1001.0041 | Q30: 145.2282 | R30: 37.65223 | S30: 3335.5 | T30: 856.4392 | U30: 70.83 | V30: 45.7276 | W30: 222 | X30: 120.18 | Y30: 3.5967 | Z30: 2.03891 | AA30: 203.2 | AB30: 37.592 | AC30: 1.64331 | AD30: 1.09603 | AE30: 691 | AF30: 774.09736 | AG30: 13.0999 | AH30: 12.61449 | AI30: 0 | AJ30: 0 | AK30: 0.2 | AL30: 0.09927 | AM30: 0 | AN30: 0 | AO30: 19.1152 | AP30: 11.23309
A31: 1104 | B31: Зерно злаков, обработанное другими способами (например, шелушеное, плюще?ное, переработанное в хлопья, обрушенное, в виде сечки или дробленое), кроме риса товарной позиции 1006; зародыши зерна злаков, целые, плющеные, в виде хлопьев или молотые | C31: 0 | D31: 0 | E31: 176.982 | F31: 115.9853 | G31: 0 | H31: 0 | I31: 205.3905 | J31: 115.00524 | K31: 0 | L31: 0 | M31: 119.287 | N31: 80.11984 | O31: 1869.2 | P31: 307.5906 | Q31: 119.98454 | R31: 71.69305 | S31: 38 | T31: 7.6 | U31: 156.02 | V31: 91.00253 | W31: 137 | X31: 63.88988 | Y31: 180.65654 | Z31: 114.56411 | AC31: 130.95372 | AD31: 93.29057 | AE31: 696 | AF31: 170.1 | AG31: 279.14954 | AH31: 317.38489 | AI31: 0 | AJ31: 0 | AK31: 32.1265 | AL31: 21.85811 | AM31: 329.1 | AN31: 325.79111 | AO31: 51.10196 | AP31: 43.97103
A32: 1105 | B32: Мука тонкого и грубого помола, порошок, хлопья, гранулы картофельные | C32: 0 | D32: 0 | E32: 2.766 | F32: 5.05316 | G32: - | H32: - | I32: - | J32: - | K32: 0 | L32: 0 | M32: 0.002 | N32: 0.011 | O32: - | P32: - | Q32: - | R32: - | S32: - | T32: - | U32: - | V32: - | W32: 0 | X32: 0 | Y32: 0.009 | Z32: 0.045 | AE32: - | AF32: - | AG32: - | AH32: - | AI32: - | AJ32: - | AK32: - | AL32: - | AM32: - | AN32: - | AO32: - | AP32: -
A33: 1106 | B33: Мука тонкого и грубого помола и порошок из сушеных бобовых овощей товарной позиции 0713, из сердцевины саговой пальмы, из корнеплодов или клубнеплодов товарной позиции 0714 или продуктов группы 08 | C33: - | D33: - | E33: - | F33: - | G33: - | H33: - | I33: - | J33: - | K33: - | L33: - | M33: - | N33: - | O33: - | P33: - | Q33: - | R33: - | S33: - | T33: - | U33: - | V33: - | W33: 0 | X33: 0 | Y33: 0.005 | Z33: 0.03316 | AC33: 0.013 | AD33: 0.05369 | AE33: 0 | AF33: 0 | AG33: 0.0098 | AH33: 0.04824 | AI33: 0 | AJ33: 0 | AK33: 0.003 | AL33: 0.01226 | AM33: 0 | AN33: 0 | AO33: 0.015 | AP33: 0.15269
A34: 1107 | B34: Солод, поджаренный или неподжаренный | C34: - | D34: - | E34: - | F34: - | G34: - | H34: - | I34: - | J34: - | K34: 0 | L34: 0 | M34: 0.9 | N34: 0.78814 | O34: 0 | P34: 0 | Q34: 20 | R34: 8.803 | S34: 0 | T34: 0 | U34: 6 | V34: 6.74989 | W34: 0 | X34: 0 | Y34: 20 | Z34: 9.1347 | AC34: 20 | AD34: 9.45447 | AE34: 0 | AF34: 0 | AG34: 7.02 | AH34: 8.22028 | AI34: 0 | AJ34: 0 | AK34: 0.4 | AL34: 0.32153 | AM34: 0 | AN34: 0 | AO34: 2 | AP34: 1.05569
A35: 1108 | B35: Крахмал; инулин | C35: 0 | D35: 0 | E35: 272.364 | F35: 190.844 | G35: 0 | H35: 0 | I35: 530.12 | J35: 333.163 | K35: 0 | L35: 0 | M35: 358.65735 | N35: 261.96596 | O35: 0 | P35: 0 | Q35: 393.01615 | R35: 290.71086 | S35: 0 | T35: 0 | U35: 292.81275 | V35: 238.11815 | W35: 0 | X35: 0 | Y35: 462.66926 | Z35: 364.71402 | AC35: 348.21994 | AD35: 311.99027 | AE35: 0 | AF35: 0 | AG35: 334.98014 | AH35: 415.93638 | AI35: 0 | AJ35: 0 | AK35: 67.57704 | AL35: 78.60624 | AM35: 0 | AN35: 0 | AO35: 87.61274 | AP35: 97.1199
A36: 1109 | B36: Клейковина пшеничная, сухая или сырая | C36: - | D36: - | E36: - | F36: - | G36: - | H36: - | I36: - | J36: - | K36: - | L36: - | M36: - | N36: - | O36: - | P36: - | Q36: - | R36: - | S36: - | T36: - | U36: - | V36: - | W36: - | X36: - | Y36: - | Z36: - | AE36: - | AF36: - | AG36: - | AH36: - | AI36: - | AJ36: - | AK36: - | AL36: - | AM36: - | AN36: - | AO36: - | AP36: -
A37: 1208 | B37: Мука тонкого и грубого помола из семян или плодов масличных культур, кроме семян горчицы | C37: - | D37: - | E37: - | F37: - | G37: 0 | H37: 0 | I37: 387 | J37: 79.25174 | K37: 0 | L37: 0 | M37: 930.03 | N37: 221.4925 | O37: 0 | P37: 0 | Q37: 695 | R37: 151.2021 | S37: - | T37: - | U37: - | V37: - | W37: 0 | X37: 0 | Y37: 19.74 | Z37: 12.82335 | AC37: 0.00025 | AD37: 0.0029 | AE37: 0 | AF37: 0 | AG37: 0.15 | AH37: 0.43434 | AI37: - | AJ37: - | AK37: - | AL37: - | AM37: 0 | AN37: 0 | AO37: 0.22 | AP37: 0.42805
A38: 1501 | B38: Жир свиной (включая лярд) и жир домашней птицы, кроме жира товарной позиции 0209 или 1503 | C38: 0 | D38: 0 | E38: 1.5274 | F38: 4.996 | G38: - | H38: - | I38: - | J38: - | K38: - | L38: - | M38: - | N38: - | O38: - | P38: - | Q38: - | R38: - | S38: - | T38: - | U38: - | V38: - | W38: 0 | X38: 0 | Y38: 5.22 | Z38: 3.654 | AE38: - | AF38: - | AG38: - | AH38: - | AI38: - | AJ38: - | AK38: - | AL38: - | AM38: - | AN38: - | AO38: - | AP38: -
A39: 1502 | B39: Жир крупного рогатого скота, овец или коз, кроме жира товарной позиции 1503 | C39: - | D39: - | E39: - | F39: - | G39: 0 | H39: 0 | I39: 16 | J39: 4.724 | K39: - | L39: - | M39: - | N39: - | O39: 0 | P39: 0 | Q39: 5 | R39: 1.3 | S39: - | T39: - | U39: - | V39: - | W39: 339.032 | X39: 463.47586 | Y39: 54.796 | Z39: 64.00552 | AA39: 168.78284 | AB39: 212.60915 | AE39: 33.64114 | AF39: 54.65599 | AG39: 15.9795 | AH39: 27.071 | AI39: 0 | AJ39: 0 | AK39: 11.2795 | AL39: 16.387 | AM39: 0 | AN39: 0 | AO39: 40 | AP39: 36.19
A40: 1503 | B40: Лярд-стеарин, лярд-ойль, олеостеарин (олеомаргарин) и животное масло (технический маргарин), неэмульгированные или несмешанные, или не приготовленные каким-либо иным способом | C40: 0 | D40: 0 | E40: 0.05 | F40: 0.342 | G40: 0 | H40: 0 | I40: 0.09 | J40: 0.12101 | K40: - | L40: - | M40: - | N40: - | O40: - | P40: - | Q40: - | R40: - | S40: - | T40: - | U40: - | V40: - | W40: - | X40: - | Y40: - | Z40: - | AE40: - | AF40: - | AG40: - | AH40: - | AI40: - | AJ40: - | AK40: - | AL40: - | AM40: - | AN40: - | AO40: - | AP40: -
A41: 1504 | B41: Жиры, масла и их фракции, из рыбы или морских млекопитающих, нерафинированные или рафинированные, но без изменения химического состава | C41: 0 | D41: 0 | E41: 0.1 | F41: 0.23106 | G41: - | H41: - | I41: - | J41: - | K41: - | L41: - | M41: - | N41: - | O41: - | P41: - | Q41: - | R41: - | S41: 0 | T41: 0 | U41: 0.521 | V41: 1.10082 | W41: 0 | X41: 0 | Y41: 0.9255 | Z41: 1.75715 | AC41: 0.8505 | AD41: 1.58135 | AE41: 0 | AF41: 0 | AG41: 0.949 | AH41: 2.046 | AI41: 0 | AJ41: 0 | AK41: 0.322 | AL41: 0.664 | AM41: 0 | AN41: 0 | AO41: 0.06 | AP41: 0.217
A42: 1505 | B42: Жиропот и жировые вещества, получаемые из него ( включая ланолин) | C42: - | D42: - | E42: - | F42: - | G42: - | H42: - | I42: - | J42: - | K42: - | L42: - | M42: - | N42: - | O42: - | P42: - | Q42: - | R42: - | S42: - | T42: - | U42: - | V42: - | W42: - | X42: - | Y42: - | Z42: - | AE42: - | AF42: - | AG42: - | AH42: - | AI42: - | AJ42: - | AK42: - | AL42: - | AM42: - | AN42: - | AO42: - | AP42: -
A43: 1506 | B43: Прочие жиры и масла животные и их фракции, в том числе нерафинированные или рафинированные, но без изменения их химического состава | C43: - | D43: - | E43: - | F43: - | G43: - | H43: - | I43: - | J43: - | K43: - | L43: - | M43: - | N43: - | O43: - | P43: - | Q43: - | R43: - | S43: - | T43: - | U43: - | V43: - | W43: - | X43: - | Y43: - | Z43: - | AE43: - | AF43: - | AG43: - | AH43: - | AI43: - | AJ43: - | AK43: - | AL43: - | AM43: - | AN43: - | AO43: - | AP43: -
A44: 1507 | B44: Масло соевое и его фракции, нерафинированные или рафинированные, но без изменения химического состава | C44: - | D44: - | E44: - | F44: - | G44: - | H44: - | I44: - | J44: - | K44: - | L44: - | M44: - | N44: - | O44: - | P44: - | Q44: - | R44: - | S44: 0 | T44: 0 | U44: 69.3 | V44: 168.399 | W44: - | X44: - | Y44: - | Z44: - | AE44: 387.61 | AF44: 542.654 | AG44: 0 | AH44: 0 | AI44: - | AJ44: - | AK44: - | AL44: - | AM44: - | AN44: - | AO44: - | AP44: -
A45: 1508 | B45: Масло арахисовое и его фракции, нерафинированные или рафинированные, но без изменения химического состава | C45: - | D45: - | E45: - | F45: - | G45: - | H45: - | I45: - | J45: - | K45: - | L45: - | M45: - | N45: - | O45: - | P45: - | Q45: - | R45: - | S45: - | T45: - | U45: - | V45: - | W45: - | X45: - | Y45: - | Z45: - | AE45: - | AF45: - | AG45: - | AH45: - | AI45: - | AJ45: - | AK45: - | AL45: - | AM45: - | AN45: - | AO45: - | AP45: -
A46: 1509 | B46: Масло оливковое и его фракции, нерафинированные или рафинированные, но без изменения химического состава | C46: - | D46: - | E46: - | F46: - | G46: 0 | H46: 0 | I46: 1.02 | J46: 2.263 | K46: 0 | L46: 0 | M46: 0.46074 | N46: 2.30013 | O46: 0 | P46: 0 | Q46: 0.03024 | R46: 0.38491 | S46: 0 | T46: 0 | U46: 0.05757 | V46: 1.05411 | W46: 0 | X46: 0 | Y46: 0.0112 | Z46: 0.17004 | AC46: 1.7022 | AD46: 6.0843 | AE46: 0 | AF46: 0 | AG46: 1.76063 | AH46: 8.2052 | AI46: 0 | AJ46: 0 | AK46: 0.44223 | AL46: 1.4264 | AM46: 0 | AN46: 0 | AO46: 0.46425 | AP46: 2.37087
A47: 1510 | B47: Прочие масла и их фракции, полученные только из маслин (оливок), нерафинированные или рафинированные, но без изменения их химического состава, включая смеси их с маслами из тов. Поз. N 1509 | C47: - | D47: - | E47: - | F47: - | G47: - | H47: - | I47: - | J47: - | K47: - | L47: - | M47: - | N47: - | O47: - | P47: - | Q47: - | R47: - | S47: - | T47: - | U47: - | V47: - | W47: - | X47: - | Y47: - | Z47: - | AE47: - | AF47: - | AG47: - | AH47: - | AI47: - | AJ47: - | AK47: - | AL47: - | AM47: - | AN47: - | AO47: - | AP47: -
A48: 1511 | B48: Масло пальмовое и его фракции, нерафинированные или рафинированные, но без изменения химического состава | C48: - | D48: - | E48: - | F48: - | G48: - | H48: - | I48: - | J48: - | K48: 0 | L48: 0 | M48: 0.075 | N48: 0.11411 | O48: - | P48: - | Q48: - | R48: - | S48: - | T48: - | U48: - | V48: - | W48: - | X48: - | Y48: - | Z48: - | AE48: - | AF48: - | AG48: - | AH48: - | AI48: - | AJ48: - | AK48: - | AL48: - | AM48: - | AN48: - | AO48: - | AP48: -
A49: 1512 | B49: Масло подсолнечное, сафлоровое или хлопковое и их фракции, нерафинированные или рафинированные, но без изменения химического состава | C49: 0 | D49: 0 | E49: 211.33115 | F49: 206.65151 | G49: 0 | H49: 0 | I49: 68.56 | J49: 70.05349 | K49: 165.6 | L49: 133.8618 | M49: 79.156 | N49: 46.62402 | O49: 692.3046 | P49: 450.08631 | Q49: 701.0565 | R49: 364.751 | S49: 59.8 | T49: 50.6961 | U49: 2.971 | V49: 2.44467 | W49: 459.084 | X49: 465.1847 | Y49: 47.74935 | Z49: 56.22912 | AA49: 159.372 | AB49: 139.58705 | AC49: 40.83454 | AD49: 43.80747 | AE49: 218.47 | AF49: 350.91621 | AG49: 55.17625 | AH49: 133.19051 | AI49: 0 | AJ49: 0 | AK49: 7.74476 | AL49: 11.74233 | AM49: 98 | AN49: 112.7 | AO49: 6.07658 | AP49: 9.38844
A50: 1513 | B50: Масло кокосовое (копровое), пальмоядровое или масло бабассу и их фракции, нерафинированные или рафинированные, но без изменения химического состава | C50: - | D50: - | E50: - | F50: - | G50: - | H50: - | I50: - | J50: - | K50: - | L50: - | M50: - | N50: - | O50: 0 | P50: 0 | Q50: 0.006 | R50: 0.036 | S50: - | T50: - | U50: - | V50: - | W50: 0 | X50: 0 | Y50: 0.0297 | Z50: 0.23046 | AC50: 0.01616 | AD50: 0.1792 | AE50: - | AF50: - | AG50: - | AH50: - | AI50: - | AJ50: - | AK50: - | AL50: - | AM50: - | AN50: - | AO50: - | AP50: -
A51: 1514 | B51: Масло рапсовое (из рапса, или кользы) или горчичное и их фракции, нерафинированные или рафинированные, но без изменения химического состава | C51: - | D51: - | E51: - | F51: - | G51: 0 | H51: 0 | I51: 0.142 | J51: 0.19 | K51: 0 | L51: 0 | M51: 0.298 | N51: 0.491 | O51: 0 | P51: 0 | Q51: 0.512 | R51: 0.66516 | S51: 0 | T51: 0 | U51: 0.624 | V51: 1.13 | W51: 0 | X51: 0 | Y51: 272.48625 | Z51: 229.35885 | AC51: 1.99612 | AD51: 3.31604 | AE51: 0 | AF51: 0 | AG51: 0.16149 | AH51: 0.5001 | AI51: 0 | AJ51: 0 | AK51: 0.06006 | AL51: 0.15043 | AM51: 0 | AN51: 0 | AO51: 0.01035 | AP51: 0.03559
A52: 1515 | B52: Прочие нелетучие растительные жиры, масла (включая масло жожоба) и их фракции, нерафинированные или рафинированные, но без изменения химического состава | C52: 0 | D52: 0 | E52: 2.033 | F52: 4.3777 | G52: 0 | H52: 0 | I52: 4.0528 | J52: 7.231 | K52: 0 | L52: 0 | M52: 30.70117 | N52: 62.7689 | O52: 0 | P52: 0 | Q52: 26.46765 | R52: 54.09744 | S52: 0 | T52: 0 | U52: 21.88622 | V52: 42.91137 | W52: 0 | X52: 0 | Y52: 26.00201 | Z52: 43.74179 | AC52: 27.42251 | AD52: 64.47186 | AE52: 97.75 | AF52: 134.4 | AG52: 55.52863 | AH52: 133.72158 | AI52: 0 | AJ52: 0 | AK52: 4.8601 | AL52: 13.62203 | AM52: 0 | AN52: 0 | AO52: 18.01449 | AP52: 46.66983
A53: 1516 | B53: Жиры и масла животные или растительные и их фракции, полностью или частично гидрогенизированные, переэтерифицированные, реэтерифицированные или элаидинизированные, нерафинированные или рафинированные, но не подвергнутые дальнейшей обработке | C53: - | D53: - | E53: - | F53: - | G53: 0 | H53: 0 | I53: 0.346 | J53: 0.502 | K53: - | L53: - | M53: - | N53: - | O53: - | P53: - | Q53: - | R53: - | S53: 0 | T53: 0 | U53: 0.01 | V53: 0.06884 | W53: 0 | X53: 0 | Y53: 0.25 | Z53: 0.2484 | AC53: 0.04 | AD53: 0.21196 | AE53: 0 | AF53: 0 | AG53: 0.375 | AH53: 0.49873 | AI53: 0 | AJ53: 0 | AK53: 0.375 | AL53: 0.49873 | AM53: - | AN53: - | AO53: - | AP53: -
A54: 1517 | B54: Маргарин; пригодные для употребления в пищу смеси или готовые продукты из животных или растительных жиров или масел или фракций различных жиров или масел данной группы, кроме пищевых жиров или масел или их фракций товарной позиции 1516 | C54: 0 | D54: 0 | E54: 504.41886 | F54: 1064.554 | G54: 0 | H54: 0 | I54: 689.2383 | J54: 1088.8871 | K54: 0 | L54: 0 | M54: 356.50185 | N54: 775.48599 | O54: 0 | P54: 0 | Q54: 657.4872 | R54: 991.69367 | S54: 0 | T54: 0 | U54: 1090.2815 | V54: 1810.8728 | W54: 0 | X54: 0 | Y54: 1515.1294 | Z54: 2532.5224 | AC54: 1715.6845 | AD54: 2879.1533 | AE54: 65 | AF54: 84.5 | AG54: 1671.0367 | AH54: 3872.8947 | AI54: 0 | AJ54: 0 | AK54: 356.448 | AL54: 558.26676 | AM54: 0 | AN54: 0 | AO54: 389.9649 | AP54: 837.12212
A55: 1518 | B55: Животные или растительные жиры и масла и их фракции, вареные, окисленные, дегидратированные, сульфурированные или полимеризованные, кроме товарной позиции n 1516, непищевые смеси | C55: 0 | D55: 0 | E55: 0.443 | F55: 0.414 | G55: - | H55: - | I55: - | J55: - | K55: 0 | L55: 0 | M55: 20.65495 | N55: 9.204 | O55: 0 | P55: 0 | Q55: 67.3 | R55: 26.926 | S55: 0 | T55: 0 | U55: 39.6572 | V55: 23.7143 | W55: 0 | X55: 0 | Y55: 38 | Z55: 15.524 | AC55: 87.666 | AD55: 98.521 | AE55: - | AF55: - | AG55: - | AH55: - | AI55: - | AJ55: - | AK55: - | AL55: - | AM55: 0 | AN55: 0 | AO55: 0.0005 | AP55: 0.00372
A56: 1601 | B56: Колбасы и аналогичные продукты из мяса, мясных субпродуктов или крови, пищевые продукты, изготовленные на их основе | C56: 0 | D56: 0 | E56: 3159.8513 | F56: 7541.4655 | G56: 3.89937 | H56: 10.96916 | I56: 3021.6088 | J56: 6773.6718 | K56: 0.217 | L56: 1.177 | M56: 2940.1792 | N56: 7398.1999 | O56: 0.3604 | P56: 1.83754 | Q56: 2859.3017 | R56: 7066.8887 | S56: 0.484 | T56: 1.415 | U56: 2352.5875 | V56: 6007.2216 | W56: 0 | X56: 0 | Y56: 2173.1379 | Z56: 5105.3117 | AC56: 2086.1708 | AD56: 5171.3759 | AE56: 0 | AF56: 0 | AG56: 2044.2976 | AH56: 6464.509 | AI56: 0 | AJ56: 0 | AK56: 487.92186 | AL56: 1171.9325 | AM56: 0 | AN56: 0 | AO56: 384.91476 | AP56: 1102.945
A57: 1602 | B57: Готовые или консервированные продукты из мяса, мясных субпродуктов или крови прочие | C57: 0 | D57: 0 | E57: 356.5518 | F57: 1109.555 | G57: 1.106 | H57: 3.804 | I57: 241.51327 | J57: 723.46689 | K57: 3.17635 | L57: 12.275 | M57: 212.08706 | N57: 760.64311 | O57: 80.39431 | P57: 252.4276 | Q57: 199.5763 | R57: 744.52368 | S57: 19.58125 | T57: 77.08543 | U57: 157.55042 | V57: 631.42958 | W57: 0.946 | X57: 3.17586 | Y57: 191.48106 | Z57: 598.12889 | AA57: 119.99 | AB57: 595.27294 | AC57: 181.69167 | AD57: 636.46249 | AE57: 0 | AF57: 0 | AG57: 239.05047 | AH57: 877.98438 | AI57: 0 | AJ57: 0 | AK57: 42.76941 | AL57: 148.83084 | AM57: 0 | AN57: 0 | AO57: 82.72339 | AP57: 181.30003
A58: 1603 | B58: Экстракты и соки из мяса, рыбы, ракообразных, моллюсков или прочих водных беспозвоночных | C58: - | D58: - | E58: - | F58: - | G58: - | H58: - | I58: - | J58: - | K58: - | L58: - | M58: - | N58: - | O58: - | P58: - | Q58: - | R58: - | S58: - | T58: - | U58: - | V58: - | W58: - | X58: - | Y58: - | Z58: - | AE58: - | AF58: - | AG58: - | AH58: - | AI58: - | AJ58: - | AK58: - | AL58: - | AM58: - | AN58: - | AO58: - | AP58: -
A59: 1604 | B59: Готовая или консервированная рыба; икра осетровых и ее заменители, изготовленные из икринок рыбы | C59: 0 | D59: 0 | E59: 7.9203 | F59: 36.084 | G59: 0 | H59: 0 | I59: 29.69669 | J59: 74.78905 | K59: 0 | L59: 0 | M59: 100.4564 | N59: 176.98441 | O59: 0 | P59: 0 | Q59: 75.84308 | R59: 130.08022 | S59: 0 | T59: 0 | U59: 63.0874 | V59: 92.40833 | W59: 0 | X59: 0 | Y59: 42.60607 | Z59: 62.20514 | AC59: 35.73846 | AD59: 80.12777 | AE59: 0 | AF59: 0 | AG59: 54.07483 | AH59: 168.23522 | AI59: 0 | AJ59: 0 | AK59: 9.09988 | AL59: 26.50563 | AM59: 0 | AN59: 0 | AO59: 19.18452 | AP59: 28.83976
A60: 1605 | B60: Готовые или консервированные ракообразные, моллюски и прочие водные беспозвоночные | C60: 0 | D60: 0 | E60: 0.023 | F60: 0.056 | G60: 0 | H60: 0 | I60: 0.59805 | J60: 1.0226 | K60: 0 | L60: 0 | M60: 0.11982 | N60: 0.90864 | O60: 0 | P60: 0 | Q60: 0.14192 | R60: 1.15891 | S60: 0 | T60: 0 | U60: 0.5621 | V60: 2.2923 | W60: 0 | X60: 0 | Y60: 0.1386 | Z60: 0.95523 | AE60: 0 | AF60: 0 | AG60: 0.17 | AH60: 1.753 | AI60: 0 | AJ60: 0 | AK60: 0.08 | AL60: 0.7029 | AM60: 0 | AN60: 0 | AO60: 0.03 | AP60: 0.35965
A61: 1701 | B61: Сахар тростниковый или свекловичный и химически чистая сахароза, в твердом состоянии | C61: 0 | D61: 0 | E61: 406.116 | F61: 196.95008 | G61: 0 | H61: 0 | I61: 183.387 | J61: 144.83548 | K61: 0 | L61: 0 | M61: 9.83918 | N61: 6.5743 | O61: 0 | P61: 0 | Q61: 7.98445 | R61: 5.18554 | S61: 0 | T61: 0 | U61: 11.54637 | V61: 11.02826 | W61: 0 | X61: 0 | Y61: 381.00868 | Z61: 150.24689 | AC61: 95.79485 | AD61: 61.80085 | AE61: 0 | AF61: 0 | AG61: 138.55301 | AH61: 99.46732 | AI61: 0 | AJ61: 0 | AK61: 3.09771 | AL61: 3.40086 | AM61: 0 | AN61: 0 | AO61: 67.82645 | AP61: 48.51937
A62: 1702 | B62: Прочие сахара, включая химически чистые лактозу, мальтозу, глюкозу и фруктозу, в твердом состоянии; сиропы сахарные без добавления вкусо-ароматических или красящих веществ; искусственный мед, смешанный или не смешанный с натуральным медом; карамельный к | C62: 0 | D62: 0 | E62: 0.069 | F62: 0.41755 | G62: 0 | H62: 0 | I62: 0.06 | J62: 0.10091 | K62: 0 | L62: 0 | M62: 1.43059 | N62: 2.26957 | O62: 0 | P62: 0 | Q62: 10.66768 | R62: 23.19465 | S62: 0 | T62: 0 | U62: 39.347 | V62: 30.56015 | W62: 0 | X62: 0 | Y62: 55.196 | Z62: 24.62495 | AC62: 26.505 | AD62: 16.09088 | AE62: 92 | AF62: 38.272 | AG62: 18.926 | AH62: 24.1909 | AI62: 92 | AJ62: 38.272 | AK62: 4.975 | AL62: 4.13743 | AM62: 0 | AN62: 0 | AO62: 20 | AP62: 25.965
A63: 1703 | B63: Меласса, полученная в результате извлечения или рафинирования сахара | C63: - | D63: - | E63: - | F63: - | G63: - | H63: - | I63: - | J63: - | K63: - | L63: - | M63: - | N63: - | O63: 0 | P63: 0 | Q63: 62.471 | R63: 15.7147 | S63: 0 | T63: 0 | U63: 134.46 | V63: 15.9854 | W63: 0 | X63: 0 | Y63: 170.10377 | Z63: 18.12599 | AC63: 104.602 | AD63: 15.63581 | AE63: 0 | AF63: 0 | AG63: 19.4 | AH63: 2.03195 | AI63: 0 | AJ63: 0 | AK63: 9.3 | AL63: 0.26674 | AM63: - | AN63: - | AO63: - | AP63: -
A64: 1704 | B64: Кондитерские изделия из сахара (включая белый шоколад), не содержащие какао | C64: 0 | D64: 0 | E64: 919.01214 | F64: 1613.5715 | G64: 0 | H64: 0 | I64: 781.55304 | J64: 1266.5314 | K64: 0 | L64: 0 | M64: 876.95778 | N64: 1560.8577 | O64: 0 | P64: 0 | Q64: 893.7354 | R64: 1485.845 | S64: 0 | T64: 0 | U64: 874.51852 | V64: 1423.0974 | W64: 0 | X64: 0 | Y64: 801.82022 | Z64: 1160.0227 | AC64: 728.28564 | AD64: 1290.8359 | AE64: 0 | AF64: 0 | AG64: 529.38181 | AH64: 1254.6612 | AI64: 0 | AJ64: 0 | AK64: 84.2105 | AL64: 158.8085 | AM64: 0 | AN64: 0 | AO64: 95.7547 | AP64: 239.92251
A65: 1803 | B65: Какао-паста, обезжиренная или необезжиренная | C65: - | D65: - | E65: - | F65: - | G65: - | H65: - | I65: - | J65: - | K65: - | L65: - | M65: - | N65: - | O65: - | P65: - | Q65: - | R65: - | S65: - | T65: - | U65: - | V65: - | W65: - | X65: - | Y65: - | Z65: - | AE65: - | AF65: - | AG65: - | AH65: - | AI65: - | AJ65: - | AK65: - | AL65: - | AM65: - | AN65: - | AO65: - | AP65: -
A66: 1804 | B66: Какао-масло, какао-жир | C66: - | D66: - | E66: - | F66: - | G66: - | H66: - | I66: - | J66: - | K66: - | L66: - | M66: - | N66: - | O66: - | P66: - | Q66: - | R66: - | S66: - | T66: - | U66: - | V66: - | W66: 0 | X66: 0 | Y66: 0.004 | Z66: 0.05956 | AE66: - | AF66: - | AG66: - | AH66: - | AI66: - | AJ66: - | AK66: - | AL66: - | AM66: - | AN66: - | AO66: - | AP66: -
A67: 1805 | B67: Какао-порошок без добавок сахара или других подслащивающих веществ | C67: 19.62 | D67: 71.839 | E67: 0 | F67: 0 | G67: 40.014 | H67: 180.398 | I67: 0.22638 | J67: 0.473 | K67: 0 | L67: 0 | M67: 0.225 | N67: 0.68545 | O67: 0 | P67: 0 | Q67: 0.39528 | R67: 1.50144 | S67: 19.998 | T67: 90.181 | U67: 0.37671 | V67: 1.24275 | W67: 0 | X67: 0 | Y67: 5.24659 | Z67: 13.9169 | AA67: 6.93 | AB67: 28.238 | AC67: 4.6597 | AD67: 14.40197 | AE67: 16.92 | AF67: 72.581 | AG67: 0.53607 | AH67: 2.5347 | AI67: 5.004 | AJ67: 13.319 | AK67: 0.174 | AL67: 0.5687 | AM67: 0 | AN67: 0 | AO67: 0.20886 | AP67: 1.02166
A68: 1806 | B68: Шоколад и прочие готовые пищевые продукты, содержащие какао | C68: 0 | D68: 0 | E68: 2027.1765 | F68: 5051.7569 | G68: 0 | H68: 0 | I68: 1638.2808 | J68: 3408.8658 | K68: 0 | L68: 0 | M68: 1940.1311 | N68: 4380.9568 | O68: 0 | P68: 0 | Q68: 2063.3265 | R68: 4595.5124 | S68: 0 | T68: 0 | U68: 1732.6836 | V68: 3752.1053 | W68: 0 | X68: 0 | Y68: 1622.4497 | Z68: 3406.7835 | AA68: 0.13491 | AB68: 0.37037 | AC68: 1672.7404 | AD68: 4247.459 | AE68: 0 | AF68: 0 | AG68: 1538.7813 | AH68: 4910.0538 | AI68: 0 | AJ68: 0 | AK68: 305.42249 | AL68: 764.38568 | AM68: 0 | AN68: 0 | AO68: 291.3404 | AP68: 985.29091
A69: 1901 | B69: Экстракт солодовый; готовые пищевые продукты из муки тонкого или грубого помола, крупы, крахмала или солодового экстракта, не содержащие какао или содержащие менее 40 мас.% какао в пересчете на полностью обезжиренную основу, в другом месте не поименован | C69: 0 | D69: 0 | E69: 929.65612 | F69: 2106.4814 | G69: 0 | H69: 0 | I69: 1069.7485 | J69: 2070.4057 | K69: 0 | L69: 0 | M69: 1030.6037 | N69: 2584.1124 | O69: 0 | P69: 0 | Q69: 1112.2416 | R69: 2552.3599 | S69: 46.6562 | T69: 18.731 | U69: 807.88305 | V69: 1993.332 | W69: 159.65576 | X69: 74.94105 | Y69: 728.99323 | Z69: 1570.6972 | AA69: 13.8672 | AB69: 6.55561 | AC69: 951.50322 | AD69: 2500.7838 | AE69: 0 | AF69: 0 | AG69: 488.73704 | AH69: 1305.7432 | AI69: 0 | AJ69: 0 | AK69: 141.49364 | AL69: 266.02396 | AM69: 0 | AN69: 0 | AO69: 81.08261 | AP69: 207.2413
A70: 1902 | B70: Макаронные изделия, подвергнутые или не подвергнутые тепловой обработке, с начинкой (из мяса или прочих продуктов) или без начинки, или приготовленные другим способом, такие как спагетти, макароны, лапша, рожки, клецки, равиоли, каннеллони; кускус, гото | C70: 359.625 | D70: 183.99162 | E70: 554.28406 | F70: 468.6207 | G70: 1.634 | H70: 5.767 | I70: 144.00366 | J70: 48.09696 | K70: 0 | L70: 0 | M70: 265.0102 | N70: 44.80741 | O70: 0 | P70: 0 | Q70: 164.6833 | R70: 41.09856 | S70: 44.886 | T70: 19.55468 | U70: 196.11978 | V70: 54.35834 | W70: 150 | X70: 57.82662 | Y70: 208.64385 | Z70: 77.56012 | AC70: 134.26888 | AD70: 80.96888 | AE70: 0 | AF70: 0 | AG70: 125.70014 | AH70: 111.77543 | AI70: 0 | AJ70: 0 | AK70: 30.62181 | AL70: 20.72952 | AM70: 0 | AN70: 0 | AO70: 23.2309 | AP70: 19.86318
A71: 1903 | B71: Тапиока и ее заменители, приготовленные из крахмала, в форме хлопьев, гранул, шариков, крупинок или в других аналогичных формах | C71: - | D71: - | E71: - | F71: - | G71: - | H71: - | I71: - | J71: - | K71: - | L71: - | M71: - | N71: - | O71: - | P71: - | Q71: - | R71: - | S71: - | T71: - | U71: - | V71: - | W71: - | X71: - | Y71: - | Z71: - | AC71: 0.5 | AD71: 1.53087 | AE71: - | AF71: - | AG71: - | AH71: - | AI71: - | AJ71: - | AK71: - | AL71: - | AM71: - | AN71: - | AO71: - | AP71: -
A72: 1904 | B72: Готовые пищевые продукты, полученные путем вздувания или обжаривания зерна злаков или зерновых продуктов (например, кукурузные хлопья); злаки (кроме зерна кукурузы) в виде зерна или в виде хлопьев или зерна, обработанного иным способом (за исключением м | C72: 0 | D72: 0 | E72: 34.91123 | F72: 61.5198 | G72: 0 | H72: 0 | I72: 29.81864 | J72: 43.79211 | K72: 0 | L72: 0 | M72: 108.8706 | N72: 134.13748 | O72: 0 | P72: 0 | Q72: 35.95489 | R72: 77.47181 | S72: 0 | T72: 0 | U72: 61.81761 | V72: 158.11016 | W72: 0 | X72: 0 | Y72: 57.30563 | Z72: 146.40733 | AC72: 289.74912 | AD72: 204.78361 | AE72: 0 | AF72: 0 | AG72: 62.07557 | AH72: 175.52272 | AI72: 0 | AJ72: 0 | AK72: 6.28008 | AL72: 19.26326 | AM72: 0 | AN72: 0 | AO72: 58.35629 | AP72: 76.56803
A73: 1905 | B73: Хлеб, мучные кондитерские изделия, пирожные, печенье и прочие хлебобулочные и мучные кондитерские изделия, содержащие или не содержащие какао; вафельные пластины, пустые капсулы, пригодные для использования в фармацевтических целях, вафельные облатки дл | C73: 123.6 | D73: 149.02293 | E73: 3073.2053 | F73: 4957.6232 | G73: 0 | H73: 0 | I73: 2641.9155 | J73: 3646.6488 | K73: 0 | L73: 0 | M73: 2644.9359 | N73: 4413.9615 | O73: 0 | P73: 0 | Q73: 2286.6317 | R73: 3752.2429 | S73: 0 | T73: 0 | U73: 1852.8918 | V73: 3054.7172 | W73: 0 | X73: 0 | Y73: 2248.7142 | Z73: 3602.6654 | AA73: 33.71562 | AB73: 20.89972 | AC73: 2482.3761 | AD73: 4384.9514 | AE73: 0 | AF73: 0 | AG73: 2293.2973 | AH73: 5416.0284 | AI73: 0 | AJ73: 0 | AK73: 523.57702 | AL73: 948.92773 | AM73: 0 | AN73: 0 | AO73: 543.54422 | AP73: 1312.0884
A74: 2001 | B74: Овощи, фрукты, орехи и другие съедобные части растений, приготовленные или консервированные с добавлением уксуса или уксусной кислоты | C74: 0 | D74: 0 | E74: 490.14135 | F74: 551.03327 | G74: 0 | H74: 0 | I74: 105.24313 | J74: 75.69108 | K74: 0 | L74: 0 | M74: 12.70365 | N74: 8.20495 | O74: 0 | P74: 0 | Q74: 26.67378 | R74: 37.66749 | S74: 0 | T74: 0 | U74: 6.12498 | V74: 8.05723 | W74: 0 | X74: 0 | Y74: 10.21522 | Z74: 9.73405 | AA74: 6.481 | AB74: 41.69758 | AC74: 50.72775 | AD74: 58.89451 | AE74: 1.8 | AF74: 4.0187 | AG74: 63.80822 | AH74: 92.49636 | AI74: 1 | AJ74: 2.3347 | AK74: 12.10222 | AL74: 14.72909 | AM74: 0 | AN74: 0 | AO74: 3.25308 | AP74: 6.45553
A75: 2002 | B75: Томаты, приготовленные или консервированные без добавления уксуса или уксусной кислоты | C75: 0 | D75: 0 | E75: 6.96772 | F75: 6.54583 | G75: 0 | H75: 0 | I75: 13.7802 | J75: 12.14407 | K75: 0 | L75: 0 | M75: 8.70314 | N75: 8.68185 | O75: 0 | P75: 0 | Q75: 20.91145 | R75: 20.43368 | S75: 0 | T75: 0 | U75: 30.96835 | V75: 24.16934 | W75: 0.064 | X75: 0.11299 | Y75: 32.57 | Z75: 25.20531 | AC75: 22.4936 | AD75: 32.18454 | AE75: 0 | AF75: 0 | AG75: 36.21284 | AH75: 49.11628 | AI75: 0 | AJ75: 0 | AK75: 7.5181 | AL75: 11.46691 | AM75: 0 | AN75: 0 | AO75: 2.43168 | AP75: 5.11671
A76: 2003 | B76: Грибы и трюфели, приготовленные или консервированные без добавления уксуса или уксусной кислоты | C76: 0 | D76: 0 | E76: 166.89457 | F76: 238.85419 | G76: 0 | H76: 0 | I76: 17.92594 | J76: 26.2717 | K76: - | L76: - | M76: - | N76: - | O76: - | P76: - | Q76: - | R76: - | S76: - | T76: - | U76: - | V76: - | W76: 14.574 | X76: 85.46386 | Y76: 18.507 | Z76: 13.274 | AA76: 2.7 | AB76: 10.08966 | AE76: 2.531 | AF76: 10.89915 | AG76: 0 | AH76: 0 | AI76: 2.331 | AJ76: 9.43232 | AK76: 0 | AL76: 0 | AM76: - | AN76: - | AO76: - | AP76: -
A77: 2004 | B77: Овощи прочие, приготовленные или консервированные без добавления уксуса или уксусной кислоты, замороженные, кроме продуктов товарной позиции 2006 | C77: - | D77: - | E77: - | F77: - | G77: 0 | H77: 0 | I77: 0.374 | J77: 1.494 | K77: 0 | L77: 0 | M77: 0.802 | N77: 1.86047 | O77: 0 | P77: 0 | Q77: 48.343 | R77: 39.79495 | S77: 0 | T77: 0 | U77: 14.1678 | V77: 14.89082 | W77: 0 | X77: 0 | Y77: 7.60522 | Z77: 12.70268 | AC77: 41.6985 | AD77: 70.61788 | AE77: 0 | AF77: 0 | AG77: 53.644 | AH77: 97.6519 | AI77: 0 | AJ77: 0 | AK77: 12.4045 | AL77: 16.69578 | AM77: 0 | AN77: 0 | AO77: 6.092 | AP77: 12.92162
A78: 2005 | B78: Овощи прочие, приготовленные или консервированные, без добавления уксуса или уксусной кислоты, незамороженные, кроме продуктов товарной позиции 2006 | C78: 0 | D78: 0 | E78: 483.00687 | F78: 726.26257 | G78: 0 | H78: 0 | I78: 434.50573 | J78: 654.94907 | K78: 0 | L78: 0 | M78: 188.94674 | N78: 519.66258 | O78: 0 | P78: 0 | Q78: 138.25031 | R78: 478.8859 | S78: 0 | T78: 0 | U78: 149.9092 | V78: 440.44183 | W78: 9.583 | X78: 54.46968 | Y78: 191.3409 | Z78: 502.92653 | AC78: 304.84024 | AD78: 699.06021 | AE78: 0 | AF78: 0 | AG78: 271.45751 | AH78: 939.00329 | AI78: 0 | AJ78: 0 | AK78: 69.34752 | AL78: 162.75936 | AM78: 0 | AN78: 0 | AO78: 41.50952 | AP78: 181.50646
A79: 2006 | B79: Овощи, плоды, орехи, кожура плодов и прочие части растений, консервированные в сахаре (пропитанные сахарным сиропом, засахаренные или глазированные) | C79: 0 | D79: 0 | E79: 61.0621 | F79: 20.058 | G79: 0 | H79: 0 | I79: 0.2838 | J79: 0.69374 | K79: 0 | L79: 0 | M79: 0.014 | N79: 0.02064 | O79: - | P79: - | Q79: - | R79: - | S79: - | T79: - | U79: - | V79: - | W79: 0 | X79: 0 | Y79: 4.10566 | Z79: 12.03426 | AC79: 20.65 | AD79: 5.43249 | AE79: 0 | AF79: 0 | AG79: 353.87308 | AH79: 375.8307 | AI79: - | AJ79: - | AK79: - | AL79: - | AM79: 0 | AN79: 0 | AO79: 225.106 | AP79: 212.14435
A80: 2007 | B80: Джемы, желе фруктовое, мармелады, пюре фруктовое или ореховое, паста фруктовая или ореховая, полученные путем тепловой обработки, в том числе с добавлением сахара или других подслащивающих веществ | C80: 0 | D80: 0 | E80: 141.39928 | F80: 285.79595 | G80: 0 | H80: 0 | I80: 126.46452 | J80: 233.04267 | K80: 0 | L80: 0 | M80: 156.31044 | N80: 348.54459 | O80: 0 | P80: 0 | Q80: 181.12591 | R80: 391.87839 | S80: 0 | T80: 0 | U80: 230.74974 | V80: 601.13583 | W80: 38.923 | X80: 16.7676 | Y80: 319.03035 | Z80: 656.50194 | AA80: 17.99 | AB80: 9.363 | AC80: 424.45639 | AD80: 955.27654 | AE80: 0 | AF80: 0 | AG80: 422.93735 | AH80: 1016.6489 | AI80: 0 | AJ80: 0 | AK80: 97.69629 | AL80: 193.38655 | AM80: 0 | AN80: 0 | AO80: 81.72094 | AP80: 122.6724
A81: 2008 | B81: Фрукты, орехи и прочие съедобные части растений, приготовленные или консервированные иным способом, содержащие или не содержащие добавок сахара или других подслащивающих веществ или спирта, в другом месте не поименованные или не включенные | C81: 0 | D81: 0 | E81: 460.12046 | F81: 727.52988 | G81: 0 | H81: 0 | I81: 339.64083 | J81: 365.00753 | K81: 0 | L81: 0 | M81: 221.21248 | N81: 464.13312 | O81: 0 | P81: 0 | Q81: 226.09892 | R81: 468.17448 | S81: 0 | T81: 0 | U81: 134.2469 | V81: 389.91035 | W81: 0 | X81: 0 | Y81: 207.3298 | Z81: 465.55468 | AA81: 137.128 | AB81: 197.51 | AC81: 670.69915 | AD81: 775.74487 | AE81: 0 | AF81: 0 | AG81: 461.38362 | AH81: 817.69061 | AI81: 0 | AJ81: 0 | AK81: 30.20001 | AL81: 94.70079 | AM81: 0 | AN81: 0 | AO81: 178.7366 | AP81: 245.4501
A82: 2009 | B82: Соки фруктовые (включая виноградное сусло) и соки овощные, несброженные и не содержащие добавок спирта, с добавлением или без добавления сахара или других подслащивающих веществ | C82: 0 | D82: 0 | E82: 616.66411 | F82: 402.7181 | G82: 0 | H82: 0 | I82: 400.98679 | J82: 243.93322 | K82: 0 | L82: 0 | M82: 244.41437 | N82: 224.30802 | O82: 0 | P82: 0 | Q82: 239.19529 | R82: 205.02322 | S82: 0 | T82: 0 | U82: 237.40959 | V82: 222.04694 | W82: 8.18 | X82: 3.55431 | Y82: 249.45512 | Z82: 177.80403 | AA82: 0.378 | AB82: 0.756 | AC82: 322.05928 | AD82: 273.37263 | AE82: 0 | AF82: 0 | AG82: 331.07474 | AH82: 331.21174 | AI82: 0 | AJ82: 0 | AK82: 50.30408 | AL82: 33.70586 | AM82: 0 | AN82: 0 | AO82: 80.50262 | AP82: 51.70102
A83: 2101 | B83: Экстракты, эссенции и концентраты кофе, чая или мате, или парагвайского чая, и готовые продукты на их основе или на основе кофе, чая или мате, или парагвайского чая; обжаренный цикорий и прочие обжаренные заменители кофе и экстракты, эссенции и концентр | C83: 0 | D83: 0 | E83: 2.06561 | F83: 5.27725 | G83: 0 | H83: 0 | I83: 1.81249 | J83: 5.38912 | K83: 0 | L83: 0 | M83: 1.4945 | N83: 6.69493 | O83: 0 | P83: 0 | Q83: 8.51878 | R83: 62.83928 | S83: 0 | T83: 0 | U83: 10.89035 | V83: 80.73662 | W83: 0 | X83: 0 | Y83: 12.03745 | Z83: 76.02789 | AC83: 15.34108 | AD83: 51.85988 | AE83: 0 | AF83: 0 | AG83: 11.01678 | AH83: 77.36623 | AI83: 0 | AJ83: 0 | AK83: 3.19483 | AL83: 18.04839 | AM83: 0 | AN83: 0 | AO83: 1.76333 | AP83: 10.99412
A84: 2102 | B84: Дрожжи (активные или неактивные); прочие мертвые одноклеточные микроорганизмы (кроме вакцин товарной позиции 3002); готовые пекарные порошки | C84: 0 | D84: 0 | E84: 1873.712 | F84: 348.8557 | G84: 0 | H84: 0 | I84: 341.58115 | J84: 61.51559 | K84: 0 | L84: 0 | M84: 2.40897 | N84: 13.05769 | O84: 0 | P84: 0 | Q84: 0.19224 | R84: 1.6848 | S84: 0 | T84: 0 | U84: 30.79602 | V84: 15.40412 | W84: 0 | X84: 0 | Y84: 175.37342 | Z84: 68.61805 | AC84: 42.30358 | AD84: 24.53282 | AE84: 0 | AF84: 0 | AG84: 13.46852 | AH84: 37.28042 | AI84: 0 | AJ84: 0 | AK84: 1.19485 | AL84: 5.72127 | AM84: 0 | AN84: 0 | AO84: 20.68363 | AP84: 14.5301
A85: 2103 | B85: Продукты для приготовления соусов и готовые соусы; вкусовые добавки и приправы смешанные; горчичный порошок и готовая горчица | C85: 0 | D85: 0 | E85: 1997.6341 | F85: 2754.7835 | G85: 0 | H85: 0 | I85: 2895.2608 | J85: 3549.6562 | K85: 0 | L85: 0 | M85: 3223.3665 | N85: 4369.6589 | O85: 0 | P85: 0 | Q85: 3424.9864 | R85: 4510.3131 | S85: 0 | T85: 0 | U85: 3458.9102 | V85: 4897.5047 | W85: 0 | X85: 0 | Y85: 3751.035 | Z85: 5094.5594 | AC85: 3695.5422 | AD85: 6122.9191 | AE85: 0 | AF85: 0 | AG85: 3558.7796 | AH85: 6857.1912 | AI85: 0 | AJ85: 0 | AK85: 825.6249 | AL85: 1247.9401 | AM85: 0 | AN85: 0 | AO85: 821.96869 | AP85: 1579.8596
A86: 2104 | B86: Супы и бульоны готовые и заготовки для их приготовления; гомогенизированные составные готовые пищевые продукты | C86: 0 | D86: 0 | E86: 22.1232 | F86: 63.07333 | G86: 0 | H86: 0 | I86: 11.02799 | J86: 10.02897 | K86: 0 | L86: 0 | M86: 6.29884 | N86: 5.05077 | O86: 0 | P86: 0 | Q86: 6.64686 | R86: 15.74112 | S86: 0 | T86: 0 | U86: 18.127 | V86: 34.42431 | W86: 0 | X86: 0 | Y86: 19.86375 | Z86: 29.83759 | AC86: 18.58942 | AD86: 41.524 | AE86: 0 | AF86: 0 | AG86: 31.96808 | AH86: 70.1299 | AI86: 0 | AJ86: 0 | AK86: 7.35148 | AL86: 12.85785 | AM86: 0 | AN86: 0 | AO86: 17.84348 | AP86: 32.69869
A87: 2105 | B87: Мороженое и прочие виды пищевого льда, не содержащие или содержащие какао | C87: 0 | D87: 0 | E87: 293.083 | F87: 569.2521 | G87: 0 | H87: 0 | I87: 203.961 | J87: 399.104 | K87: 0 | L87: 0 | M87: 182.362 | N87: 328.954 | O87: 0 | P87: 0 | Q87: 190.76281 | R87: 389.62962 | S87: 0 | T87: 0 | U87: 185.41491 | V87: 421.21179 | W87: 0 | X87: 0 | Y87: 187.38888 | Z87: 407.34567 | AA87: 4.7283 | AB87: 9.42554 | AC87: 155.8055 | AD87: 357.4587 | AE87: 0 | AF87: 0 | AG87: 406.90606 | AH87: 1795.7548 | AI87: 0 | AJ87: 0 | AK87: 47.8565 | AL87: 95.18056 | AM87: 0 | AN87: 0 | AO87: 84.679 | AP87: 399.45
A88: 2106 | B88: Пищевые продукты, в другом месте не поименованные или не включенные | C88: 0 | D88: 0 | E88: 44.6565 | F88: 240.13404 | G88: 0 | H88: 0 | I88: 148.6541 | J88: 405.16088 | K88: 0 | L88: 0 | M88: 167.8248 | N88: 551.77409 | O88: 0 | P88: 0 | Q88: 304.36479 | R88: 899.54348 | S88: 0 | T88: 0 | U88: 653.99219 | V88: 1057.4818 | W88: 1.749 | X88: 0.7801 | Y88: 338.96221 | Z88: 973.25508 | AA88: 9.159 | AB88: 4.184 | AC88: 422.38251 | AD88: 1160.5994 | AE88: 0 | AF88: 0 | AG88: 527.10488 | AH88: 1877.776 | AI88: 0 | AJ88: 0 | AK88: 190.60996 | AL88: 537.55004 | AM88: 0 | AN88: 0 | AO88: 141.63683 | AP88: 434.81774
A89: 2201 | B89: Воды, включая природные или искусственные минеральные, газированные, без добавления сахара или других подслащивающих или вкусо-ароматических веществ; лед и снег | C89: 163.1 | D89: 28.58351 | E89: 75.41127 | F89: 36.8288 | G89: 110.1925 | H89: 19.21152 | I89: 62.09439 | J89: 29.95491 | K89: 124.066 | L89: 15.853 | M89: 65.98087 | N89: 35.23478 | O89: 96.21235 | P89: 14.29888 | Q89: 255.89442 | R89: 68.28921 | S89: 110.16243 | T89: 15.17401 | U89: 123.46936 | V89: 61.36928 | W89: 0 | X89: 0 | Y89: 99.826 | Z89: 36.92954 | AA89: 32.529 | AB89: 6.682 | AC89: 865.8227 | AD89: 129.21307 | AE89: 192.68916 | AF89: 37.8416 | AG89: 200.38709 | AH89: 85.04549 | AI89: 19.003 | AJ89: 2.476 | AK89: 27.67699 | AL89: 6.30638 | AM89: 18.87999 | AN89: 4.50088 | AO89: 165.0987 | AP89: 83.64227
A90: 2202 | B90: Воды, включая минеральные и газированные, содержащие добавки сахара или других подслащивающих или вкусо-ароматических веществ, и прочие безалкогольные напитки, за исключением фруктовых или овощных соков товарной позиции 2009 | C90: 253.152 | D90: 65.536 | E90: 603.35658 | F90: 359.92388 | G90: 222.8238 | H90: 69.61845 | I90: 389.98568 | J90: 179.80732 | K90: 272.887 | L90: 38.415 | M90: 660.07681 | N90: 367.81776 | O90: 140.8592 | P90: 24.11772 | Q90: 596.18176 | R90: 276.12386 | S90: 88.88652 | T90: 13.68259 | U90: 659.07267 | V90: 361.9226 | W90: 72.988 | X90: 31.24582 | Y90: 778.82487 | Z90: 372.15933 | AA90: 1.75 | AB90: 0.461 | AC90: 1328.3055 | AD90: 630.12375 | AE90: 269.42577 | AF90: 83.5109 | AG90: 1272.7231 | AH90: 743.611 | AI90: 0 | AJ90: 0 | AK90: 261.15523 | AL90: 102.50686 | AM90: 0 | AN90: 0 | AO90: 320.14388 | AP90: 161.72864
A91: 2203 | B91: Пиво солодовое | C91: 0 | D91: 0 | E91: 694.446 | F91: 249.26757 | G91: 0 | H91: 0 | I91: 1102.553 | J91: 383.09474 | K91: 0 | L91: 0 | M91: 720.163 | N91: 339.772 | O91: 0 | P91: 0 | Q91: 650.403 | R91: 288.22813 | S91: 0 | T91: 0 | U91: 670.48545 | V91: 322.70851 | W91: 0 | X91: 0 | Y91: 1025.662 | Z91: 506.27014 | AC91: 1410.55 | AD91: 763.96823 | AE91: 0 | AF91: 0 | AG91: 718.76965 | AH91: 526.1361 | AI91: 0 | AJ91: 0 | AK91: 296.67397 | AL91: 159.60993 | AM91: 0 | AN91: 0 | AO91: 56.00266 | AP91: 44.83317
A92: 2204 | B92: Вина виноградные натуральные, включая крепленые; сусло виноградное, кроме указанного в товарной позиции 2009 | C92: 0 | D92: 0 | E92: 91.377 | F92: 125.77805 | G92: - | H92: - | I92: - | J92: - | K92: 0 | L92: 0 | M92: 7.04661 | N92: 29.92159 | O92: 0 | P92: 0 | Q92: 1.98 | R92: 8.02577 | S92: 0 | T92: 0 | U92: 1.1295 | V92: 9.31883 | W92: - | X92: - | Y92: - | Z92: - | AE92: - | AF92: - | AG92: - | AH92: - | AI92: - | AJ92: - | AK92: - | AL92: - | AM92: - | AN92: - | AO92: - | AP92: -
A93: 2205 | B93: Вермуты и виноградные натуральные вина прочие с добавлением растительных или ароматических веществ | C93: - | D93: - | E93: - | F93: - | G93: - | H93: - | I93: - | J93: - | K93: - | L93: - | M93: - | N93: - | O93: - | P93: - | Q93: - | R93: - | S93: - | T93: - | U93: - | V93: - | W93: - | X93: - | Y93: - | Z93: - | AE93: - | AF93: - | AG93: - | AH93: - | AI93: - | AJ93: - | AK93: - | AL93: - | AM93: - | AN93: - | AO93: - | AP93: -
A94: 2206 | B94: Прочие напитки сброженные (сидр яблочный, перри [сидр грушевый], напиток медовый); смеси из сброженных напитков и смеси сброженных напитков и безалкогольных напитков, в другом месте не поименованные | C94: - | D94: - | E94: - | F94: - | G94: 0 | H94: 0 | I94: 20 | J94: 0.808 | K94: 0 | L94: 0 | M94: 79.2 | N94: 17.232 | O94: - | P94: - | Q94: - | R94: - | S94: 0 | T94: 0 | U94: 0.80968 | V94: 2.97028 | W94: - | X94: - | Y94: - | Z94: - | AC94: 27.715 | AD94: 17.92512 | AE94: 0 | AF94: 0 | AG94: 15.604 | AH94: 5.88836 | AI94: - | AJ94: - | AK94: - | AL94: - | AM94: 0 | AN94: 0 | AO94: 0.6228 | AP94: 1.3896
A95: 2207 | B95: Спирт этиловый неденатурированный с концентрацией спирта 80 об.% или более; этиловый спирт и прочие спиртовые настойки, денатурированные, любой концентрации | C95: 31.021 | D95: 21.747 | E95: 30.155 | F95: 22.654 | G95: 464.871 | H95: 407.124 | I95: 64.5 | J95: 49.414 | K95: 33.065 | L95: 45.386 | M95: 258 | N95: 226.45 | O95: 43.345 | P95: 57.239 | Q95: 129 | R95: 134.972 | S95: 29.008 | T95: 42.202 | U95: 0 | V95: 0 | W95: 29.328 | X95: 44.198 | Y95: 173.7197 | Z95: 165.17785 | AA95: 16.775 | AB95: 32.111 | AC95: 2851.4868 | AD95: 2953.3323 | AE95: 0 | AF95: 0 | AG95: 2247.0828 | AH95: 3193.7753 | AI95: 0 | AJ95: 0 | AK95: 614.419 | AL95: 587.33795 | AM95: 0 | AN95: 0 | AO95: 676.376 | AP95: 788.62335
A96: 2208 | B96: Спирт этиловый неденатурированный с концентрацией спирта менее 80 об.%; спиртовые настойки, ликеры и прочие спиртные напитки | C96: 0 | D96: 0 | E96: 12.5694 | F96: 47.80423 | G96: - | H96: - | I96: - | J96: - | K96: - | L96: - | M96: - | N96: - | O96: 16.215 | P96: 19.3536 | Q96: 10.085 | R96: 42.53098 | S96: 32.389 | T96: 38.7072 | U96: 0.50831 | V96: 3.04785 | W96: 232.91402 | X96: 157.82263 | Y96: 0 | Z96: 0 | AA96: 5170.7568 | AB96: 6688.0241 | AC96: 0.004 | AD96: 0.0004 | AE96: 4105.5674 | AF96: 6267.3443 | AG96: 0 | AH96: 0 | AI96: 1327.8017 | AJ96: 1533.7082 | AK96: 0 | AL96: 0 | AM96: 794.316 | AN96: 1732.2275 | AO96: 0.3204 | AP96: 1.4886
A97: 2209 | B97: Уксус и его заменители, полученные из уксусной кислоты | C97: 0 | D97: 0 | E97: 42.249 | F97: 30.29764 | G97: 0 | H97: 0 | I97: 16.715 | J97: 31.195 | K97: 0 | L97: 0 | M97: 6.1563 | N97: 7.6816 | O97: 0 | P97: 0 | Q97: 16.27692 | R97: 6.60353 | S97: 0 | T97: 0 | U97: 2.76942 | V97: 1.91315 | W97: 0 | X97: 0 | Y97: 51.89124 | Z97: 40.74623 | AC97: 39.68072 | AD97: 30.36242 | AE97: 0 | AF97: 0 | AG97: 17.16479 | AH97: 14.00597 | AI97: 0 | AJ97: 0 | AK97: 3.21706 | AL97: 2.38223 | AM97: 0 | AN97: 0 | AO97: 1.92077 | AP97: 1.3153
A98: 2301 | B98: Мука тонкого и грубого помола и гранулы из мяса или мясных субпродуктов, рыбы или ракообразных, моллюсков или прочих водных беспозвоночных, непригодные для употребления в пищу; шкварки | C98: 0 | D98: 0 | E98: 140 | F98: 185.51882 | G98: 0 | H98: 0 | I98: 297.985 | J98: 195.92009 | K98: 0 | L98: 0 | M98: 71.625 | N98: 122.52236 | O98: 0 | P98: 0 | Q98: 429.04 | R98: 150.63125 | S98: 0 | T98: 0 | U98: 1494.7393 | V98: 594.55344 | W98: 0 | X98: 0 | Y98: 1218.008 | Z98: 565.85935 | AA98: 312 | AB98: 50.06603 | AC98: 977.10253 | AD98: 622.55425 | AE98: 0 | AF98: 0 | AG98: 834.44801 | AH98: 449.26249 | AI98: 0 | AJ98: 0 | AK98: 111.88301 | AL98: 33.85596 | AM98: 0 | AN98: 0 | AO98: 241.37 | AP98: 96.04837
A99: 2302 | B99: Отруби, высевки, месятки и прочие остатки от просеивания, помола или других способов переработки зерна злаков или бобовых культур, негранулированные или гранулированные | C99: 11376.484 | D99: 690.29025 | E99: 0.165 | F99: 0.01392 | G99: 28660.827 | H99: 1604.764 | I99: 0 | J99: 0 | K99: 17349.411 | L99: 1091.8659 | M99: 0 | N99: 0 | O99: 15653.549 | P99: 999.17815 | Q99: 0 | R99: 0 | S99: 30605.96 | T99: 3136.2958 | U99: 0 | V99: 0 | W99: 33105.265 | X99: 4682.1157 | Y99: 55 | Z99: 11.73633 | AA99: 5478.27 | AB99: 688.6531 | AC99: 198.0015 | AD99: 48.19453 | AE99: 25212.78 | AF99: 4476.8812 | AG99: 539.3 | AH99: 69.78576 | AI99: 5023.3 | AJ99: 895.1396 | AK99: 20 | AL99: 0.989 | AM99: 8154.6 | AN99: 1557.7028 | AO99: 1042.08 | AP99: 108.81591
A100: 2303 | B100: Остатки от производства крахмала и аналогичные остатки, свекловичный жом, багасса, или жом сахарного тростника, и прочие отходы производства сахара, барда и прочие отходы пивоварения или винокурения, негранулированные или гранулированные | C100: 0 | D100: 0 | E100: 10 | F100: 1.0133 | G100: 0 | H100: 0 | I100: 252.1 | J100: 57.33556 | K100: 0 | L100: 0 | M100: 349.16 | N100: 64.9915 | O100: 0 | P100: 0 | Q100: 162 | R100: 39.862 | S100: 0 | T100: 0 | U100: 201.77 | V100: 69.96326 | W100: 0 | X100: 0 | Y100: 122.96 | Z100: 62.394 | AC100: 111.002 | AD100: 66.43979 | AE100: 0 | AF100: 0 | AG100: 34.872 | AH100: 30.05778 | AI100: 0 | AJ100: 0 | AK100: 4.972 | AL100: 0.2943 | AM100: - | AN100: - | AO100: - | AP100: -
A101: 2304 | B101: Жмыхи и другие твердые отходы, получаемые при извлечении соевого масла, немолотые или молотые,негранулированные или гранулированные | C101: 0 | D101: 0 | E101: 211.78 | F101: 112.225 | G101: 0 | H101: 0 | I101: 2189.72 | J101: 699.25753 | K101: 0 | L101: 0 | M101: 547.44 | N101: 250.80833 | O101: 0 | P101: 0 | Q101: 1652.624 | R101: 789.48524 | S101: 0 | T101: 0 | U101: 4035.41 | V101: 1840.2055 | W101: 55 | X101: 12.88114 | Y101: 4671.56 | Z101: 2542.1367 | AC101: 16129.3 | AD101: 9665.4308 | AE101: 1915.25 | AF101: 1268.2625 | AG101: 4922.79 | AH101: 3366.6069 | AI101: - | AJ101: - | AK101: - | AL101: - | AM101: 0 | AN101: 0 | AO101: 147 | AP101: 73.957
...

Sheet Ақтөбе
A1: Экспорт и импорт сельскохозяйственной переработанной продукции
A2: Актюбинская
A4: ТНВЭД ЕАЭС | B4: Наименование товара | C4: 2015 | G4: 2016 | K4: 2017 | O4: 2018 | S4: 2019 | W4: 2020 | AA4: 2021 | AE4: 2022* | AI4: январь-март 2022 года* | AM4: январь-март 2023 года*
C5: экспорт | E5: импорт | G5: экспорт | I5: импорт | K5: экспорт | M5: импорт | O5: экспорт | Q5: импорт | S5: экспорт | U5: импорт | W5: экспорт | Y5: импорт | AA5: экспорт | AC5: импорт | AE5: экспорт | AG5: импорт | AI5: экспорт | AK5: импорт | AM5: экспорт | AO5: импорт
C6: тонн | D6: тыс. долларов США | E6: тонн | F6: тыс. долларов США | G6: тонн | H6: тыс. долларов США | I6: тонн | J6: тыс. долларов США | K6: тонн | L6: тыс. долларов США | M6: тонн | N6: тыс. долларов США | O6: тонн | P6: тыс. долларов США | Q6: тонн | R6: тыс. долларов США | S6: тонн | T6: тыс. долларов США | U6: тонн | V6: тыс. долларов США | W6: тонн | X6: тыс. долларов США | Y6: тонн | Z6: тыс. долларов США | AA6: тонн | AB6: тыс. долларов США | AC6: тонн | AD6: тыс. долларов США | AE6: тонн | AF6: тыс. долларов США | AG6: тонн | AH6: тыс. долларов США | AI6: тонн | AJ6: тыс. долларов США | AK6: тонн | AL6: тыс. долларов США | AM6: тонн | AN6: тыс. долларов США | AO6: тонн | AP6: тыс. долларов США
B7: Всего | C7: 27680.359 | D7: 30756.896 | E7: 139187.74 | F7: 157236.79 | G7: 33021.197 | H7: 11721.433 | I7: 117212.19 | J7: 128945.28 | K7: 25759.224 | L7: 10586.192 | M7: 125605.41 | N7: 148040.57 | O7: 10332.701 | P7: 3861.1015 | Q7: 110880.6 | R7: 131217.15 | S7: 19473.496 | T7: 9285.3088 | U7: 116435.67 | V7: 116131.48 | W7: 33546.927 | X7: 14182.532 | Y7: 193073.84 | Z7: 145495.24 | AA7: 20833.642 | AB7: 14143.119 | AC7: 148713.4 | AD7: 125233.89 | AE7: =SUM(AE8:AE120) -> 65338.272 | AF7: =SUM(AF8:AF120) -> 47721.466 | AG7: =SUM(AG8:AG120) -> 141004.76 | AH7: =SUM(AH8:AH120) -> 157768.86 | AI7: =SUM(AI8:AI120) -> 14030.868 | AJ7: =SUM(AJ8:AJ120) -> 9994.1925 | AK7: =SUM(AK8:AK120) -> 34372.905 | AL7: =SUM(AL8:AL120) -> 29500.552 | ... AP7: =SUM(AP8:AP120) -> 43744.798
A8: 0206 | B8: Пищевые субпродукты крупного рогатого скота, свиней, овец, коз, лошадей, ослов, мулов или лошаков, свежие, охлажденные или замороженные | C8: 31.41251 | D8: 18.80276 | E8: 1608.7182 | F8: 1979.7735 | G8: 34.936 | H8: 17.51066 | I8: 1653.5573 | J8: 1785.9579 | K8: 91.91114 | L8: 38.60449 | M8: 1752.8267 | N8: 1931.4864 | O8: 101.9568 | P8: 111.07973 | Q8: 998.61593 | R8: 1494.7466 | S8: 259.07815 | T8: 150.75281 | U8: 124.96252 | V8: 114.57652 | W8: 160.77222 | X8: 77.67144 | Y8: 465.74441 | Z8: 552.02395 | AA8: 78.04691 | AB8: 56.07215 | AC8: 46.11989 | AD8: 115.62902 | AE8: 0 | AF8: 0 | AG8: 42.09982 | AH8: 90.88367 | AI8: 0 | AJ8: 0 | AK8: 11.09832 | AL8: 22.8034 | AM8: 0 | AN8: 0 | AO8: 103.98951 | AP8: 181.10112
A9: 0207 | B9: Мясо и пищевые субпродукты домашней птицы, указанной в товарной позиции 0105, свежие, охлажденные или замороженные | C9: 0 | D9: 0 | E9: 28967.594 | F9: 27617.448 | G9: 0 | H9: 0 | I9: 28319.218 | J9: 23729.469 | K9: 0.037 | L9: 0.087 | M9: 32838.195 | N9: 29868.906 | O9: 20 | P9: 13.04 | Q9: 26450.984 | R9: 27101.669 | S9: 59 | T9: 38.64315 | U9: 18748.613 | V9: 19001.925 | W9: 0 | X9: 0 | Y9: 24233.559 | Z9: 22853.938 | AC9: 18810.47 | AD9: 16332.914 | AE9: 0 | AF9: 0 | AG9: 18159.086 | AH9: 23150.799 | AI9: 0 | AJ9: 0 | AK9: 2905.8864 | AL9: 2988.4167 | AM9: 0 | AN9: 0 | AO9: 2422.2896 | AP9: 2929.4114
A10: 0209 | B10: Свиной жир, отделенный от тощего мяса, и жир домашней птицы, не вытопленные или не извлеченные другим способом, свежие, охлажденные, мороженые, соленые, в рассоле, сушеные или копченые | C10: - | D10: - | E10: - | F10: - | G10: - | H10: - | I10: - | J10: - | K10: 0.034 | L10: 0.118 | M10: 9.6713 | N10: 14.48608 | O10: 0 | P10: 0 | Q10: 20.854 | R10: 11.90979 | S10: 0 | T10: 0 | U10: 130.2572 | V10: 130.81285 | W10: 0 | X10: 0 | Y10: 59.77526 | Z10: 60.20955 | AE10: 0 | AF10: 0 | AG10: 60.46206 | AH10: 64.38813 | AI10: - | AJ10: - | AK10: - | AL10: - | AM10: 0 | AN10: 0 | AO10: 0.11438 | AP10: 1.864
A11: 0210 | B11: Мясо и пищевые мясные субпродукты, соленые, в рассоле, сушеные или копченые; пищевая мука тонкого и грубого помола из мяса или мясных субпродуктов | C11: 0 | D11: 0 | E11: 0.01 | F11: 0.09891 | G11: - | H11: - | I11: - | J11: - | K11: 2.08 | L11: 6.82087 | M11: 16.806 | N11: 24.294 | O11: 0 | P11: 0 | Q11: 0.02 | R11: 0.1 | S11: 0 | T11: 0 | U11: 16.868 | V11: 21.763 | W11: 0 | X11: 0 | Y11: 1.6314 | Z11: 4.07423 | AC11: 0.14289 | AD11: 1.31438 | AE11: 0 | AF11: 0 | AG11: 5.98585 | AH11: 4.27682 | AI11: 0 | AJ11: 0 | AK11: 1.368 | AL11: 0.716 | AM11: 0 | AN11: 0 | AO11: 0.16456 | AP11: 0.54
A12: 0304 | B12: Филе рыбное и прочее мясо рыбы (включая фарш), свежие, охлажденные или мороженые | C12: 0 | D12: 0 | E12: 1142.0456 | F12: 1350.198 | G12: 0 | H12: 0 | I12: 370.56931 | J12: 503.96247 | K12: 0 | L12: 0 | M12: 973.39771 | N12: 1129.6484 | O12: 0 | P12: 0 | Q12: 378.69965 | R12: 889.21649 | S12: 0 | T12: 0 | U12: 387.15607 | V12: 627.82889 | W12: 0 | X12: 0 | Y12: 236.02778 | Z12: 441.76207 | AC12: 80.41462 | AD12: 239.86663 | AE12: 0 | AF12: 0 | AG12: 171.71006 | AH12: 487.78502 | AI12: 0 | AJ12: 0 | AK12: 48.0402 | AL12: 183.51357 | AM12: 0 | AN12: 0 | AO12: 417.55435 | AP12: 825.26212
A13: 0305 | B13: Рыба сушеная, соленая или в рассоле; рыба горячего или холодного копчения; рыбная мука тонкого и грубого помола и гранулы из рыбы, пригодные для употребления в пищу | C13: 0 | D13: 0 | E13: 73.04582 | F13: 105.60373 | G13: 0 | H13: 0 | I13: 224.5379 | J13: 158.9678 | K13: 0 | L13: 0 | M13: 169.3052 | N13: 154.31016 | O13: 0 | P13: 0 | Q13: 7.934 | R13: 46.56858 | S13: 0 | T13: 0 | U13: 5.67749 | V13: 46.37393 | W13: 0 | X13: 0 | Y13: 33.70674 | Z13: 101.60778 | AC13: 14.64139 | AD13: 70.68555 | AE13: 0 | AF13: 0 | AG13: 8.40617 | AH13: 84.47833 | AI13: 0 | AJ13: 0 | AK13: 1.60747 | AL13: 10.96647 | AM13: 0 | AN13: 0 | AO13: 1.59765 | AP13: 17.87802
A14: 0401 | B14: Молоко и сливки, несгущенные и без добавления сахара или других подслащивающих веществ | C14: 8.884 | D14: 3.899 | E14: 2189.733 | F14: 1374.4016 | G14: 0 | H14: 0 | I14: 1022.7683 | J14: 665.62139 | K14: 0 | L14: 0 | M14: 941.9976 | N14: 729.02996 | O14: 0 | P14: 0 | Q14: 449.72825 | R14: 394.86347 | S14: 3.8961 | T14: 3.23382 | U14: 336.81704 | V14: 552.38737 | W14: 3.2886 | X14: 2.44873 | Y14: 569.77299 | Z14: 975.16652 | AC14: 289.49078 | AD14: 639.59425 | AE14: 0 | AF14: 0 | AG14: 228.69343 | AH14: 756.55854 | AI14: 0 | AJ14: 0 | AK14: 126.05083 | AL14: 318.16184 | AM14: 0 | AN14: 0 | AO14: 75.41735 | AP14: 170.88016
A15: 0402 | B15: Молоко и сливки, сгущенные или с добавлением сахара или других подслащивающих веществ | C15: 44.685 | D15: 76.0277 | E15: 3284.3703 | F15: 4891.6572 | G15: 0 | H15: 0 | I15: 4210.0414 | J15: 5697.2769 | K15: 0.0192 | L15: 0.06865 | M15: 4562.273 | N15: 6846.9161 | O15: 2.178 | P15: 4.311 | Q15: 3708.1539 | R15: 5409.6396 | S15: 0 | T15: 0 | U15: 3839.5866 | V15: 6008.7267 | W15: 0 | X15: 0 | Y15: 2606.5832 | Z15: 3924.1976 | AC15: 2833.6577 | AD15: 4498.5769 | AE15: 0 | AF15: 0 | AG15: 2691.0648 | AH15: 5903.5565 | AI15: 0 | AJ15: 0 | AK15: 604.48864 | AL15: 923.40133 | AM15: 0 | AN15: 0 | AO15: 372.84 | AP15: 899.54481
A16: 0403 | B16: Пахта, свернувшиеся молоко и сливки, йогурт, кефир и прочие ферментированные или сквашенные молоко и сливки, сгущенные или несгущенные, с добавлением или без добавления сахара или других подслащивающих веществ, со вкусо-ароматическими добавками или без | C16: 12.2955 | D16: 12.85433 | E16: 903.92774 | F16: 1266.9813 | G16: 0 | H16: 0 | I16: 829.5106 | J16: 1014.059 | K16: 0.055 | L16: 0.114 | M16: 819.41521 | N16: 1106.0881 | O16: 3.656 | P16: 2.516 | Q16: 779.16224 | R16: 948.02073 | S16: 16.295 | T16: 9.07457 | U16: 853.70345 | V16: 974.16392 | W16: 28.838 | X16: 17.72133 | Y16: 784.1829 | Z16: 864.58182 | AA16: 6.1555 | AB16: 2.76116 | AC16: 614.34529 | AD16: 729.21407 | AE16: 38.448 | AF16: 25.34304 | AG16: 552.16948 | AH16: 1100.0513 | AI16: 0 | AJ16: 0 | AK16: 238.06068 | AL16: 302.4246 | AM16: 18 | AN16: 9.6 | AO16: 296.02849 | AP16: 235.86086
A17: 0404 | B17: Молочная сыворотка, сгущенная или несгущенная, с добавлением или без добавления сахара или других подслащивающих веществ; продукты из натуральных компонентов молока, с добавлением или без добавления сахара или других подслащивающих веществ, в другом мес | C17: 0 | D17: 0 | E17: 5.1 | F17: 6.14 | G17: 0 | H17: 0 | I17: 13.49728 | J17: 20.723 | K17: 0 | L17: 0 | M17: 3.036 | N17: 4.062 | O17: 0 | P17: 0 | Q17: 3.937 | R17: 13.92861 | S17: 0 | T17: 0 | U17: 6.0015 | V17: 16.03454 | W17: 0 | X17: 0 | Y17: 9.00782 | Z17: 22.02915 | AC17: 15.95293 | AD17: 25.13028 | AE17: 0 | AF17: 0 | AG17: 33.96863 | AH17: 82.35296 | AI17: 0 | AJ17: 0 | AK17: 4.597 | AL17: 14.92546 | AM17: 0 | AN17: 0 | AO17: 43.97035 | AP17: 155.59132
A18: 0405 | B18: Сливочное масло и прочие жиры и масла, изготовленные из молока; молочные пасты | C18: 0 | D18: 0 | E18: 1109.7655 | F18: 2084.5713 | G18: 0 | H18: 0 | I18: 907.09802 | J18: 1629.352 | K18: 0 | L18: 0 | M18: 897.07293 | N18: 2195.063 | O18: 0 | P18: 0 | Q18: 254.12337 | R18: 611.94526 | S18: 79.5 | T18: 312.58227 | U18: 204.27487 | V18: 765.11718 | W18: 35.64 | X18: 127.81167 | Y18: 140.89825 | Z18: 532.08258 | AA18: 36 | AB18: 130.58223 | AC18: 38.51736 | AD18: 132.97686 | AE18: 18 | AF18: 78.58628 | AG18: 32.5309 | AH18: 184.34362 | AI18: 18 | AJ18: 78.58628 | AK18: 13.00942 | AL18: 62.79617 | AM18: 0 | AN18: 0 | AO18: 10.27559 | AP18: 59.83743
A19: 0406 | B19: Сыры и творог | C19: 57.631 | D19: 65.642 | E19: 2534.1732 | F19: 8624.0717 | G19: 0 | H19: 0 | I19: 2581.1062 | J19: 9400.9386 | K19: 0 | L19: 0 | M19: 2411.2619 | N19: 10251.668 | O19: 0 | P19: 0 | Q19: 2586.8804 | R19: 11352.466 | S19: 0 | T19: 0 | U19: 1797.6521 | V19: 7869.4447 | W19: 0 | X19: 0 | Y19: 1569.3274 | Z19: 7035.0782 | AC19: 370.24685 | AD19: 1515.6634 | AE19: 0 | AF19: 0 | AG19: 334.15805 | AH19: 1803.4025 | AI19: 0 | AJ19: 0 | AK19: 40.82312 | AL19: 158.26811 | AM19: 0 | AN19: 0 | AO19: 634.69917 | AP19: 3314.8161
A20: 0711 | B20: Овощи консервированные для кратковременного хранения (например, диоксидом серы, в рассоле, сернистой воде или в другом временно консервирующем растворе), но в таком виде непригодные для непосредственного употребления в пищу | C20: 0 | D20: 0 | E20: 636.09986 | F20: 493.97185 | G20: 0 | H20: 0 | I20: 586.948 | J20: 477.3206 | K20: 0 | L20: 0 | M20: 374.096 | N20: 396.428 | O20: 0 | P20: 0 | Q20: 170.052 | R20: 144.469 | S20: 0 | T20: 0 | U20: 0.7126 | V20: 3.75254 | W20: 0 | X20: 0 | Y20: 8.45684 | Z20: 10.94757 | AC20: 0.15308 | AD20: 0.88932 | AE20: 0 | AF20: 0 | AG20: 0.23019 | AH20: 1.70741 | AI20: 0 | AJ20: 0 | AK20: 0.21183 | AL20: 1.43105 | AM20: - | AN20: - | AO20: - | AP20: -
A21: 0712 | B21: Овощи сушеные, целые, нарезанные кусками, ломтиками, измельченные или в виде порошка, но не подвергнутые дальнейшей обработке | C21: 174.445 | D21: 482.477 | E21: 316.03521 | F21: 573.18228 | G21: 109.14 | H21: 604.94538 | I21: 400.90405 | J21: 187.29307 | K21: 36.39 | L21: 200.44222 | M21: 54.9353 | N21: 40.29587 | O21: 4.437 | P21: 0.68367 | Q21: 5.45644 | R21: 7.70451 | S21: 0 | T21: 0 | U21: 1.10328 | V21: 6.89207 | W21: 0 | X21: 0 | Y21: 332.00894 | Z21: 25.18378 | AC21: 1.71682 | AD21: 6.98131 | AE21: 0 | AF21: 0 | AG21: 4.2319 | AH21: 10.44562 | AI21: 0 | AJ21: 0 | AK21: 0.45333 | AL21: 0.97394 | AM21: 0 | AN21: 0 | AO21: 4.36608 | AP21: 3.47785
A22: 0812 | B22: Фрукты и орехи, консервированные для кратковременного хранения (например, диоксидом серы, в рассоле, сернистой воде или в другом временно консервирующем растворе), но в таком виде непригодные для непосредственного употребления в пищу | C22: - | D22: - | E22: - | F22: - | G22: 0 | H22: 0 | I22: 0.098 | J22: 0.049 | K22: - | L22: - | M22: - | N22: - | O22: - | P22: - | Q22: - | R22: - | S22: - | T22: - | U22: - | V22: - | W22: 0 | X22: 0 | Y22: 0.4 | Z22: 0.50305 | AE22: - | AF22: - | AG22: - | AH22: - | AI22: - | AJ22: - | AK22: - | AL22: - | AM22: - | AN22: - | AO22: - | AP22: -
A23: 0814 | B23: Кожура цитрусовых плодов или корки дынь (включая корки арбузов), свежие, морож.,сушеные или консервир. Для кратк. Хран. В рассоле, сернистой воде или в др.временно консервирующем растворе | C23: - | D23: - | E23: - | F23: - | G23: - | H23: - | I23: - | J23: - | K23: - | L23: - | M23: - | N23: - | O23: - | P23: - | Q23: - | R23: - | S23: - | T23: - | U23: - | V23: - | W23: - | X23: - | Y23: - | Z23: - | AE23: - | AF23: - | AG23: - | AH23: - | AI23: - | AJ23: - | AK23: - | AL23: - | AM23: - | AN23: - | AO23: - | AP23: -
A24: 0901 | B24: Кофе, жареный или нежареный, с кофеином или без кофеина; кофейная шелуха и оболочки зерен кофе; заменители кофе, содержащие кофе в любой пропорции | C24: 0 | D24: 0 | E24: 1.641 | F24: 18.16104 | G24: 0 | H24: 0 | I24: 1.053 | J24: 14.505 | K24: 0 | L24: 0 | M24: 2.6218 | N24: 42.22665 | O24: 0 | P24: 0 | Q24: 3.111 | R24: 46.77083 | S24: 0 | T24: 0 | U24: 2.23526 | V24: 32.54168 | W24: 0 | X24: 0 | Y24: 4.76206 | Z24: 51.26063 | AC24: 7.4647 | AD24: 59.99758 | AE24: 0 | AF24: 0 | AG24: 11.17372 | AH24: 123.90257 | AI24: 0 | AJ24: 0 | AK24: 3.27506 | AL24: 21.81186 | AM24: 0 | AN24: 0 | AO24: 1.65165 | AP24: 18.81324
A25: 0902 | B25: Чай со вкусо-ароматическими добавками или без них | C25: 1.222 | D25: 29.678 | E25: 8.799 | F25: 42.85877 | G25: 0.15445 | H25: 1.458 | I25: 19.87311 | J25: 49.994 | K25: 2.966 | L25: 19.49498 | M25: 4.15507 | N25: 52.11729 | O25: 0.64702 | P25: 4.447 | Q25: 3.2388 | R25: 22.23295 | S25: 0.1662 | T25: 1.165 | U25: 2.40605 | V25: 27.85 | W25: 0 | X25: 0 | Y25: 4.34147 | Z25: 22.71156 | AC25: 5.2073 | AD25: 40.99708 | AE25: 0.55645 | AF25: 2.753 | AG25: 2.77856 | AH25: 32.84798 | AI25: 0.04545 | AJ25: 0.03 | AK25: 0.79286 | AL25: 8.68739 | AM25: 0.166 | AN25: 1.745 | AO25: 36.3187 | AP25: 179.9984
A26: 0903 | B26: Мате (парагвайский чай) | C26: - | D26: - | E26: - | F26: - | G26: - | H26: - | I26: - | J26: - | K26: - | L26: - | M26: - | N26: - | O26: - | P26: - | Q26: - | R26: - | S26: - | T26: - | U26: - | V26: - | W26: - | X26: - | Y26: - | Z26: - | AC26: 0.0188 | AD26: 0.06206 | AE26: - | AF26: - | AG26: - | AH26: - | AI26: - | AJ26: - | AK26: - | AL26: - | AM26: - | AN26: - | AO26: - | AP26: -
A27: 0905 | B27: Ваниль | C27: 0 | D27: 0 | E27: 0.14 | F27: 0.53297 | G27: - | H27: - | I27: - | J27: - | K27: - | L27: - | M27: - | N27: - | O27: - | P27: - | Q27: - | R27: - | S27: - | T27: - | U27: - | V27: - | W27: - | X27: - | Y27: - | Z27: - | AE27: - | AF27: - | AG27: - | AH27: - | AI27: - | AJ27: - | AK27: - | AL27: - | AM27: - | AN27: - | AO27: - | AP27: -
A28: 1101 | B28: Мука пшеничная или пшенично-ржаная | C28: 11276.39 | D28: 3594.6858 | E28: 322.44698 | F28: 101.12392 | G28: 11625.676 | H28: 2466.6261 | I28: 183.044 | J28: 41.17305 | K28: 13051.854 | L28: 2776.6606 | M28: 116.742 | N28: 45.99544 | O28: 5191.358 | P28: 1123.2901 | Q28: 62.7906 | R28: 17.26481 | S28: 5747.068 | T28: 1528.9107 | U28: 220.60727 | V28: 83.58455 | W28: 7223.847 | X28: 2288.6655 | Y28: 456.07612 | Z28: 141.23948 | AA28: 6375.257 | AB28: 2180.0454 | AC28: 164.47126 | AD28: 51.0235 | AE28: 18730.464 | AF28: 7211.2724 | AG28: 3365.85 | AH28: 902.01062 | AI28: 4892.312 | AJ28: 1759.574 | AK28: 703.6 | AL28: 170.79968 | AM28: 2212.85 | AN28: 719.4096 | AO28: 1456.2405 | AP28: 341.17054
A29: 1102 | B29: Мука из зерна прочих злаков, кроме пшеничной или пшенично-ржаной | C29: - | D29: - | E29: - | F29: - | G29: 1.48 | H29: 0.7318 | I29: 17.5 | J29: 6.85767 | K29: 0 | L29: 0 | M29: 120.052 | N29: 24.77593 | O29: 0 | P29: 0 | Q29: 127.96 | R29: 25.40509 | S29: 0 | T29: 0 | U29: 152.12 | V29: 42.17324 | W29: 0 | X29: 0 | Y29: 250.018 | Z29: 82.7048 | AC29: 380.55 | AD29: 142.31284 | AE29: 0 | AF29: 0 | AG29: 127.7707 | AH29: 93.92946 | AI29: 0 | AJ29: 0 | AK29: 12.0825 | AL29: 4.37379 | AM29: 0 | AN29: 0 | AO29: 71.472 | AP29: 23.01289
A30: 1103 | B30: Крупа, мука грубого помола и гранулы из зерна злаков | C30: 0 | D30: 0 | E30: 3617.0966 | F30: 1874.1893 | G30: 1.1 | H30: 0.4488 | I30: 1863.739 | J30: 1004.3888 | K30: 589.28 | L30: 111.42806 | M30: 655.88407 | N30: 249.26865 | O30: 345.768 | P30: 83.19672 | Q30: 1094.1649 | R30: 425.85844 | S30: 10.5 | T30: 4.275 | U30: 1618.8857 | V30: 778.11249 | W30: 120 | X30: 20.115 | Y30: 1582.7502 | Z30: 645.78642 | AA30: 100 | AB30: 18.754 | AC30: 1982.5388 | AD30: 858.87514 | AE30: 224 | AF30: 53 | AG30: 2806.4472 | AH30: 1368.655 | AI30: 0 | AJ30: 0 | AK30: 358.27957 | AL30: 126.80543 | AM30: 90 | AN30: 22.258 | AO30: 660.9504 | AP30: 253.09441
A31: 1104 | B31: Зерно злаков, обработанное другими способами (например, шелушеное, плюще?ное, переработанное в хлопья, обрушенное, в виде сечки или дробленое), кроме риса товарной позиции 1006; зародыши зерна злаков, целые, плющеные, в виде хлопьев или молотые | C31: 0 | D31: 0 | E31: 320.35158 | F31: 216.38967 | G31: 0 | H31: 0 | I31: 517.13786 | J31: 220.81629 | K31: 0 | L31: 0 | M31: 1812.6879 | N31: 886.60585 | O31: 0 | P31: 0 | Q31: 1979.6284 | R31: 920.86078 | S31: 0.175 | T31: 0.065 | U31: 3034.8554 | V31: 1049.4011 | W31: 0 | X31: 0 | Y31: 13189.427 | Z31: 2024.6665 | AC31: 7604.081 | AD31: 2235.282 | AE31: 0 | AF31: 0 | AG31: 3103.3962 | AH31: 2430.6867 | AI31: 0 | AJ31: 0 | AK31: 947.19682 | AL31: 583.79798 | AM31: 0 | AN31: 0 | AO31: 945.72721 | AP31: 477.95887
A32: 1105 | B32: Мука тонкого и грубого помола, порошок, хлопья, гранулы картофельные | C32: 0 | D32: 0 | E32: 0.03 | F32: 0.04541 | G32: 0 | H32: 0 | I32: 0.121 | J32: 0.46334 | K32: - | L32: - | M32: - | N32: - | O32: 0 | P32: 0 | Q32: 10.81 | R32: 7.21139 | S32: 0 | T32: 0 | U32: 0.969 | V32: 1.26453 | W32: 0 | X32: 0 | Y32: 0.68 | Z32: 0.79395 | AC32: 0.136 | AD32: 0.25813 | AE32: - | AF32: - | AG32: - | AH32: - | AI32: - | AJ32: - | AK32: - | AL32: - | AM32: - | AN32: - | AO32: - | AP32: -
A33: 1106 | B33: Мука тонкого и грубого помола и порошок из сушеных бобовых овощей товарной позиции 0713, из сердцевины саговой пальмы, из корнеплодов или клубнеплодов товарной позиции 0714 или продуктов группы 08 | C33: 0 | D33: 0 | E33: 3 | F33: 2.215 | G33: - | H33: - | I33: - | J33: - | K33: 0 | L33: 0 | M33: 0.05 | N33: 0.647 | O33: 0 | P33: 0 | Q33: 0.1125 | R33: 1.19044 | S33: 0 | T33: 0 | U33: 0.056 | V33: 0.66952 | W33: 0 | X33: 0 | Y33: 0.028 | Z33: 0.17935 | AC33: 0.40965 | AD33: 3.80378 | AE33: 0 | AF33: 0 | AG33: 1.525 | AH33: 1.15272 | AI33: 0 | AJ33: 0 | AK33: 0.025 | AL33: 0.23744 | AM33: - | AN33: - | AO33: - | AP33: -
A34: 1107 | B34: Солод, поджаренный или неподжаренный | C34: 0 | D34: 0 | E34: 36.3 | F34: 24.76516 | G34: 0 | H34: 0 | I34: 283.185 | J34: 156.43129 | K34: 0 | L34: 0 | M34: 835.69 | N34: 385.94341 | O34: 0 | P34: 0 | Q34: 531.54 | R34: 263.72128 | S34: 0 | T34: 0 | U34: 472.535 | V34: 239.91657 | W34: 0 | X34: 0 | Y34: 441.02 | Z34: 189.15036 | AC34: 776.24614 | AD34: 383.8899 | AE34: 0 | AF34: 0 | AG34: 840.081 | AH34: 567.72466 | AI34: 0 | AJ34: 0 | AK34: 121.468 | AL34: 65.09443 | AM34: 0 | AN34: 0 | AO34: 139.08 | AP34: 79.78348
A35: 1108 | B35: Крахмал; инулин | C35: 0 | D35: 0 | E35: 296.4645 | F35: 121.43322 | G35: 0 | H35: 0 | I35: 417.54135 | J35: 178.8272 | K35: 0 | L35: 0 | M35: 360.669 | N35: 210.50793 | O35: 0 | P35: 0 | Q35: 469.82376 | R35: 305.29081 | S35: 0 | T35: 0 | U35: 1011.017 | V35: 384.37481 | W35: 0 | X35: 0 | Y35: 603.93999 | Z35: 359.95075 | AC35: 284.21825 | AD35: 165.13757 | AE35: 15.6 | AF35: 44.625 | AG35: 106.44272 | AH35: 65.60722 | AI35: 0 | AJ35: 0 | AK35: 0.1604 | AL35: 0.59145 | AM35: 0 | AN35: 0 | AO35: 88.04019 | AP35: 58.51967
A36: 1109 | B36: Клейковина пшеничная, сухая или сырая | C36: - | D36: - | E36: - | F36: - | G36: - | H36: - | I36: - | J36: - | K36: - | L36: - | M36: - | N36: - | O36: - | P36: - | Q36: - | R36: - | S36: 40 | T36: 46 | U36: 0 | V36: 0 | W36: 60 | X36: 64.8 | Y36: 20 | Z36: 17.729 | AC36: 0.72 | AD36: 2.56577 | AE36: - | AF36: - | AG36: - | AH36: - | AI36: - | AJ36: - | AK36: - | AL36: - | AM36: - | AN36: - | AO36: - | AP36: -
A37: 1208 | B37: Мука тонкого и грубого помола из семян или плодов масличных культур, кроме семян горчицы | C37: - | D37: - | E37: - | F37: - | G37: 0 | H37: 0 | I37: 12.012 | J37: 11.187 | K37: 0 | L37: 0 | M37: 20.283 | N37: 15.206 | O37: - | P37: - | Q37: - | R37: - | S37: 0 | T37: 0 | U37: 0.032 | V37: 0.04152 | W37: - | X37: - | Y37: - | Z37: - | AE37: - | AF37: - | AG37: - | AH37: - | AI37: - | AJ37: - | AK37: - | AL37: - | AM37: 0 | AN37: 0 | AO37: 0.05 | AP37: 0.23888
